BEGIN:VCALENDAR
VERSION:2.0
PRODID:-//The Environmental Center - ECPv6.15.20//NONSGML v1.0//EN
CALSCALE:GREGORIAN
METHOD:PUBLISH
X-WR-CALNAME:The Environmental Center
X-ORIGINAL-URL:https://envirocenter.org
X-WR-CALDESC:Events for The Environmental Center
REFRESH-INTERVAL;VALUE=DURATION:PT1H
X-Robots-Tag:noindex
X-PUBLISHED-TTL:PT1H
BEGIN:VTIMEZONE
TZID:America/Los_Angeles
BEGIN:DAYLIGHT
TZOFFSETFROM:-0800
TZOFFSETTO:-0700
TZNAME:PDT
DTSTART:20180311T100000
END:DAYLIGHT
BEGIN:STANDARD
TZOFFSETFROM:-0700
TZOFFSETTO:-0800
TZNAME:PST
DTSTART:20181104T090000
END:STANDARD
BEGIN:DAYLIGHT
TZOFFSETFROM:-0800
TZOFFSETTO:-0700
TZNAME:PDT
DTSTART:20190310T100000
END:DAYLIGHT
BEGIN:STANDARD
TZOFFSETFROM:-0700
TZOFFSETTO:-0800
TZNAME:PST
DTSTART:20191103T090000
END:STANDARD
BEGIN:DAYLIGHT
TZOFFSETFROM:-0800
TZOFFSETTO:-0700
TZNAME:PDT
DTSTART:20200308T100000
END:DAYLIGHT
BEGIN:STANDARD
TZOFFSETFROM:-0700
TZOFFSETTO:-0800
TZNAME:PST
DTSTART:20201101T090000
END:STANDARD
END:VTIMEZONE
BEGIN:VEVENT
DTSTART;VALUE=DATE:20190129
DTEND;VALUE=DATE:20190130
DTSTAMP:20260421T161827
CREATED:20190115T033705Z
LAST-MODIFIED:20230503T200815Z
UID:10003101-1548781200-1548788400@envirocenter.org
SUMMARY:A Clean Energy Future for Bend—Two Paths to 100% Renewable
DESCRIPTION:Bend is developing a community climate action plan to reduce local greenhouse gas emissions that contribute to climate change. That means taking a hard look at new sources of energy\, since the majority of the energy we use today is generated by burning fossil fuels. \nJoin us on January 29th for an engaging and thought-provoking discussion about two options that our community could use to rapidly transition to a low-carbon\, 100% renewable energy future. \nRSVP here—space is limited!\nCommunity Choice Aggregation is a tool available in California and several other states that allows a whole community to choose to buy their energy directly from renewable sources and have their utility deliver it. Recently\, Pacific Power has developed its own pathway for communities it serves to purchase renewable electricity directly from the utility. We’ll learn about both models\, the pros and the cons and the uncertainties for a community like Bend\, and give you a chance to ask your questions. \nSpeakers: \n\nShawn Marshall\, Executive Director\, LEAN Energy US\nMatthew Chancellor\, Regional Business Manager\, Pacific Power\n\nAgenda: \n\nNetworking: 5:00 to 5:30 pm\nPresentation + Q&A: 5:30 to 6:30\nNetworking and mingling with speakers: 6:30 to 7:00\n\nA big thanks to our sponsor\, Worthy Brewing.
URL:https://envirocenter.org/event/a-clean-energy-future-for-bend-two-paths-to-100-renewable/
LOCATION:Deschutes Brewery Public House\, 1044 NW Bond St\, Bend\, OR\, 97701\, United States
CATEGORIES:Climate|Energy|Power Hours
GEO:44.0593984;-121.3113079
X-APPLE-STRUCTURED-LOCATION;VALUE=URI;X-ADDRESS=Deschutes Brewery Public House 1044 NW Bond St Bend OR 97701 United States;X-APPLE-RADIUS=500;X-TITLE=1044 NW Bond St:geo:-121.3113079,44.0593984
END:VEVENT
BEGIN:VEVENT
DTSTART;VALUE=DATE:20190129
DTEND;VALUE=DATE:20190130
DTSTAMP:20260421T161827
CREATED:20181227T061908Z
LAST-MODIFIED:20230503T200808Z
UID:10003088-1548783000-1548792000@envirocenter.org
SUMMARY:Bend's Transportation Plan: Neighborhood Workshop 3
DESCRIPTION:The City of Bend will host five 2 1/2-hour long workshops in January 2019.  The workshops are for you to share: \n\n\n\nHow you’d like transportation to work in your neighborhood.\nWhat you need in your neighborhood for you to be able to get around.\n\n\n\nThis workshop is targeted to people in the Awbrey Butte\, Summit West and River West neighborhoods\, but anyone is welcome to attend. \nThe City will use this information to help create a list of neighborhood projects and programs.  The City will also share progress on Bend’s Transportation Plan. The first half hour of the workshop you can review work that has been done on the transportation plan to date. The following two hours will be an active workshop where attendees will work together in small groups to provide input on neighborhood transportation needs. Attendees are asked to stay for the entire workshop\, if possible\, to contribute to all of the workshop activities.
URL:https://envirocenter.org/event/bends-transportation-plan-neighborhood-workshop-3/
LOCATION:Deschutes Brewery Public House\, 1044 NW Bond St\, Bend\, OR\, 97701\, United States
CATEGORIES:Transportation
GEO:44.0593984;-121.3113079
X-APPLE-STRUCTURED-LOCATION;VALUE=URI;X-ADDRESS=Deschutes Brewery Public House 1044 NW Bond St Bend OR 97701 United States;X-APPLE-RADIUS=500;X-TITLE=1044 NW Bond St:geo:-121.3113079,44.0593984
END:VEVENT
BEGIN:VEVENT
DTSTART;VALUE=DATE:20190130
DTEND;VALUE=DATE:20190131
DTSTAMP:20260421T161827
CREATED:20190111T073104Z
LAST-MODIFIED:20230503T200814Z
UID:10003100-1548871200-1548876600@envirocenter.org
SUMMARY:Nature Nights: Magnificent Monarch
DESCRIPTION:As the first in its winter Nature Nights series\, the Land Trust is offering a free presentation on the monarch butterflies. Central Oregon is rich with numerous species of native butterflies including the magnificent monarch butterfly. Join Deschutes Land Trust ecologist Amanda Egertson for a colorful tour to learn more about our region’s butterflies\, with a special focus on the king of the butterfly world: the mighty monarch. All ages are encouraged to attend this family-friendly event where you will learn more about the amazing butterfly life cycle\, incredible monarch migrations\, and discover ways that you can help them survive and thrive in our high desert. \nThis presentation is free\, but you must get your ticket online. \n Photo: Jay Mather
URL:https://envirocenter.org/event/nature-nights-magnificent-monarch/
LOCATION:Deschutes Brewery Public House\, 1044 NW Bond St\, Bend\, OR\, 97701\, United States
GEO:44.0593984;-121.3113079
X-APPLE-STRUCTURED-LOCATION;VALUE=URI;X-ADDRESS=Deschutes Brewery Public House 1044 NW Bond St Bend OR 97701 United States;X-APPLE-RADIUS=500;X-TITLE=1044 NW Bond St:geo:-121.3113079,44.0593984
END:VEVENT
BEGIN:VEVENT
DTSTART;VALUE=DATE:20190130
DTEND;VALUE=DATE:20190131
DTSTAMP:20260421T161827
CREATED:20181227T062133Z
LAST-MODIFIED:20230503T200808Z
UID:10003089-1548873000-1548882000@envirocenter.org
SUMMARY:Bend's Transportation Plan: Neighborhood Workshop 4
DESCRIPTION:The City of Bend will host five 2 1/2-hour long workshops in January 2019.  The workshops are for you to share: \n\n\n\nHow you’d like transportation to work in your neighborhood.\nWhat you need in your neighborhood for you to be able to get around.\n\n\n\nThis workshop is targeted to people in the Larkspur\, Old Farm District and Southeast Bend neighborhoods\, but anyone is welcome to attend. \nThe City will use this information to help create a list of neighborhood projects and programs.  The City will also share progress on Bend’s Transportation Plan. The first half hour of the workshop you can review work that has been done on the transportation plan to date. The following two hours will be an active workshop where attendees will work together in small groups to provide input on neighborhood transportation needs. Attendees are asked to stay for the entire workshop\, if possible\, to contribute to all of the workshop activities.
URL:https://envirocenter.org/event/17160/
LOCATION:Deschutes Brewery Public House\, 1044 NW Bond St\, Bend\, OR\, 97701\, United States
CATEGORIES:Transportation
GEO:44.0593984;-121.3113079
X-APPLE-STRUCTURED-LOCATION;VALUE=URI;X-ADDRESS=Deschutes Brewery Public House 1044 NW Bond St Bend OR 97701 United States;X-APPLE-RADIUS=500;X-TITLE=1044 NW Bond St:geo:-121.3113079,44.0593984
END:VEVENT
BEGIN:VEVENT
DTSTART;VALUE=DATE:20190131
DTEND;VALUE=DATE:20190201
DTSTAMP:20260421T161827
CREATED:20190109T055047Z
LAST-MODIFIED:20230503T200814Z
UID:10003099-1548927000-1548932400@envirocenter.org
SUMMARY:White Fragility
DESCRIPTION:This program is presented by Nancy R. Chandler Visiting Scholar Program at COCC Foundation and COCC’s Office of Diversity and Inclusion as part of the 2019 Season of Nonviolence.  \nJoin us for a workshop with Dr. DiAngelo about what she has termed “White Fragility.” White Fragility is a state in which even a minimal challenge to the white position becomes intolerable\, triggering a range of defensive responses. This workshop will provide an overview of the socialization that instills white fragility and give the perspectives and skills needed to build racial stamina and develop more equitable racial practices. \nFREE and OPEN to the public but we ask that you RSVP here to reserve your seat. Location is Wille Hall\, Coats Campus Center at COCC. \nAbout DiAngelo\nDr. DiAngelo is a lecturer\, author\, and has been a consultant and trainer on issues of racial and social justice for more than twenty years. She received her PhD in Multicultural Education from the University of Washington. Her area of research is in Whiteness Studies and Critical Discourse Analysis\, explicating how Whiteness is reproduced in everyday narratives.
URL:https://envirocenter.org/event/white-fragility/
LOCATION:Deschutes Brewery Public House\, 1044 NW Bond St\, Bend\, OR\, 97701\, United States
GEO:44.0593984;-121.3113079
X-APPLE-STRUCTURED-LOCATION;VALUE=URI;X-ADDRESS=Deschutes Brewery Public House 1044 NW Bond St Bend OR 97701 United States;X-APPLE-RADIUS=500;X-TITLE=1044 NW Bond St:geo:-121.3113079,44.0593984
END:VEVENT
BEGIN:VEVENT
DTSTART;VALUE=DATE:20190131
DTEND;VALUE=DATE:20190201
DTSTAMP:20260421T161827
CREATED:20190108T062906Z
LAST-MODIFIED:20230503T200813Z
UID:10001276-1548954000-1548957600@envirocenter.org
SUMMARY:The Future of Solid Waste: Disposal Options
DESCRIPTION:The County’s Board of Commissioners and Solid Waste Advisory Committee continue to discuss the future of solid waste disposal in Deschutes County. At this community meeting\, we’ll provide an update on potential future disposal options.
URL:https://envirocenter.org/event/the-future-of-solid-waste-disposal-options/
LOCATION:Deschutes Brewery Public House\, 1044 NW Bond St\, Bend\, OR\, 97701\, United States
CATEGORIES:Rethink Waste
GEO:44.0593984;-121.3113079
X-APPLE-STRUCTURED-LOCATION;VALUE=URI;X-ADDRESS=Deschutes Brewery Public House 1044 NW Bond St Bend OR 97701 United States;X-APPLE-RADIUS=500;X-TITLE=1044 NW Bond St:geo:-121.3113079,44.0593984
END:VEVENT
BEGIN:VEVENT
DTSTART;VALUE=DATE:20190131
DTEND;VALUE=DATE:20190201
DTSTAMP:20260421T161827
CREATED:20160803T235848Z
LAST-MODIFIED:20230503T200442Z
UID:10000706-1548954900-1548964800@envirocenter.org
SUMMARY:Bend COTA Work Events
DESCRIPTION:When:  Thursday Aug 11\, Tuesday Aug 16\, Tuesday Aug 23 and Tuesday Aug 30\, 5:15 to Dusk \nWhere:  Meet at the old Ray’s parking lot\, NE corner of Simpson Ave and Century Drive in Bend \nWorksite:  Varies \nThere’s only one thing better than mountain biking in Bend\, OR and that’s riding in Bend\, knowing that you helped build and maintain the trails you love. \nPlease bring a hydration pack with water and a snack. \nBe sure to bring appropriate layers to accommodate whatever the weather may be. \nQuestions?  contact@cotamtb.com \nAll COTA trail work events require the following safety measures: \nAll participants are required to have the following protective clothing and equipment: \n\nSturdy shoes or boots\nGloves\nEye protection with clear or light colored lens\nLong pants\n\nDue to COTA’s insurance requirements and the inherent dangers of trail work\, we must implement the following policy regarding children at work events: \n\nFor anyone 14 years of age or younger\, we require one parent\, guardian\, or responsible adult for supervision of every four kids attending any COTA trail work events.\nAll minors under the age of 18 must have a parent or guardian available to sign our waiver.\n\nAnyone who arrives for a work event may be turned away if he/she cannot meet the above requirements.
URL:https://envirocenter.org/event/bend-cota-work-events-2016-08-11/
LOCATION:Deschutes Brewery Public House\, 1044 NW Bond St\, Bend\, OR\, 97701\, United States
GEO:44.0593984;-121.3113079
X-APPLE-STRUCTURED-LOCATION;VALUE=URI;X-ADDRESS=Deschutes Brewery Public House 1044 NW Bond St Bend OR 97701 United States;X-APPLE-RADIUS=500;X-TITLE=1044 NW Bond St:geo:-121.3113079,44.0593984
END:VEVENT
BEGIN:VEVENT
DTSTART;VALUE=DATE:20190131
DTEND;VALUE=DATE:20190201
DTSTAMP:20260421T161827
CREATED:20181227T062340Z
LAST-MODIFIED:20230503T200809Z
UID:10003090-1548955800-1548964800@envirocenter.org
SUMMARY:Bend's Transportation Plan: Neighborhood Workshop 5
DESCRIPTION:The City of Bend will host five 2 1/2-hour long workshops in January 2019.  The workshops are for you to share: \n\n\n\nHow you’d like transportation to work in your neighborhood.\nWhat you need in your neighborhood for you to be able to get around.\n\n\n\nThis workshop is targeted to people in the Core Area of Bend – downtown\, Box Factory\, Old Mill\, Maker’s District\, Midtown\, Galveston\, Newport and 14th Street – but anyone is welcome to attend. \nThe City will use this information to help create a list of neighborhood projects and programs.  The City will also share progress on Bend’s Transportation Plan. The first half hour of the workshop you can review work that has been done on the transportation plan to date. The following two hours will be an active workshop where attendees will work together in small groups to provide input on neighborhood transportation needs. Attendees are asked to stay for the entire workshop\, if possible\, to contribute to all of the workshop activities.
URL:https://envirocenter.org/event/bends-transportation-plan-neighborhood-workshop-5/
LOCATION:Deschutes Brewery Public House\, 1044 NW Bond St\, Bend\, OR\, 97701\, United States
CATEGORIES:Transportation
GEO:44.0593984;-121.3113079
X-APPLE-STRUCTURED-LOCATION;VALUE=URI;X-ADDRESS=Deschutes Brewery Public House 1044 NW Bond St Bend OR 97701 United States;X-APPLE-RADIUS=500;X-TITLE=1044 NW Bond St:geo:-121.3113079,44.0593984
END:VEVENT
END:VCALENDAR