BEGIN:VCALENDAR
VERSION:2.0
PRODID:-//The Environmental Center - ECPv6.15.20//NONSGML v1.0//EN
CALSCALE:GREGORIAN
METHOD:PUBLISH
X-WR-CALNAME:The Environmental Center
X-ORIGINAL-URL:https://envirocenter.org
X-WR-CALDESC:Events for The Environmental Center
REFRESH-INTERVAL;VALUE=DURATION:PT1H
X-Robots-Tag:noindex
X-PUBLISHED-TTL:PT1H
BEGIN:VTIMEZONE
TZID:America/Los_Angeles
BEGIN:DAYLIGHT
TZOFFSETFROM:-0800
TZOFFSETTO:-0700
TZNAME:PDT
DTSTART:20170312T100000
END:DAYLIGHT
BEGIN:STANDARD
TZOFFSETFROM:-0700
TZOFFSETTO:-0800
TZNAME:PST
DTSTART:20171105T090000
END:STANDARD
BEGIN:DAYLIGHT
TZOFFSETFROM:-0800
TZOFFSETTO:-0700
TZNAME:PDT
DTSTART:20180311T100000
END:DAYLIGHT
BEGIN:STANDARD
TZOFFSETFROM:-0700
TZOFFSETTO:-0800
TZNAME:PST
DTSTART:20181104T090000
END:STANDARD
BEGIN:DAYLIGHT
TZOFFSETFROM:-0800
TZOFFSETTO:-0700
TZNAME:PDT
DTSTART:20190310T100000
END:DAYLIGHT
BEGIN:STANDARD
TZOFFSETFROM:-0700
TZOFFSETTO:-0800
TZNAME:PST
DTSTART:20191103T090000
END:STANDARD
END:VTIMEZONE
BEGIN:VEVENT
DTSTART;VALUE=DATE:20181127
DTEND;VALUE=DATE:20181128
DTSTAMP:20260422T182246
CREATED:20181108T094319Z
LAST-MODIFIED:20230503T200802Z
UID:10003079-1543312800-1543334400@envirocenter.org
SUMMARY:Help us out on Giving Tuesday!
DESCRIPTION:#GivingTuesday is a global day of giving celebrated on the Tuesday following Thanksgiving (and all the shopping). Giving Tuesday kicks off the charitable season\, and offers a chance to shift your focus to supporting nonprofits in your community that are doing work you’re passionate about. \nGiving comes in many forms – and although we rely on your financial support\, we also rely on the gift of your TIME! Can you give a little time on Tuesday\, November 27th? \nOur year-end fundraising campaign is critical to starting off the new year strong. We have stacks of letters to mail out – and as the saying goes\, many hands make for light work. Our team can’t finish the job in one day unless we have a few volunteers to help us stuff and address envelopes. It may not sound like a ton of fun… but we’ll offer music\, snacks\, and great energy & conversations! Our staff will be excited to see you. (We promise\, it’s easy work and really makes a difference in our fundraising efforts.) \nCome for 30 mins\, or stay for hours. You’re welcome to join anytime between 10-4 for as long as you’re able to. Thank you so much. We sincerely appreciate your time and help!
URL:https://envirocenter.org/event/help-us-out-on-giving-tuesday/
LOCATION:Deschutes Brewery Public House\, 1044 NW Bond St\, Bend\, OR\, 97701\, United States
GEO:44.0593984;-121.3113079
X-APPLE-STRUCTURED-LOCATION;VALUE=URI;X-ADDRESS=Deschutes Brewery Public House 1044 NW Bond St Bend OR 97701 United States;X-APPLE-RADIUS=500;X-TITLE=1044 NW Bond St:geo:-121.3113079,44.0593984
END:VEVENT
BEGIN:VEVENT
DTSTART;VALUE=DATE:20181129
DTEND;VALUE=DATE:20181130
DTSTAMP:20260422T182246
CREATED:20160803T235848Z
LAST-MODIFIED:20230503T200442Z
UID:10000697-1543511700-1543521600@envirocenter.org
SUMMARY:Bend COTA Work Events
DESCRIPTION:When:  Thursday Aug 11\, Tuesday Aug 16\, Tuesday Aug 23 and Tuesday Aug 30\, 5:15 to Dusk \nWhere:  Meet at the old Ray’s parking lot\, NE corner of Simpson Ave and Century Drive in Bend \nWorksite:  Varies \nThere’s only one thing better than mountain biking in Bend\, OR and that’s riding in Bend\, knowing that you helped build and maintain the trails you love. \nPlease bring a hydration pack with water and a snack. \nBe sure to bring appropriate layers to accommodate whatever the weather may be. \nQuestions?  contact@cotamtb.com \nAll COTA trail work events require the following safety measures: \nAll participants are required to have the following protective clothing and equipment: \n\nSturdy shoes or boots\nGloves\nEye protection with clear or light colored lens\nLong pants\n\nDue to COTA’s insurance requirements and the inherent dangers of trail work\, we must implement the following policy regarding children at work events: \n\nFor anyone 14 years of age or younger\, we require one parent\, guardian\, or responsible adult for supervision of every four kids attending any COTA trail work events.\nAll minors under the age of 18 must have a parent or guardian available to sign our waiver.\n\nAnyone who arrives for a work event may be turned away if he/she cannot meet the above requirements.
URL:https://envirocenter.org/event/bend-cota-work-events-2016-08-11/
LOCATION:Deschutes Brewery Public House\, 1044 NW Bond St\, Bend\, OR\, 97701\, United States
GEO:44.0593984;-121.3113079
X-APPLE-STRUCTURED-LOCATION;VALUE=URI;X-ADDRESS=Deschutes Brewery Public House 1044 NW Bond St Bend OR 97701 United States;X-APPLE-RADIUS=500;X-TITLE=1044 NW Bond St:geo:-121.3113079,44.0593984
END:VEVENT
BEGIN:VEVENT
DTSTART;VALUE=DATE:20181201
DTEND;VALUE=DATE:20181202
DTSTAMP:20260422T182246
CREATED:20211111T013811Z
LAST-MODIFIED:20230503T201346Z
UID:10003081-1543658400-1543672800@envirocenter.org
SUMMARY:TREE HUNT
DESCRIPTION:It’s Tree Hunt time! Join the Land Trust for this fun\, festive annual event! Search for the perfect holiday tree while helping restore the native forests of the Metolius Preserve.\n\nThe Tree Hunt will be held at the Land Trust’s Metolius Preserve North Trailhead\, weather and pandemic permitting. Please check their website for updates as we get closer to the hunt.\n\nTo help keep our community safe during the pandemic\, Deschutes Land Trust have a couple of new details for this year’s Tree Hunt:\n\nYou and your group will need to pre-register for the Tree Hunt.\nYou must bring and wear face masks: Per Oregon Health Authority (OHA) guidelines\, all participants (regardless of vaccination status) must bring and wear a face mask whenever they cannot maintain 6 feet of social distance.\n\nLearn more and register today!
URL:https://envirocenter.org/event/tree-hunt-3/
LOCATION:Deschutes Brewery Public House\, 1044 NW Bond St\, Bend\, OR\, 97701\, United States
GEO:44.0593984;-121.3113079
X-APPLE-STRUCTURED-LOCATION;VALUE=URI;X-ADDRESS=Deschutes Brewery Public House 1044 NW Bond St Bend OR 97701 United States;X-APPLE-RADIUS=500;X-TITLE=1044 NW Bond St:geo:-121.3113079,44.0593984
END:VEVENT
BEGIN:VEVENT
DTSTART;VALUE=DATE:20181206
DTEND;VALUE=DATE:20181207
DTSTAMP:20260422T182246
CREATED:20160803T235848Z
LAST-MODIFIED:20230503T200442Z
UID:10000698-1544116500-1544126400@envirocenter.org
SUMMARY:Bend COTA Work Events
DESCRIPTION:When:  Thursday Aug 11\, Tuesday Aug 16\, Tuesday Aug 23 and Tuesday Aug 30\, 5:15 to Dusk \nWhere:  Meet at the old Ray’s parking lot\, NE corner of Simpson Ave and Century Drive in Bend \nWorksite:  Varies \nThere’s only one thing better than mountain biking in Bend\, OR and that’s riding in Bend\, knowing that you helped build and maintain the trails you love. \nPlease bring a hydration pack with water and a snack. \nBe sure to bring appropriate layers to accommodate whatever the weather may be. \nQuestions?  contact@cotamtb.com \nAll COTA trail work events require the following safety measures: \nAll participants are required to have the following protective clothing and equipment: \n\nSturdy shoes or boots\nGloves\nEye protection with clear or light colored lens\nLong pants\n\nDue to COTA’s insurance requirements and the inherent dangers of trail work\, we must implement the following policy regarding children at work events: \n\nFor anyone 14 years of age or younger\, we require one parent\, guardian\, or responsible adult for supervision of every four kids attending any COTA trail work events.\nAll minors under the age of 18 must have a parent or guardian available to sign our waiver.\n\nAnyone who arrives for a work event may be turned away if he/she cannot meet the above requirements.
URL:https://envirocenter.org/event/bend-cota-work-events-2016-08-11/
LOCATION:Deschutes Brewery Public House\, 1044 NW Bond St\, Bend\, OR\, 97701\, United States
GEO:44.0593984;-121.3113079
X-APPLE-STRUCTURED-LOCATION;VALUE=URI;X-ADDRESS=Deschutes Brewery Public House 1044 NW Bond St Bend OR 97701 United States;X-APPLE-RADIUS=500;X-TITLE=1044 NW Bond St:geo:-121.3113079,44.0593984
END:VEVENT
BEGIN:VEVENT
DTSTART;TZID=America/Los_Angeles:20181207T170000
DTEND;TZID=America/Los_Angeles:20181207T203000
DTSTAMP:20260422T182246
CREATED:20181115T004741Z
LAST-MODIFIED:20181115T004741Z
UID:10003083-1544202000-1544214600@envirocenter.org
SUMMARY:High Desert Hootenanny
DESCRIPTION:Join Oregon Natural Desert Association\, friends and supporters in celebrating Oregon’s incredible high desert and the conservation successes you have achieved this year! \nOn Friday\, December 7 ONDA board and staff will share highlights from 2018 and discuss conservation opportunities in the year ahead. Enjoy music from the Silvertone Devils Duo\, refreshments from Spork\, Worthy Brewing\, Crater Lake Spirits and Humm Kombucha\, and giveaways from Wildish\, Patagonia\, Osprey and more. \nThis event is free and open to all. The party starts at 5 p.m. See you there!
URL:https://envirocenter.org/event/high-desert-hootenanny-2/
LOCATION:Hollinshead Barn\, 1235 NE Jones Rd.\, Bend\, OR\, United States
ORGANIZER;CN="Oregon Natural Desert Association":MAILTO:corie@onda.org
GEO:44.0701911;-121.2867397
X-APPLE-STRUCTURED-LOCATION;VALUE=URI;X-ADDRESS=Hollinshead Barn 1235 NE Jones Rd. Bend OR United States;X-APPLE-RADIUS=500;X-TITLE=1235 NE Jones Rd.:geo:-121.2867397,44.0701911
END:VEVENT
BEGIN:VEVENT
DTSTART;VALUE=DATE:20181208
DTEND;VALUE=DATE:20181209
DTSTAMP:20260422T182246
CREATED:20181130T031922Z
LAST-MODIFIED:20230503T200804Z
UID:10003085-1544263200-1544284800@envirocenter.org
SUMMARY:9th Annual Locavore Holiday Gift Faire
DESCRIPTION:Give the Gift of Local!\nTired of holiday lines\, products from far away lands\, and just the same ol’ same ol’? Then shop local this holiday season\, support local crafters\, makers\, and artisans\, and feel good about gift giving in 2018. We will have everything from gourmet food and art to locally crafted goods.
URL:https://envirocenter.org/event/9th-annual-locavore-holiday-gift-faire/
LOCATION:Deschutes Brewery Public House\, 1044 NW Bond St\, Bend\, OR\, 97701\, United States
GEO:44.0593984;-121.3113079
X-APPLE-STRUCTURED-LOCATION;VALUE=URI;X-ADDRESS=Deschutes Brewery Public House 1044 NW Bond St Bend OR 97701 United States;X-APPLE-RADIUS=500;X-TITLE=1044 NW Bond St:geo:-121.3113079,44.0593984
END:VEVENT
BEGIN:VEVENT
DTSTART;TZID=America/Los_Angeles:20181208T174500
DTEND;TZID=America/Los_Angeles:20181208T210000
DTSTAMP:20260422T182246
CREATED:20181207T211804Z
LAST-MODIFIED:20181207T212116Z
UID:10001263-1544291100-1544302800@envirocenter.org
SUMMARY:Holiday Lights Ride
DESCRIPTION:This benefit event for Bend Bikes is gonna be a special evening of fun for the whole family. Gather at the Bend Senior Center and then head off on our tour of the Larkspur Trail. Decorate your bicycle to get into the holiday spirit while you cruise along on an off-street path on Bend’s eastside. \nAfter the ride\, meet back at the Senior Center for food and drink courtesy of Whole Foods and Cascades Lakes Brewing\, and Velo Sprints. If you’ve never seen head-to-head stationary sprint racing\, you won’t want to miss this.
URL:https://envirocenter.org/event/holiday-lights-ride-2/
LOCATION:Bend Senior Center\, 1600 SE Reed Market Road\, Bend\, OR\, 97702\, United States
CATEGORIES:Transportation
ATTACH;FMTTYPE=image/jpeg:https://envirocenter.org/wp-content/uploads/2018/12/Holiday-Lights-Ride-e1544217664350.jpg
ORGANIZER;CN="Bend Bikes":MAILTO:info@bendbikes.org
GEO:44.0378002;-121.2818347
X-APPLE-STRUCTURED-LOCATION;VALUE=URI;X-ADDRESS=Bend Senior Center 1600 SE Reed Market Road Bend OR 97702 United States;X-APPLE-RADIUS=500;X-TITLE=1600 SE Reed Market Road:geo:-121.2818347,44.0378002
END:VEVENT
BEGIN:VEVENT
DTSTART;VALUE=DATE:20181213
DTEND;VALUE=DATE:20181214
DTSTAMP:20260422T182246
CREATED:20160803T235848Z
LAST-MODIFIED:20230503T200442Z
UID:10000699-1544721300-1544731200@envirocenter.org
SUMMARY:Bend COTA Work Events
DESCRIPTION:When:  Thursday Aug 11\, Tuesday Aug 16\, Tuesday Aug 23 and Tuesday Aug 30\, 5:15 to Dusk \nWhere:  Meet at the old Ray’s parking lot\, NE corner of Simpson Ave and Century Drive in Bend \nWorksite:  Varies \nThere’s only one thing better than mountain biking in Bend\, OR and that’s riding in Bend\, knowing that you helped build and maintain the trails you love. \nPlease bring a hydration pack with water and a snack. \nBe sure to bring appropriate layers to accommodate whatever the weather may be. \nQuestions?  contact@cotamtb.com \nAll COTA trail work events require the following safety measures: \nAll participants are required to have the following protective clothing and equipment: \n\nSturdy shoes or boots\nGloves\nEye protection with clear or light colored lens\nLong pants\n\nDue to COTA’s insurance requirements and the inherent dangers of trail work\, we must implement the following policy regarding children at work events: \n\nFor anyone 14 years of age or younger\, we require one parent\, guardian\, or responsible adult for supervision of every four kids attending any COTA trail work events.\nAll minors under the age of 18 must have a parent or guardian available to sign our waiver.\n\nAnyone who arrives for a work event may be turned away if he/she cannot meet the above requirements.
URL:https://envirocenter.org/event/bend-cota-work-events-2016-08-11/
LOCATION:Deschutes Brewery Public House\, 1044 NW Bond St\, Bend\, OR\, 97701\, United States
GEO:44.0593984;-121.3113079
X-APPLE-STRUCTURED-LOCATION;VALUE=URI;X-ADDRESS=Deschutes Brewery Public House 1044 NW Bond St Bend OR 97701 United States;X-APPLE-RADIUS=500;X-TITLE=1044 NW Bond St:geo:-121.3113079,44.0593984
END:VEVENT
BEGIN:VEVENT
DTSTART;VALUE=DATE:20181215
DTEND;VALUE=DATE:20181216
DTSTAMP:20260422T182246
CREATED:20181208T054110Z
LAST-MODIFIED:20230503T200805Z
UID:10001264-1544868000-1544875200@envirocenter.org
SUMMARY:Weekend Workshop: Wind Energy
DESCRIPTION:Families can explore together in this renewable energy workshop. Learn about different energy sources and how engineers have gotten some of their best ideas from nature. Design and test your own wind turbine blades to harness the wind.
URL:https://envirocenter.org/event/weekend-workshop-wind-energy/
LOCATION:Deschutes Brewery Public House\, 1044 NW Bond St\, Bend\, OR\, 97701\, United States
CATEGORIES:Climate|Energy
GEO:44.0593984;-121.3113079
X-APPLE-STRUCTURED-LOCATION;VALUE=URI;X-ADDRESS=Deschutes Brewery Public House 1044 NW Bond St Bend OR 97701 United States;X-APPLE-RADIUS=500;X-TITLE=1044 NW Bond St:geo:-121.3113079,44.0593984
END:VEVENT
BEGIN:VEVENT
DTSTART;VALUE=DATE:20181215
DTEND;VALUE=DATE:20181216
DTSTAMP:20260422T182246
CREATED:20181208T064700Z
LAST-MODIFIED:20230503T200807Z
UID:10001265-1544896800-1544904000@envirocenter.org
SUMMARY:Vegan Holiday Potluck & Bethlehem Inn Supply Drive
DESCRIPTION:VegNet’s Vegan Holiday potluck \nPlease bring a vegan dish (no animal products\, including honey) to serve 6-8 people\, plus extra if there are more than two in your party\, a card listing ingredients\, and your own cup\, plate\, and utensils. \nIf you can\, please also bring a donation for Bethlehem Inn: store gift cards\, 33-gallon trash bags\, paper towels\, toilet paper\, hand/foot warmers\, deodorant\, shaving cream\, tampons\, lip balm\, cough drops. See their wish list. \nKids of all ages are are welcome and you don’t have to be vegan to join us – come and meet the Central Oregon veg community! \nSuggested donation $2-5 to help cover room rental. \nVegNet’s community potlucks are held on the third Saturday of every month\, 6pm\, at the Environmental Center. Save the date: next month’s potluck is January 19th.
URL:https://envirocenter.org/event/vegan-holiday-potluck-bethlehem-inn-supply-drive/
LOCATION:Deschutes Brewery Public House\, 1044 NW Bond St\, Bend\, OR\, 97701\, United States
GEO:44.0593984;-121.3113079
X-APPLE-STRUCTURED-LOCATION;VALUE=URI;X-ADDRESS=Deschutes Brewery Public House 1044 NW Bond St Bend OR 97701 United States;X-APPLE-RADIUS=500;X-TITLE=1044 NW Bond St:geo:-121.3113079,44.0593984
END:VEVENT
BEGIN:VEVENT
DTSTART;VALUE=DATE:20181219
DTEND;VALUE=DATE:20181220
DTSTAMP:20260422T182246
CREATED:20180130T060336Z
LAST-MODIFIED:20230503T200651Z
UID:10001144-1545242400-1545249600@envirocenter.org
SUMMARY:Juniper Group Program Night
DESCRIPTION:Holiday Pot Luck\, Let’s Make a Party! – In the midst of deep December\, let’s give thanks\, step back from the news\, and join others who care deeply about Oregon and our Earth. \nLive spirited music by duet NTT (“entity”)\, fun get-to-know-you activities\, slides of hikes\, camp outs\, and nature’s treasures\, plus your tasty pot luck dishes and door prizes. Bring canned or other non-perishable food item(s) for a Food Drive for a local food bank. \n 
URL:https://envirocenter.org/event/juniper-group-program-night-2018-12-19/
LOCATION:Deschutes Brewery Public House\, 1044 NW Bond St\, Bend\, OR\, 97701\, United States
GEO:44.0593984;-121.3113079
X-APPLE-STRUCTURED-LOCATION;VALUE=URI;X-ADDRESS=Deschutes Brewery Public House 1044 NW Bond St Bend OR 97701 United States;X-APPLE-RADIUS=500;X-TITLE=1044 NW Bond St:geo:-121.3113079,44.0593984
END:VEVENT
BEGIN:VEVENT
DTSTART;VALUE=DATE:20181220
DTEND;VALUE=DATE:20181221
DTSTAMP:20260422T182246
CREATED:20160803T235848Z
LAST-MODIFIED:20230503T200442Z
UID:10000700-1545326100-1545336000@envirocenter.org
SUMMARY:Bend COTA Work Events
DESCRIPTION:When:  Thursday Aug 11\, Tuesday Aug 16\, Tuesday Aug 23 and Tuesday Aug 30\, 5:15 to Dusk \nWhere:  Meet at the old Ray’s parking lot\, NE corner of Simpson Ave and Century Drive in Bend \nWorksite:  Varies \nThere’s only one thing better than mountain biking in Bend\, OR and that’s riding in Bend\, knowing that you helped build and maintain the trails you love. \nPlease bring a hydration pack with water and a snack. \nBe sure to bring appropriate layers to accommodate whatever the weather may be. \nQuestions?  contact@cotamtb.com \nAll COTA trail work events require the following safety measures: \nAll participants are required to have the following protective clothing and equipment: \n\nSturdy shoes or boots\nGloves\nEye protection with clear or light colored lens\nLong pants\n\nDue to COTA’s insurance requirements and the inherent dangers of trail work\, we must implement the following policy regarding children at work events: \n\nFor anyone 14 years of age or younger\, we require one parent\, guardian\, or responsible adult for supervision of every four kids attending any COTA trail work events.\nAll minors under the age of 18 must have a parent or guardian available to sign our waiver.\n\nAnyone who arrives for a work event may be turned away if he/she cannot meet the above requirements.
URL:https://envirocenter.org/event/bend-cota-work-events-2016-08-11/
LOCATION:Deschutes Brewery Public House\, 1044 NW Bond St\, Bend\, OR\, 97701\, United States
GEO:44.0593984;-121.3113079
X-APPLE-STRUCTURED-LOCATION;VALUE=URI;X-ADDRESS=Deschutes Brewery Public House 1044 NW Bond St Bend OR 97701 United States;X-APPLE-RADIUS=500;X-TITLE=1044 NW Bond St:geo:-121.3113079,44.0593984
END:VEVENT
BEGIN:VEVENT
DTSTART;VALUE=DATE:20181222
DTEND;VALUE=DATE:20181223
DTSTAMP:20260422T182246
CREATED:20181204T081359Z
LAST-MODIFIED:20230503T200804Z
UID:10001261-1545469200-1545480000@envirocenter.org
SUMMARY:Camp Fire Cookie Exchange
DESCRIPTION:Camp Fire Teen Connects offers stand-alone service projects and fun outings for teens looking for some volunteer experience or an opportunity to just have fun while meeting new friends or reconnecting with other teens in Camp Fire.  All opportunities are either offered for free or\, in a few instances\, at low cost (covering outside vendor fees or other hard costs.)  We are excited for any teen to join us\, whether as an one-time\, some-time\, or regular participant. \nCookie Exchange:\nGrab your Camp Fire friends and we’ll bake all the fun holiday cookies you can think of!  Half to take and half to donate back to the community. \nExact meeting location tbd. We will send an email about 1 week before the event with the specifics.
URL:https://envirocenter.org/event/camp-fire-cookie-exchange/
LOCATION:Deschutes Brewery Public House\, 1044 NW Bond St\, Bend\, OR\, 97701\, United States
GEO:44.0593984;-121.3113079
X-APPLE-STRUCTURED-LOCATION;VALUE=URI;X-ADDRESS=Deschutes Brewery Public House 1044 NW Bond St Bend OR 97701 United States;X-APPLE-RADIUS=500;X-TITLE=1044 NW Bond St:geo:-121.3113079,44.0593984
END:VEVENT
BEGIN:VEVENT
DTSTART;VALUE=DATE:20181227
DTEND;VALUE=DATE:20181228
DTSTAMP:20260422T182246
CREATED:20160803T235848Z
LAST-MODIFIED:20230503T200442Z
UID:10000701-1545930900-1545940800@envirocenter.org
SUMMARY:Bend COTA Work Events
DESCRIPTION:When:  Thursday Aug 11\, Tuesday Aug 16\, Tuesday Aug 23 and Tuesday Aug 30\, 5:15 to Dusk \nWhere:  Meet at the old Ray’s parking lot\, NE corner of Simpson Ave and Century Drive in Bend \nWorksite:  Varies \nThere’s only one thing better than mountain biking in Bend\, OR and that’s riding in Bend\, knowing that you helped build and maintain the trails you love. \nPlease bring a hydration pack with water and a snack. \nBe sure to bring appropriate layers to accommodate whatever the weather may be. \nQuestions?  contact@cotamtb.com \nAll COTA trail work events require the following safety measures: \nAll participants are required to have the following protective clothing and equipment: \n\nSturdy shoes or boots\nGloves\nEye protection with clear or light colored lens\nLong pants\n\nDue to COTA’s insurance requirements and the inherent dangers of trail work\, we must implement the following policy regarding children at work events: \n\nFor anyone 14 years of age or younger\, we require one parent\, guardian\, or responsible adult for supervision of every four kids attending any COTA trail work events.\nAll minors under the age of 18 must have a parent or guardian available to sign our waiver.\n\nAnyone who arrives for a work event may be turned away if he/she cannot meet the above requirements.
URL:https://envirocenter.org/event/bend-cota-work-events-2016-08-11/
LOCATION:Deschutes Brewery Public House\, 1044 NW Bond St\, Bend\, OR\, 97701\, United States
GEO:44.0593984;-121.3113079
X-APPLE-STRUCTURED-LOCATION;VALUE=URI;X-ADDRESS=Deschutes Brewery Public House 1044 NW Bond St Bend OR 97701 United States;X-APPLE-RADIUS=500;X-TITLE=1044 NW Bond St:geo:-121.3113079,44.0593984
END:VEVENT
END:VCALENDAR