BEGIN:VCALENDAR
VERSION:2.0
PRODID:-//The Environmental Center - ECPv6.15.20//NONSGML v1.0//EN
CALSCALE:GREGORIAN
METHOD:PUBLISH
X-WR-CALNAME:The Environmental Center
X-ORIGINAL-URL:https://envirocenter.org
X-WR-CALDESC:Events for The Environmental Center
REFRESH-INTERVAL;VALUE=DURATION:PT1H
X-Robots-Tag:noindex
X-PUBLISHED-TTL:PT1H
BEGIN:VTIMEZONE
TZID:America/Los_Angeles
BEGIN:DAYLIGHT
TZOFFSETFROM:-0800
TZOFFSETTO:-0700
TZNAME:PDT
DTSTART:20130310T100000
END:DAYLIGHT
BEGIN:STANDARD
TZOFFSETFROM:-0700
TZOFFSETTO:-0800
TZNAME:PST
DTSTART:20131103T090000
END:STANDARD
BEGIN:DAYLIGHT
TZOFFSETFROM:-0800
TZOFFSETTO:-0700
TZNAME:PDT
DTSTART:20140309T100000
END:DAYLIGHT
BEGIN:STANDARD
TZOFFSETFROM:-0700
TZOFFSETTO:-0800
TZNAME:PST
DTSTART:20141102T090000
END:STANDARD
BEGIN:DAYLIGHT
TZOFFSETFROM:-0800
TZOFFSETTO:-0700
TZNAME:PDT
DTSTART:20150308T100000
END:DAYLIGHT
BEGIN:STANDARD
TZOFFSETFROM:-0700
TZOFFSETTO:-0800
TZNAME:PST
DTSTART:20151101T090000
END:STANDARD
END:VTIMEZONE
BEGIN:VEVENT
DTSTART;VALUE=DATE:20140221
DTEND;VALUE=DATE:20140223
DTSTAMP:20260419T183433
CREATED:20141231T143625Z
LAST-MODIFIED:20230503T200148Z
UID:10002095-1393005600-1393106400@envirocenter.org
SUMMARY:Telluride MountainFilm on Tour
DESCRIPTION:Save The Date: Telluride MountainFilm on Tour\nFebruary 27 & 28 at The Tower Theatre \nMountainFilm on Tour features the best films from the world-renowned film festival in Telluride\, Colorado. MountainFilm is dedicated to educating\, inspiring and motivating audiences about issues that matter\, cultures worth exploring\, environments worth preserving\, adventures worth pursuing and conversations worth sustaining. All proceeds benefit The Environmental Center. Watch a teaser trailer! \nTickets are $20 in advance\, $23 at the door (careful – this event often sells out!) and $35 for both nights. Get your tickets online now at The Tower Theatre. \nDifferent films each night! Check out the film lineup here.
URL:https://envirocenter.org/event/telluride-mountainfilm-tour-2015-02-27/
LOCATION:Deschutes Brewery Public House\, 1044 NW Bond St\, Bend\, OR\, 97701\, United States
GEO:44.0593984;-121.3113079
X-APPLE-STRUCTURED-LOCATION;VALUE=URI;X-ADDRESS=Deschutes Brewery Public House 1044 NW Bond St Bend OR 97701 United States;X-APPLE-RADIUS=500;X-TITLE=1044 NW Bond St:geo:-121.3113079,44.0593984
END:VEVENT
END:VCALENDAR