BEGIN:VCALENDAR
VERSION:2.0
PRODID:-//The Environmental Center - ECPv6.15.20//NONSGML v1.0//EN
CALSCALE:GREGORIAN
METHOD:PUBLISH
X-WR-CALNAME:The Environmental Center
X-ORIGINAL-URL:https://envirocenter.org
X-WR-CALDESC:Events for The Environmental Center
REFRESH-INTERVAL;VALUE=DURATION:PT1H
X-Robots-Tag:noindex
X-PUBLISHED-TTL:PT1H
BEGIN:VTIMEZONE
TZID:America/Los_Angeles
BEGIN:DAYLIGHT
TZOFFSETFROM:-0800
TZOFFSETTO:-0700
TZNAME:PDT
DTSTART:20160313T100000
END:DAYLIGHT
BEGIN:STANDARD
TZOFFSETFROM:-0700
TZOFFSETTO:-0800
TZNAME:PST
DTSTART:20161106T090000
END:STANDARD
BEGIN:DAYLIGHT
TZOFFSETFROM:-0800
TZOFFSETTO:-0700
TZNAME:PDT
DTSTART:20170312T100000
END:DAYLIGHT
BEGIN:STANDARD
TZOFFSETFROM:-0700
TZOFFSETTO:-0800
TZNAME:PST
DTSTART:20171105T090000
END:STANDARD
BEGIN:DAYLIGHT
TZOFFSETFROM:-0800
TZOFFSETTO:-0700
TZNAME:PDT
DTSTART:20180311T100000
END:DAYLIGHT
BEGIN:STANDARD
TZOFFSETFROM:-0700
TZOFFSETTO:-0800
TZNAME:PST
DTSTART:20181104T090000
END:STANDARD
END:VTIMEZONE
BEGIN:VEVENT
DTSTART;VALUE=DATE:20170315
DTEND;VALUE=DATE:20170316
DTSTAMP:20260424T094933
CREATED:20170204T004535Z
LAST-MODIFIED:20230503T200524Z
UID:10002788-1489604400-1489611600@envirocenter.org
SUMMARY:How Will Climate Change Affect Human Health?
DESCRIPTION:Have you thought about how Climate Change might affect not only vegetation and animal life\, but people? \nAs the climate changes\, extremes of temperatures have created effects that are both anticipated and unpredictable. Many of these conditions are directly connected to human activity. \nSpecific aspects of these consequences and possible solutions will be presented by Mary Ellen Coulter\, MD in collaboration with Physicians for Social Responsibility. \n6:30 p.m. social time/snacks\, 6:50 program.
URL:https://envirocenter.org/event/health-effects-climate-change/
LOCATION:Deschutes Brewery Public House\, 1044 NW Bond St\, Bend\, OR\, 97701\, United States
GEO:44.0593984;-121.3113079
X-APPLE-STRUCTURED-LOCATION;VALUE=URI;X-ADDRESS=Deschutes Brewery Public House 1044 NW Bond St Bend OR 97701 United States;X-APPLE-RADIUS=500;X-TITLE=1044 NW Bond St:geo:-121.3113079,44.0593984
END:VEVENT
BEGIN:VEVENT
DTSTART;VALUE=DATE:20170316
DTEND;VALUE=DATE:20170317
DTSTAMP:20260424T094933
CREATED:20170301T024731Z
LAST-MODIFIED:20230503T200531Z
UID:10002795-1489681800-1489685400@envirocenter.org
SUMMARY:Locavore Food School Presents: A Fresh Start
DESCRIPTION:Locavore Food School is a monthly\, on the third Thursday of each month\, offering of nutrition and cooking classes taught by volunteers and community members including farmers\, local food producers\, nutritionists\, chefs and alternative health care practitioners. \nThe class- A Fresh Start: The Basics of Stocking your Kitchen for Optimal Health. This class will go over revamping your pantry and shopping list to ensure that you have all you need to prepare simple and healthful meals at home. Whether you are cooking for a family of six\, or just yourself\, you will learn strategies that will simplify meal planning\, free up time\, and help prevent food waste. \nThe Instructor- Heather has two teenage boys and knows all about making meals work for families\, as well as adapting for specific nutritional needs. She also loves working with older clients\, and likes to focus on making meal prep easy and simple. For Heather\, eating well is all about what is manageable and sustainable.
URL:https://envirocenter.org/event/locavore-food-school-presents-fresh-start/
LOCATION:Deschutes Brewery Public House\, 1044 NW Bond St\, Bend\, OR\, 97701\, United States
GEO:44.0593984;-121.3113079
X-APPLE-STRUCTURED-LOCATION;VALUE=URI;X-ADDRESS=Deschutes Brewery Public House 1044 NW Bond St Bend OR 97701 United States;X-APPLE-RADIUS=500;X-TITLE=1044 NW Bond St:geo:-121.3113079,44.0593984
END:VEVENT
BEGIN:VEVENT
DTSTART;VALUE=DATE:20170316
DTEND;VALUE=DATE:20170317
DTSTAMP:20260424T094933
CREATED:20160803T235848Z
LAST-MODIFIED:20230503T200442Z
UID:10000608-1489684500-1489694400@envirocenter.org
SUMMARY:Bend COTA Work Events
DESCRIPTION:When:  Thursday Aug 11\, Tuesday Aug 16\, Tuesday Aug 23 and Tuesday Aug 30\, 5:15 to Dusk \nWhere:  Meet at the old Ray’s parking lot\, NE corner of Simpson Ave and Century Drive in Bend \nWorksite:  Varies \nThere’s only one thing better than mountain biking in Bend\, OR and that’s riding in Bend\, knowing that you helped build and maintain the trails you love. \nPlease bring a hydration pack with water and a snack. \nBe sure to bring appropriate layers to accommodate whatever the weather may be. \nQuestions?  contact@cotamtb.com \nAll COTA trail work events require the following safety measures: \nAll participants are required to have the following protective clothing and equipment: \n\nSturdy shoes or boots\nGloves\nEye protection with clear or light colored lens\nLong pants\n\nDue to COTA’s insurance requirements and the inherent dangers of trail work\, we must implement the following policy regarding children at work events: \n\nFor anyone 14 years of age or younger\, we require one parent\, guardian\, or responsible adult for supervision of every four kids attending any COTA trail work events.\nAll minors under the age of 18 must have a parent or guardian available to sign our waiver.\n\nAnyone who arrives for a work event may be turned away if he/she cannot meet the above requirements.
URL:https://envirocenter.org/event/bend-cota-work-events-2016-08-11/
LOCATION:Deschutes Brewery Public House\, 1044 NW Bond St\, Bend\, OR\, 97701\, United States
GEO:44.0593984;-121.3113079
X-APPLE-STRUCTURED-LOCATION;VALUE=URI;X-ADDRESS=Deschutes Brewery Public House 1044 NW Bond St Bend OR 97701 United States;X-APPLE-RADIUS=500;X-TITLE=1044 NW Bond St:geo:-121.3113079,44.0593984
END:VEVENT
BEGIN:VEVENT
DTSTART;VALUE=DATE:20170316
DTEND;VALUE=DATE:20170317
DTSTAMP:20260424T094933
CREATED:20170307T063827Z
LAST-MODIFIED:20230503T200532Z
UID:10001005-1489687200-1489694400@envirocenter.org
SUMMARY:Progressive “Speed Dating"
DESCRIPTION:Network with local progressive groups who will be tabling at this event. \n\nContact: Jason Burge\, burgejason@yahoo.com
URL:https://envirocenter.org/event/progressive-speed-dating/
LOCATION:Deschutes Brewery Public House\, 1044 NW Bond St\, Bend\, OR\, 97701\, United States
GEO:44.0593984;-121.3113079
X-APPLE-STRUCTURED-LOCATION;VALUE=URI;X-ADDRESS=Deschutes Brewery Public House 1044 NW Bond St Bend OR 97701 United States;X-APPLE-RADIUS=500;X-TITLE=1044 NW Bond St:geo:-121.3113079,44.0593984
END:VEVENT
BEGIN:VEVENT
DTSTART;VALUE=DATE:20170316
DTEND;VALUE=DATE:20170317
DTSTAMP:20260424T094933
CREATED:20170308T234447Z
LAST-MODIFIED:20230503T200536Z
UID:10000998-1489690800-1489698000@envirocenter.org
SUMMARY:Transportation for Oregon's Future at Pints and Politics
DESCRIPTION:Join OLCV and our friends from Commute Options\, Central Oregon Intergovernmental Council and Oregon Environmental Council for a presentation about competing in the 21st Century with safer streets sidewalks\, crosswalks and the Safe Routes to School program and find out what transit services need in order to meet increasing demand and connect communities. Join us to find out how you can take action and ensure that Oregon’s next transportation package addresses pressing urban and rural transportation needs.
URL:https://envirocenter.org/event/transportation-oregons-future-pints-politics/
LOCATION:Deschutes Brewery Public House\, 1044 NW Bond St\, Bend\, OR\, 97701\, United States
GEO:44.0593984;-121.3113079
X-APPLE-STRUCTURED-LOCATION;VALUE=URI;X-ADDRESS=Deschutes Brewery Public House 1044 NW Bond St Bend OR 97701 United States;X-APPLE-RADIUS=500;X-TITLE=1044 NW Bond St:geo:-121.3113079,44.0593984
END:VEVENT
END:VCALENDAR