BEGIN:VCALENDAR
VERSION:2.0
PRODID:-//The Environmental Center - ECPv6.15.20//NONSGML v1.0//EN
CALSCALE:GREGORIAN
METHOD:PUBLISH
X-WR-CALNAME:The Environmental Center
X-ORIGINAL-URL:https://envirocenter.org
X-WR-CALDESC:Events for The Environmental Center
REFRESH-INTERVAL;VALUE=DURATION:PT1H
X-Robots-Tag:noindex
X-PUBLISHED-TTL:PT1H
BEGIN:VTIMEZONE
TZID:America/Los_Angeles
BEGIN:DAYLIGHT
TZOFFSETFROM:-0800
TZOFFSETTO:-0700
TZNAME:PDT
DTSTART:20160313T100000
END:DAYLIGHT
BEGIN:STANDARD
TZOFFSETFROM:-0700
TZOFFSETTO:-0800
TZNAME:PST
DTSTART:20161106T090000
END:STANDARD
BEGIN:DAYLIGHT
TZOFFSETFROM:-0800
TZOFFSETTO:-0700
TZNAME:PDT
DTSTART:20170312T100000
END:DAYLIGHT
BEGIN:STANDARD
TZOFFSETFROM:-0700
TZOFFSETTO:-0800
TZNAME:PST
DTSTART:20171105T090000
END:STANDARD
BEGIN:DAYLIGHT
TZOFFSETFROM:-0800
TZOFFSETTO:-0700
TZNAME:PDT
DTSTART:20180311T100000
END:DAYLIGHT
BEGIN:STANDARD
TZOFFSETFROM:-0700
TZOFFSETTO:-0800
TZNAME:PST
DTSTART:20181104T090000
END:STANDARD
END:VTIMEZONE
BEGIN:VEVENT
DTSTART;VALUE=DATE:20170209
DTEND;VALUE=DATE:20170210
DTSTAMP:20260422T185336
CREATED:20160803T235848Z
LAST-MODIFIED:20230503T200442Z
UID:10000603-1486660500-1486670400@envirocenter.org
SUMMARY:Bend COTA Work Events
DESCRIPTION:When:  Thursday Aug 11\, Tuesday Aug 16\, Tuesday Aug 23 and Tuesday Aug 30\, 5:15 to Dusk \nWhere:  Meet at the old Ray’s parking lot\, NE corner of Simpson Ave and Century Drive in Bend \nWorksite:  Varies \nThere’s only one thing better than mountain biking in Bend\, OR and that’s riding in Bend\, knowing that you helped build and maintain the trails you love. \nPlease bring a hydration pack with water and a snack. \nBe sure to bring appropriate layers to accommodate whatever the weather may be. \nQuestions?  contact@cotamtb.com \nAll COTA trail work events require the following safety measures: \nAll participants are required to have the following protective clothing and equipment: \n\nSturdy shoes or boots\nGloves\nEye protection with clear or light colored lens\nLong pants\n\nDue to COTA’s insurance requirements and the inherent dangers of trail work\, we must implement the following policy regarding children at work events: \n\nFor anyone 14 years of age or younger\, we require one parent\, guardian\, or responsible adult for supervision of every four kids attending any COTA trail work events.\nAll minors under the age of 18 must have a parent or guardian available to sign our waiver.\n\nAnyone who arrives for a work event may be turned away if he/she cannot meet the above requirements.
URL:https://envirocenter.org/event/bend-cota-work-events-2016-08-11/
LOCATION:Deschutes Brewery Public House\, 1044 NW Bond St\, Bend\, OR\, 97701\, United States
GEO:44.0593984;-121.3113079
X-APPLE-STRUCTURED-LOCATION;VALUE=URI;X-ADDRESS=Deschutes Brewery Public House 1044 NW Bond St Bend OR 97701 United States;X-APPLE-RADIUS=500;X-TITLE=1044 NW Bond St:geo:-121.3113079,44.0593984
END:VEVENT
BEGIN:VEVENT
DTSTART;VALUE=DATE:20170209
DTEND;VALUE=DATE:20170210
DTSTAMP:20260422T185336
CREATED:20161117T023253Z
LAST-MODIFIED:20230503T200505Z
UID:10000957-1486663200-1486668600@envirocenter.org
SUMMARY:Film Screening: Death by Design
DESCRIPTION:The Dirty Secret of Our Digital Addiction\n\n  \nJoin The Environmental Center at The Old Stone for a screening of Death by Design. \n\nWhat is the cost of our digital dependency?\n\n\n \n\n\nDeath by Design\, a feature length documentary\, explores this question and uncovers a global story of damaged lives\, environmental destruction and devices that are designed to die.\n\n\n \n\n\nConsumers love – and live on – their smartphones\, tablets and laptops. But this revolution has a dark side\, hidden from most consumers. From the intensely secretive factories in China\, to a ravaged New York community and the high tech corridors of Silicon Valley\, the film tells a story of environmental degradation\, of health tragedies\, and the fast approaching tipping point between consumerism and sustainability.\n\n\n \n\n\nMore about the film: http://deathbydesignfilm.com/\n\n$5 suggested donation at door. 
URL:https://envirocenter.org/event/film-screening-death-by-design/
LOCATION:Deschutes Brewery Public House\, 1044 NW Bond St\, Bend\, OR\, 97701\, United States
CATEGORIES:Film
GEO:44.0593984;-121.3113079
X-APPLE-STRUCTURED-LOCATION;VALUE=URI;X-ADDRESS=Deschutes Brewery Public House 1044 NW Bond St Bend OR 97701 United States;X-APPLE-RADIUS=500;X-TITLE=1044 NW Bond St:geo:-121.3113079,44.0593984
END:VEVENT
BEGIN:VEVENT
DTSTART;VALUE=DATE:20170210
DTEND;VALUE=DATE:20170211
DTSTAMP:20260422T185336
CREATED:20170204T003052Z
LAST-MODIFIED:20230503T200523Z
UID:10002783-1486720800-1486738800@envirocenter.org
SUMMARY:WWOLF at Fields Farm
DESCRIPTION:The WWOLF program provides organized volunteer assistance in the form of volunteers\, or “wwolf packs” to local farmers at their farms or ranches. In return volunteers learn where and how local food is grown while fostering an intimate connection with the food that sustains us all. \nWilling Workers On Local Farms (WWOLF) WWOLF is a community program of Central Oregon Locavore Non-Profit with the goal of lending a hand to small farmers while educating the community about the true nature of local food. \nHow It Works You will meet the group at Fields Farm at 10am or carpool from Locavore at 9:30am sharp. After a round of introductions\, we will split into groups and get to work. We will break for lunch around noon and then return to work until about 3pm. \nWhat to Expect Good times\, new friends\, and a boots-on-the-ground education about local farming practices. Children are welcome with adult supervision. We love dogs\, but please leave them at home for this event. \nWhat to Bring Snacks\, work gloves\, closed-toe shoes\, layers for the weather\, water\, and sunscreen. Tools and all materials needed to complete tasks will be provided by the farm. Lunch will be provided. \nAbout Fields Farm Fields Farm is a 10 acre vegetable farm located in the middle of Bend\, only a few miles from downtown. Fields is a Community Supported Agriculture Farm and has been growing on the land since 1989. Fields Farm is a sustainable farm using pesticide free\, soil builiding methods. They sell their produce at Bend Farmers Market\, Locavore\, Agricultural Connections\, and to various restaurants in the area. \nTasks at Fields Farm WWOLF tasks at Fields Farm will include mending greenhouses and prepping for the upcoming growing season. This WWOLF event is certain to be a cold one\, so please dress appropriately\, as we will be outside all day.
URL:https://envirocenter.org/event/wwolf-fields-farm/
LOCATION:Deschutes Brewery Public House\, 1044 NW Bond St\, Bend\, OR\, 97701\, United States
GEO:44.0593984;-121.3113079
X-APPLE-STRUCTURED-LOCATION;VALUE=URI;X-ADDRESS=Deschutes Brewery Public House 1044 NW Bond St Bend OR 97701 United States;X-APPLE-RADIUS=500;X-TITLE=1044 NW Bond St:geo:-121.3113079,44.0593984
END:VEVENT
BEGIN:VEVENT
DTSTART;VALUE=DATE:20170210
DTEND;VALUE=DATE:20170211
DTSTAMP:20260422T185336
CREATED:20170201T235239Z
LAST-MODIFIED:20230503T200522Z
UID:10000983-1486744200-1486747800@envirocenter.org
SUMMARY:The Vocal Seniority Meet and Greet
DESCRIPTION:The Vocal Seniority (Raising Cane)\, a newly formed civil society group originating in Bend\, is planning a Meet and Greet.  The Vocal Seniority was formed in Bend\, Oregon shortly after the presidential election by a seasoned group of concerned\, senior citizens who are alarmed about the direction the country appears to be headed. As elders with a strong sense of history\, The Vocal Seniority actively promotes social and economic justice and environmental sustainability.   \nWe would like to meet fellow Vocal Seniors and talk about what we most want to accomplish going forward.  If you are planning to join us there\, please RSVP: https://www.eventbrite.com/e/the-vocal-seniority-meet-greet-tickets-31557889497.
URL:https://envirocenter.org/event/vocal-seniority-meet-greet/
LOCATION:Deschutes Brewery Public House\, 1044 NW Bond St\, Bend\, OR\, 97701\, United States
GEO:44.0593984;-121.3113079
X-APPLE-STRUCTURED-LOCATION;VALUE=URI;X-ADDRESS=Deschutes Brewery Public House 1044 NW Bond St Bend OR 97701 United States;X-APPLE-RADIUS=500;X-TITLE=1044 NW Bond St:geo:-121.3113079,44.0593984
END:VEVENT
BEGIN:VEVENT
DTSTART;VALUE=DATE:20170215
DTEND;VALUE=DATE:20170216
DTSTAMP:20260422T185336
CREATED:20170210T044704Z
LAST-MODIFIED:20230503T200525Z
UID:10000988-1487178000-1487183400@envirocenter.org
SUMMARY:Activist Hour: Speaking up for Public Lands
DESCRIPTION:Join ONDA\, Oregon Wild and the Bitterbrush Broads for a fun and interactive training on how to speak up effectively at Town Hall Meetings and hold your elected officials accountable. We’ll gather for drinks and snacks at 5\, and the training will start at 5:30. \nThis training will cover: \n– Background on the current threats to our public lands\n– Basics on how to communicate effectively with your elected officials\n– Tips on crafting your comments and questions prior to a town hall meeting\n– An opportunity to practice delivering your comments in front of a friendly audience\n– A chance to meet and talk with other budding public lands activists in your community!
URL:https://envirocenter.org/event/activist-hour-speaking-public-lands/
LOCATION:Deschutes Brewery Public House\, 1044 NW Bond St\, Bend\, OR\, 97701\, United States
GEO:44.0593984;-121.3113079
X-APPLE-STRUCTURED-LOCATION;VALUE=URI;X-ADDRESS=Deschutes Brewery Public House 1044 NW Bond St Bend OR 97701 United States;X-APPLE-RADIUS=500;X-TITLE=1044 NW Bond St:geo:-121.3113079,44.0593984
END:VEVENT
BEGIN:VEVENT
DTSTART;VALUE=DATE:20170215
DTEND;VALUE=DATE:20170216
DTSTAMP:20260422T185336
CREATED:20170204T004023Z
LAST-MODIFIED:20230503T200524Z
UID:10002787-1487185200-1487192400@envirocenter.org
SUMMARY:The Birds and the Bees: Love\, Sex and Mating Rituals of Local Plants and Animals
DESCRIPTION:What better way to celebrate (or recover from) Valentine’s Day than with a nature talk about romance and reproduction in the natural world? Join local nature guide author LeeAnn Kriegh for a fun and humorous talk about some of the strange\, awe-inspiring\, and downright scary mating habits of Central Oregon plants and animals. \nThis is about romance\, sex\, breakups\, etc. in the natural world\, using photos from LeeAnn’s book\, The Nature of Bend\, and various research to describe the love lives of local non-human species. \nLeeAnn Kriegh is a Bend-based writer who devoted much of the past two years to researching and writing The Nature of Bend. As a journalist\, Ms. Kriegh has written for a variety of regional magazines and websites\, as well as The Oregonian. For the past dozen years\, she has run a writing and editing business called WordDoc\, through which she pens everything from websites to white papers for high-tech companies including Google\, Intel\, and Microsoft\, as well as smaller businesses and nonprofits. Visit her website at www.natureofbend.com. \n6:30pm social time/snacks\, 7:00 program
URL:https://envirocenter.org/event/birds-bees-love-sex-mating-rituals-local-plants-animals/
LOCATION:Deschutes Brewery Public House\, 1044 NW Bond St\, Bend\, OR\, 97701\, United States
GEO:44.0593984;-121.3113079
X-APPLE-STRUCTURED-LOCATION;VALUE=URI;X-ADDRESS=Deschutes Brewery Public House 1044 NW Bond St Bend OR 97701 United States;X-APPLE-RADIUS=500;X-TITLE=1044 NW Bond St:geo:-121.3113079,44.0593984
END:VEVENT
BEGIN:VEVENT
DTSTART;VALUE=DATE:20170216
DTEND;VALUE=DATE:20170217
DTSTAMP:20260422T185336
CREATED:20160803T235848Z
LAST-MODIFIED:20230503T200442Z
UID:10000604-1487265300-1487275200@envirocenter.org
SUMMARY:Bend COTA Work Events
DESCRIPTION:When:  Thursday Aug 11\, Tuesday Aug 16\, Tuesday Aug 23 and Tuesday Aug 30\, 5:15 to Dusk \nWhere:  Meet at the old Ray’s parking lot\, NE corner of Simpson Ave and Century Drive in Bend \nWorksite:  Varies \nThere’s only one thing better than mountain biking in Bend\, OR and that’s riding in Bend\, knowing that you helped build and maintain the trails you love. \nPlease bring a hydration pack with water and a snack. \nBe sure to bring appropriate layers to accommodate whatever the weather may be. \nQuestions?  contact@cotamtb.com \nAll COTA trail work events require the following safety measures: \nAll participants are required to have the following protective clothing and equipment: \n\nSturdy shoes or boots\nGloves\nEye protection with clear or light colored lens\nLong pants\n\nDue to COTA’s insurance requirements and the inherent dangers of trail work\, we must implement the following policy regarding children at work events: \n\nFor anyone 14 years of age or younger\, we require one parent\, guardian\, or responsible adult for supervision of every four kids attending any COTA trail work events.\nAll minors under the age of 18 must have a parent or guardian available to sign our waiver.\n\nAnyone who arrives for a work event may be turned away if he/she cannot meet the above requirements.
URL:https://envirocenter.org/event/bend-cota-work-events-2016-08-11/
LOCATION:Deschutes Brewery Public House\, 1044 NW Bond St\, Bend\, OR\, 97701\, United States
GEO:44.0593984;-121.3113079
X-APPLE-STRUCTURED-LOCATION;VALUE=URI;X-ADDRESS=Deschutes Brewery Public House 1044 NW Bond St Bend OR 97701 United States;X-APPLE-RADIUS=500;X-TITLE=1044 NW Bond St:geo:-121.3113079,44.0593984
END:VEVENT
BEGIN:VEVENT
DTSTART;VALUE=DATE:20170216
DTEND;VALUE=DATE:20170217
DTSTAMP:20260422T185336
CREATED:20170207T003909Z
LAST-MODIFIED:20230503T200525Z
UID:10002791-1487271600-1487278800@envirocenter.org
SUMMARY:The Elliott State Forest and Privatization of Public Lands at Pints and Politics
DESCRIPTION:Join OLCV and Alexander Harris from Oregon Wild for a presentation about the Elliott State Forest and the privatization of public lands. Learn about the land transfer movement\, from armed occupations to proposals in the Oregon legislature and at the federal level to privatize public land. Come and find out how you can play a role in the larger pro-public lands movement in the west.
URL:https://envirocenter.org/event/elliott-state-forest-privatization-public-lands-pints-politics/
LOCATION:Deschutes Brewery Public House\, 1044 NW Bond St\, Bend\, OR\, 97701\, United States
GEO:44.0593984;-121.3113079
X-APPLE-STRUCTURED-LOCATION;VALUE=URI;X-ADDRESS=Deschutes Brewery Public House 1044 NW Bond St Bend OR 97701 United States;X-APPLE-RADIUS=500;X-TITLE=1044 NW Bond St:geo:-121.3113079,44.0593984
END:VEVENT
BEGIN:VEVENT
DTSTART;TZID=America/Los_Angeles:20170216T200000
DTEND;TZID=America/Los_Angeles:20170216T213000
DTSTAMP:20260422T185336
CREATED:20170201T153149Z
LAST-MODIFIED:20170201T153149Z
UID:10000979-1487275200-1487280600@envirocenter.org
SUMMARY:COTA Movie Night
DESCRIPTION:*Heads Up! Starting in February all COTA Movie Nights will start at 8PM!* \nPine Mountain Sports is bringing you a fatbike double feature! We’ve got an encore presentation of Cold Rolled and Among The Wild at COTA Movie Night on Thu Feb 16! \nCold Rolled (19 minutes) is a funny\, action documentary from Clear & Cold Cinema about Marquette Michigan’s Snow Bike Route. This film explores the history and progression of winter cycling culture in this small Lake Superior harbor town. \nAmong The Wild – The Arrowhead 135 (29 minutes) follows one of the 50 toughest races on the planet. Some of the best winter ultra-athletes in the world come to compete and fatbike\, run or ski 135 miles across Northern Minnesota along the rugged Arrowhead State Snowmobile Trail. This film follows 3 competitors during their attempts at completing the Arrowhead 135. \nBreak out your fatty and ride it down to McMenamins on Thu Feb 16! Show starts at 8P. \n$5 per person\, cash only\, please. Minors accompanied by parent or guardian. \nMovie Night at McMenamins raises funds and awareness for Central Oregon Trail Alliance.
URL:https://envirocenter.org/event/cota-movie-night-6/
LOCATION:McMenamin’s\, 700 NW Bond St.\, Bend\, OR\, 97701\, United States
ORGANIZER;CN="COTA":MAILTO:communications@cotamtb.com
GEO:44.0561165;-121.3131968
X-APPLE-STRUCTURED-LOCATION;VALUE=URI;X-ADDRESS=McMenamin’s 700 NW Bond St. Bend OR 97701 United States;X-APPLE-RADIUS=500;X-TITLE=700 NW Bond St.:geo:-121.3131968,44.0561165
END:VEVENT
END:VCALENDAR