BEGIN:VCALENDAR
VERSION:2.0
PRODID:-//The Environmental Center - ECPv6.15.20//NONSGML v1.0//EN
CALSCALE:GREGORIAN
METHOD:PUBLISH
X-WR-CALNAME:The Environmental Center
X-ORIGINAL-URL:https://envirocenter.org
X-WR-CALDESC:Events for The Environmental Center
REFRESH-INTERVAL;VALUE=DURATION:PT1H
X-Robots-Tag:noindex
X-PUBLISHED-TTL:PT1H
BEGIN:VTIMEZONE
TZID:America/Los_Angeles
BEGIN:DAYLIGHT
TZOFFSETFROM:-0800
TZOFFSETTO:-0700
TZNAME:PDT
DTSTART:20150308T100000
END:DAYLIGHT
BEGIN:STANDARD
TZOFFSETFROM:-0700
TZOFFSETTO:-0800
TZNAME:PST
DTSTART:20151101T090000
END:STANDARD
BEGIN:DAYLIGHT
TZOFFSETFROM:-0800
TZOFFSETTO:-0700
TZNAME:PDT
DTSTART:20160313T100000
END:DAYLIGHT
BEGIN:STANDARD
TZOFFSETFROM:-0700
TZOFFSETTO:-0800
TZNAME:PST
DTSTART:20161106T090000
END:STANDARD
BEGIN:DAYLIGHT
TZOFFSETFROM:-0800
TZOFFSETTO:-0700
TZNAME:PDT
DTSTART:20170312T100000
END:DAYLIGHT
BEGIN:STANDARD
TZOFFSETFROM:-0700
TZOFFSETTO:-0800
TZNAME:PST
DTSTART:20171105T090000
END:STANDARD
END:VTIMEZONE
BEGIN:VEVENT
DTSTART;VALUE=DATE:20161203
DTEND;VALUE=DATE:20161204
DTSTAMP:20260423T131407
CREATED:20181113T072005Z
LAST-MODIFIED:20230503T200802Z
UID:10002761-1480759200-1480773600@envirocenter.org
SUMMARY:Tree Hunt
DESCRIPTION:Join the Deschutes Land Trust for this fun\, festive annual event! Search for the perfect holiday tree while helping restore the native forests of the Metolius Preserve. The Tree Hunt will be held at the Land Trust’s Metolius Preserve North Trailhead. \nOther important details: \n\nGrand fir trees only\nTrees are free-range and not sculpted to be the perfect Christmas tree. But they are beautiful and available in lots of sizes.\nTrees are scattered throughout the forests of the Metolius Preserve so you will have to hunt for them!\nBring your own hand saw (no chainsaws please)\, gloves\, and rope\nDogs are allowed on leash only\nDress for the weather\nWarm drink provided\n\nThere is a suggested $15 donation. The Tree Hunt will be held weather permitting!
URL:https://envirocenter.org/event/tree-hunt-2/
LOCATION:Deschutes Brewery Public House\, 1044 NW Bond St\, Bend\, OR\, 97701\, United States
GEO:44.0593984;-121.3113079
X-APPLE-STRUCTURED-LOCATION;VALUE=URI;X-ADDRESS=Deschutes Brewery Public House 1044 NW Bond St Bend OR 97701 United States;X-APPLE-RADIUS=500;X-TITLE=1044 NW Bond St:geo:-121.3113079,44.0593984
END:VEVENT
BEGIN:VEVENT
DTSTART;VALUE=DATE:20161208
DTEND;VALUE=DATE:20161209
DTSTAMP:20260423T131407
CREATED:20161202T025011Z
LAST-MODIFIED:20230503T200505Z
UID:10000959-1481214600-1481218200@envirocenter.org
SUMMARY:Locavore Food School Presents: Beginning Beekeeping
DESCRIPTION:Locavore Food School is a monthly\, on the third Thursday of each month\, offering of nutrition and cooking classes taught by volunteers and community members including farmers\, local food producers\, nutritionists\, chefs and alternative health care practitioners. \nThis is an introductory class for those looking to take up beekeeping. Topics covered will include beekeeping equipment\, the different races of bees and where and when to get them. There will be a short discussion of the various types of bee hives\, where to locate your hives and how many colonies to start with. Our discussion will also include basics of bee biology and how mites impact honeybee health. Beekeeping equipment will be on hand for attendees to view and inspect. Sign ups for mentoring and beekeeping classes will also be available. Following the presentation Ron will be on hand for questions as long necessary.
URL:https://envirocenter.org/event/locavore-food-school-presents-beginning-beekeeping/
LOCATION:Deschutes Brewery Public House\, 1044 NW Bond St\, Bend\, OR\, 97701\, United States
GEO:44.0593984;-121.3113079
X-APPLE-STRUCTURED-LOCATION;VALUE=URI;X-ADDRESS=Deschutes Brewery Public House 1044 NW Bond St Bend OR 97701 United States;X-APPLE-RADIUS=500;X-TITLE=1044 NW Bond St:geo:-121.3113079,44.0593984
END:VEVENT
BEGIN:VEVENT
DTSTART;VALUE=DATE:20161208
DTEND;VALUE=DATE:20161209
DTSTAMP:20260423T131407
CREATED:20160803T235848Z
LAST-MODIFIED:20230503T200442Z
UID:10000594-1481217300-1481227200@envirocenter.org
SUMMARY:Bend COTA Work Events
DESCRIPTION:When:  Thursday Aug 11\, Tuesday Aug 16\, Tuesday Aug 23 and Tuesday Aug 30\, 5:15 to Dusk \nWhere:  Meet at the old Ray’s parking lot\, NE corner of Simpson Ave and Century Drive in Bend \nWorksite:  Varies \nThere’s only one thing better than mountain biking in Bend\, OR and that’s riding in Bend\, knowing that you helped build and maintain the trails you love. \nPlease bring a hydration pack with water and a snack. \nBe sure to bring appropriate layers to accommodate whatever the weather may be. \nQuestions?  contact@cotamtb.com \nAll COTA trail work events require the following safety measures: \nAll participants are required to have the following protective clothing and equipment: \n\nSturdy shoes or boots\nGloves\nEye protection with clear or light colored lens\nLong pants\n\nDue to COTA’s insurance requirements and the inherent dangers of trail work\, we must implement the following policy regarding children at work events: \n\nFor anyone 14 years of age or younger\, we require one parent\, guardian\, or responsible adult for supervision of every four kids attending any COTA trail work events.\nAll minors under the age of 18 must have a parent or guardian available to sign our waiver.\n\nAnyone who arrives for a work event may be turned away if he/she cannot meet the above requirements.
URL:https://envirocenter.org/event/bend-cota-work-events-2016-08-11/
LOCATION:Deschutes Brewery Public House\, 1044 NW Bond St\, Bend\, OR\, 97701\, United States
GEO:44.0593984;-121.3113079
X-APPLE-STRUCTURED-LOCATION;VALUE=URI;X-ADDRESS=Deschutes Brewery Public House 1044 NW Bond St Bend OR 97701 United States;X-APPLE-RADIUS=500;X-TITLE=1044 NW Bond St:geo:-121.3113079,44.0593984
END:VEVENT
END:VCALENDAR