BEGIN:VCALENDAR
VERSION:2.0
PRODID:-//The Environmental Center - ECPv6.15.20//NONSGML v1.0//EN
CALSCALE:GREGORIAN
METHOD:PUBLISH
X-WR-CALNAME:The Environmental Center
X-ORIGINAL-URL:https://envirocenter.org
X-WR-CALDESC:Events for The Environmental Center
REFRESH-INTERVAL;VALUE=DURATION:PT1H
X-Robots-Tag:noindex
X-PUBLISHED-TTL:PT1H
BEGIN:VTIMEZONE
TZID:America/Los_Angeles
BEGIN:DAYLIGHT
TZOFFSETFROM:-0800
TZOFFSETTO:-0700
TZNAME:PDT
DTSTART:20150308T100000
END:DAYLIGHT
BEGIN:STANDARD
TZOFFSETFROM:-0700
TZOFFSETTO:-0800
TZNAME:PST
DTSTART:20151101T090000
END:STANDARD
BEGIN:DAYLIGHT
TZOFFSETFROM:-0800
TZOFFSETTO:-0700
TZNAME:PDT
DTSTART:20160313T100000
END:DAYLIGHT
BEGIN:STANDARD
TZOFFSETFROM:-0700
TZOFFSETTO:-0800
TZNAME:PST
DTSTART:20161106T090000
END:STANDARD
BEGIN:DAYLIGHT
TZOFFSETFROM:-0800
TZOFFSETTO:-0700
TZNAME:PDT
DTSTART:20170312T100000
END:DAYLIGHT
BEGIN:STANDARD
TZOFFSETFROM:-0700
TZOFFSETTO:-0800
TZNAME:PST
DTSTART:20171105T090000
END:STANDARD
END:VTIMEZONE
BEGIN:VEVENT
DTSTART;VALUE=DATE:20161029
DTEND;VALUE=DATE:20161030
DTSTAMP:20260421T171259
CREATED:20160930T214055Z
LAST-MODIFIED:20230503T200456Z
UID:10000944-1477731600-1477753200@envirocenter.org
SUMMARY:Biketoberfest
DESCRIPTION:COTA comes to you twice a year for a major trail work day and celebration. This is the big fall event with trail maintenance happening all over the COTA trails in Deschutes National Forest. We will meet at 9AM at the old Rays parking lot and disperse from there. After celebration with free food and beer at a TBD location. Work will last 3-4 hours so bring water and snacks to carry you until the after trail work shindig. Wear good work clothes: long pants\, long sleeve shirt\, glasses to protect the eyes\, good footwear and gloves. Bring a helmet if you have one (construction helmet is best\, but a good bike helmet will do) but we will have lots of backups if you need one. \nCome meet new friends\, maintain some trail and have some free food and beer. \nPlease register here.
URL:https://envirocenter.org/event/biketoberfest/
LOCATION:Deschutes Brewery Public House\, 1044 NW Bond St\, Bend\, OR\, 97701\, United States
GEO:44.0593984;-121.3113079
X-APPLE-STRUCTURED-LOCATION;VALUE=URI;X-ADDRESS=Deschutes Brewery Public House 1044 NW Bond St Bend OR 97701 United States;X-APPLE-RADIUS=500;X-TITLE=1044 NW Bond St:geo:-121.3113079,44.0593984
END:VEVENT
BEGIN:VEVENT
DTSTART;VALUE=DATE:20161029
DTEND;VALUE=DATE:20161030
DTSTAMP:20260421T171259
CREATED:20180913T221053Z
LAST-MODIFIED:20230503T200748Z
UID:10002756-1477735200-1477749600@envirocenter.org
SUMMARY:Batacular!
DESCRIPTION:The Deschutes National Forest is partnering with Discover Your Forest to host “Batacular\,” a day of fun bat activities for kids and adults from 10:00 a.m. – 1:00 p.m. on Saturday\, October 27th\, 2018. Participants will learn about bats while enjoying themselves at various fun activity stations. Join forces with conservationists around the country during Bat Week\, an annual event sponsored by the US Forest Service and others to raise awareness for bat conservation worldwide. \nThis family friendly event is free\, open to the public and Halloween costumes are welcomed. Take a walk down the fashion “Batwalk” and win a prize for your costume! \nBat Week: Bat Week is an annual\, international block of programs and media appearances designed to raise awareness for bat conservation worldwide. Bat Week is organized and supported by the US Forest Service\, US Fish and Wildlife Service\, Bat Conservation International\, the Organization for Bat Conservation\, The Save Lucy Campaign and Wildlife Acoustics. This year Bat Week will be held from October 24-31. For more information\, visit www.batweek.org
URL:https://envirocenter.org/event/batacular-2/
LOCATION:Deschutes Brewery Public House\, 1044 NW Bond St\, Bend\, OR\, 97701\, United States
GEO:44.0593984;-121.3113079
X-APPLE-STRUCTURED-LOCATION;VALUE=URI;X-ADDRESS=Deschutes Brewery Public House 1044 NW Bond St Bend OR 97701 United States;X-APPLE-RADIUS=500;X-TITLE=1044 NW Bond St:geo:-121.3113079,44.0593984
END:VEVENT
BEGIN:VEVENT
DTSTART;VALUE=DATE:20161029
DTEND;VALUE=DATE:20161030
DTSTAMP:20260421T171259
CREATED:20171005T050920Z
LAST-MODIFIED:20230503T200628Z
UID:10002743-1477760400-1477771200@envirocenter.org
SUMMARY:RedTail Banquet
DESCRIPTION:Sunset for dinner\, drinks and a small silent auction and raffle to benefit Central Oregon’s natural resources and livable communities. This year will be celebrating the launch of the Bend Central District Initiative. \nTickets for Central Oregon LandWatch’s RedTail Banquet are $75 per person and include one raffle ticket. You have the option to pay by credit card or send a check. \nPlease contact Kori with any questions at 541-647-2930 x802\, kori@colw.org \nAll proceeds benefit Central Oregon LandWatch. 
URL:https://envirocenter.org/event/redtail-banquet/
LOCATION:Deschutes Brewery Public House\, 1044 NW Bond St\, Bend\, OR\, 97701\, United States
GEO:44.0593984;-121.3113079
X-APPLE-STRUCTURED-LOCATION;VALUE=URI;X-ADDRESS=Deschutes Brewery Public House 1044 NW Bond St Bend OR 97701 United States;X-APPLE-RADIUS=500;X-TITLE=1044 NW Bond St:geo:-121.3113079,44.0593984
END:VEVENT
BEGIN:VEVENT
DTSTART;VALUE=DATE:20161029
DTEND;VALUE=DATE:20161030
DTSTAMP:20260421T171259
CREATED:20160921T223918Z
LAST-MODIFIED:20230503T200455Z
UID:10000941-1477764000-1477774800@envirocenter.org
SUMMARY:Farewell Reception for Armature
DESCRIPTION:Armature – a creative space is permanently closing its doors on October 31st. They want to thank you for an awesome journey these past 3.5 years! Head over to their Farewell Reception during last Saturday to honor a truly creative space. Free. Open to the public.
URL:https://envirocenter.org/event/farewell-reception-for-armature/
LOCATION:Deschutes Brewery Public House\, 1044 NW Bond St\, Bend\, OR\, 97701\, United States
GEO:44.0593984;-121.3113079
X-APPLE-STRUCTURED-LOCATION;VALUE=URI;X-ADDRESS=Deschutes Brewery Public House 1044 NW Bond St Bend OR 97701 United States;X-APPLE-RADIUS=500;X-TITLE=1044 NW Bond St:geo:-121.3113079,44.0593984
END:VEVENT
BEGIN:VEVENT
DTSTART;VALUE=DATE:20161101
DTEND;VALUE=DATE:20161102
DTSTAMP:20260421T171259
CREATED:20161026T230028Z
LAST-MODIFIED:20230503T200504Z
UID:10002755-1478019600-1478026800@envirocenter.org
SUMMARY:Bend 2030 Charter Review Forum Two: Your Input
DESCRIPTION:Join us from 5-7 p.m. on Nov. 1 at the Central Oregon Collective to give your input on critical questions such as: \nDoes our current city council structure offer Bend citizens the best leadership possible for addressing our complicated population\, housing\, transportation and livability issues? \nBend 2030\, the Bend Chamber of Commerce and City Club of Central Oregon are partnering to present this two-part charter review event series this fall to give you the tools and the forum to answer this question for yourself. \nAt the first charter review forum\, community members shared more than 50 questions they believe are important to consider in a charter review process. \nRead the report of their input here.\n\nWe’ve curated the ones they deemed most important and now we’re asking you to weigh in. Give your input on the following: \n\nShould Bend residents begin electing a mayor? If yes\, what powers should they have?\nShould Bend implement a ward system with councilors elected from each area of town? If yes\, how many wards should there be?\nShould councilors be paid more than the current $200 per month? If yes\, what negative and positive affects could that have?\n\nRegister here to attend this forum. It’s FREE!
URL:https://envirocenter.org/event/bend-2030-charter-review-forum-two-your-input/
LOCATION:Deschutes Brewery Public House\, 1044 NW Bond St\, Bend\, OR\, 97701\, United States
GEO:44.0593984;-121.3113079
X-APPLE-STRUCTURED-LOCATION;VALUE=URI;X-ADDRESS=Deschutes Brewery Public House 1044 NW Bond St Bend OR 97701 United States;X-APPLE-RADIUS=500;X-TITLE=1044 NW Bond St:geo:-121.3113079,44.0593984
END:VEVENT
BEGIN:VEVENT
DTSTART;VALUE=DATE:20161101
DTEND;VALUE=DATE:20161102
DTSTAMP:20260421T171259
CREATED:20161008T045126Z
LAST-MODIFIED:20230503T200500Z
UID:10000945-1478026800-1478032200@envirocenter.org
SUMMARY:Bend Grows UP\, Part 3: Developer Strategies
DESCRIPTION:Lecture by: Alex Joyce\, Principal\, Fregonese Associates and Tom Cody\, Managing Partner\, project^ \nIn this third and final part of Bend Grows UP\, we hear from two experts with on-the-ground experience in vertical development. Together\, they’ll share strategies on how to make vertical development “pencil” and how to ensure a project integrates well with the surrounding community. \nAlex Joyce is a principal at Fregonese Associates\, a Portland land use planning firm with an award-winning track record of helping make better cities and regions since 1997. Alex has over 10 years of experience managing a wide range of projects including redevelopment analysis\, urban design\, transit-oriented development feasibility and infill strategies. He has recently worked with the city of Bend on the Central West Side Plan and Urban Growth Boundary Remand project. \nTom Cody is the founder and president of project^\, located in Portland. As a real estate executive\, Tom has over 20 years of experience executing mixed-use\, transit-oriented sustainable developments. Tom received a Masters degree in Urban Planning from Harvard University and a Bachelor of Science degree in Urban Planning and Development from the University of Southern California. His company currently has two projects in Bend: Basecamp townhomes in the Mill Quarter and Range apartments\, soon to be built in NorthWest Crossing. \nSponsored by Pinnacle Architecture\, Kittelson & Associates\, Inc.\, Wall Street Suites\, Killian Pacific and Central Oregon LandWatch
URL:https://envirocenter.org/event/bend-grows-up-part-3-developer-strategies/
LOCATION:Deschutes Brewery Public House\, 1044 NW Bond St\, Bend\, OR\, 97701\, United States
GEO:44.0593984;-121.3113079
X-APPLE-STRUCTURED-LOCATION;VALUE=URI;X-ADDRESS=Deschutes Brewery Public House 1044 NW Bond St Bend OR 97701 United States;X-APPLE-RADIUS=500;X-TITLE=1044 NW Bond St:geo:-121.3113079,44.0593984
END:VEVENT
END:VCALENDAR