BEGIN:VCALENDAR
VERSION:2.0
PRODID:-//The Environmental Center - ECPv6.15.20//NONSGML v1.0//EN
CALSCALE:GREGORIAN
METHOD:PUBLISH
X-WR-CALNAME:The Environmental Center
X-ORIGINAL-URL:https://envirocenter.org
X-WR-CALDESC:Events for The Environmental Center
REFRESH-INTERVAL;VALUE=DURATION:PT1H
X-Robots-Tag:noindex
X-PUBLISHED-TTL:PT1H
BEGIN:VTIMEZONE
TZID:America/Los_Angeles
BEGIN:DAYLIGHT
TZOFFSETFROM:-0800
TZOFFSETTO:-0700
TZNAME:PDT
DTSTART:20240310T100000
END:DAYLIGHT
BEGIN:STANDARD
TZOFFSETFROM:-0700
TZOFFSETTO:-0800
TZNAME:PST
DTSTART:20241103T090000
END:STANDARD
BEGIN:DAYLIGHT
TZOFFSETFROM:-0800
TZOFFSETTO:-0700
TZNAME:PDT
DTSTART:20250309T100000
END:DAYLIGHT
BEGIN:STANDARD
TZOFFSETFROM:-0700
TZOFFSETTO:-0800
TZNAME:PST
DTSTART:20251102T090000
END:STANDARD
BEGIN:DAYLIGHT
TZOFFSETFROM:-0800
TZOFFSETTO:-0700
TZNAME:PDT
DTSTART:20260308T100000
END:DAYLIGHT
BEGIN:STANDARD
TZOFFSETFROM:-0700
TZOFFSETTO:-0800
TZNAME:PST
DTSTART:20261101T090000
END:STANDARD
END:VTIMEZONE
BEGIN:VEVENT
DTSTART;TZID=America/Los_Angeles:20250223T090000
DTEND;TZID=America/Los_Angeles:20250223T160000
DTSTAMP:20260422T210811
CREATED:20250113T202257Z
LAST-MODIFIED:20250113T202329Z
UID:10004566-1740301200-1740326400@envirocenter.org
SUMMARY:SheJumps | WILD SKILLS Junior Ski Patrol | Hoodoo Ski Resort\, OR
DESCRIPTION:Join for the SheJumps Wild Skills Junior Ski Patrol day camp at Hoodoo Ski Resort on Sunday\, February 23rd\, 2025!
URL:https://envirocenter.org/event/shejumps-wild-skills-junior-ski-patrol-hoodoo-ski-resort-or/
LOCATION:Hoodoo Ski Area\, 27400 Big Lake Road\, Sisters\, OR\, 97759\, United States
CATEGORIES:Youth Education
ATTACH;FMTTYPE=image/jpeg:https://envirocenter.org/wp-content/uploads/2025/01/Hoodo.jpeg
GEO:44.4086986;-121.8714522
X-APPLE-STRUCTURED-LOCATION;VALUE=URI;X-ADDRESS=Hoodoo Ski Area 27400 Big Lake Road Sisters OR 97759 United States;X-APPLE-RADIUS=500;X-TITLE=27400 Big Lake Road:geo:-121.8714522,44.4086986
END:VEVENT
BEGIN:VEVENT
DTSTART;TZID=America/Los_Angeles:20250228T080000
DTEND;TZID=America/Los_Angeles:20250228T170000
DTSTAMP:20260422T210811
CREATED:20250228T205049Z
LAST-MODIFIED:20250228T205049Z
UID:10004587-1740729600-1740762000@envirocenter.org
SUMMARY:Trash-fashion Maker-Mentor workshop:
DESCRIPTION:Rubbish Renewed presents free Trash Fashion DESIGN WORKSHOPS in collaboration with DIYcave. \n• How can I create something from nothing?\n• What is the value of trash beyond the landfill?\n• What is its story? \nSign up for one of the first ever Rubbish Renewed free community design workshops! Rubbish Renewed is partnering with DIYcave to inspire and support new and burgeoning trash fashion designers of all ages. We created two 2-hour workshops to help jump-start your vision with an additional 1-hour free studio time gift card from DIYcave. Space is limited to 12 participants for each workshop. Several dedicated designers\, material manipulators\, and technical teachers will be on hand to meet you where you are in the process. Come with garment ideas\, material samples\, and an open mind! \nDesign Workshop 2: Friday\, March 7th 4-6pm. Sign-up by visiting the Applications tab at rubbishrenewed.org or DIYcave.com
URL:https://envirocenter.org/event/trash-fashion-maker-mentor-workshop/
LOCATION:OR
CATEGORIES:Rethink Waste,Youth Education
ATTACH;FMTTYPE=image/webp:https://envirocenter.org/wp-content/uploads/2025/02/Rubbish-workshop.webp
ORGANIZER;CN="Interconnected Diversity":MAILTO:erika@interconnecteddiversity.org
END:VEVENT
END:VCALENDAR