BEGIN:VCALENDAR
VERSION:2.0
PRODID:-//The Environmental Center - ECPv6.15.20//NONSGML v1.0//EN
CALSCALE:GREGORIAN
METHOD:PUBLISH
X-WR-CALNAME:The Environmental Center
X-ORIGINAL-URL:https://envirocenter.org
X-WR-CALDESC:Events for The Environmental Center
REFRESH-INTERVAL;VALUE=DURATION:PT1H
X-Robots-Tag:noindex
X-PUBLISHED-TTL:PT1H
BEGIN:VTIMEZONE
TZID:America/Los_Angeles
BEGIN:DAYLIGHT
TZOFFSETFROM:-0800
TZOFFSETTO:-0700
TZNAME:PDT
DTSTART:20230312T100000
END:DAYLIGHT
BEGIN:STANDARD
TZOFFSETFROM:-0700
TZOFFSETTO:-0800
TZNAME:PST
DTSTART:20231105T090000
END:STANDARD
BEGIN:DAYLIGHT
TZOFFSETFROM:-0800
TZOFFSETTO:-0700
TZNAME:PDT
DTSTART:20240310T100000
END:DAYLIGHT
BEGIN:STANDARD
TZOFFSETFROM:-0700
TZOFFSETTO:-0800
TZNAME:PST
DTSTART:20241103T090000
END:STANDARD
BEGIN:DAYLIGHT
TZOFFSETFROM:-0800
TZOFFSETTO:-0700
TZNAME:PDT
DTSTART:20250309T100000
END:DAYLIGHT
BEGIN:STANDARD
TZOFFSETFROM:-0700
TZOFFSETTO:-0800
TZNAME:PST
DTSTART:20251102T090000
END:STANDARD
END:VTIMEZONE
BEGIN:VEVENT
DTSTART;TZID=America/Los_Angeles:20240604T160000
DTEND;TZID=America/Los_Angeles:20240604T180000
DTSTAMP:20260423T132154
CREATED:20240528T220912Z
LAST-MODIFIED:20240528T220912Z
UID:10004441-1717516800-1717524000@envirocenter.org
SUMMARY:Eggshell Garden Starts at The Environmental Center's Happy Hour in the Garden
DESCRIPTION:Make cute garden starts in eggshells and explore a garden! \nStop by the Environmental Center’s Happy Hour in the Garden to plant some eggshell starts\, and feel free to volunteer in the Environmental Center’s learning garden afterwards (optional). This is a family friendly event – no experience or tools necessary. Beer and bubbly will be provided! \nIn 1989\, The Environmental Center was born to inspire locals to live lighter on the planet. Their work began with a handful of people and a building in the center of Bend. Today\, they’ve grown to become a regional leader in environmental education\, engagement\, and action. Their team works alongside people of all ages\, local businesses\, and elected officials to create and advocate for meaningful\, lasting change. \nThrough unique programs and partnerships\, the Environmental Center engages as many people as possible in their mission: To embed sustainability into daily life in Central Oregon.
URL:https://envirocenter.org/event/eggshell-garden-starts-at-the-environmental-centers-happy-hour-in-the-garden/
LOCATION:The Environmental Center\, 16 NW Kansas Avenue\, Bend\, OR\, 97703
CATEGORIES:Garden,Volunteer,Youth Education
ATTACH;FMTTYPE=image/jpeg:https://envirocenter.org/wp-content/uploads/2024/05/Eggshell-Starts-720x480-1.jpg
ORGANIZER;CN="Deschutes Public Library":MAILTO:laurelw@deschuteslibrary.org
GEO:44.055562;-121.3143083
X-APPLE-STRUCTURED-LOCATION;VALUE=URI;X-ADDRESS=The Environmental Center 16 NW Kansas Avenue Bend OR 97703;X-APPLE-RADIUS=500;X-TITLE=16 NW Kansas Avenue:geo:-121.3143083,44.055562
END:VEVENT
END:VCALENDAR