BEGIN:VCALENDAR
VERSION:2.0
PRODID:-//The Environmental Center - ECPv6.15.20//NONSGML v1.0//EN
CALSCALE:GREGORIAN
METHOD:PUBLISH
X-ORIGINAL-URL:https://envirocenter.org
X-WR-CALDESC:Events for The Environmental Center
REFRESH-INTERVAL;VALUE=DURATION:PT1H
X-Robots-Tag:noindex
X-PUBLISHED-TTL:PT1H
BEGIN:VTIMEZONE
TZID:America/Los_Angeles
BEGIN:DAYLIGHT
TZOFFSETFROM:-0800
TZOFFSETTO:-0700
TZNAME:PDT
DTSTART:20230312T100000
END:DAYLIGHT
BEGIN:STANDARD
TZOFFSETFROM:-0700
TZOFFSETTO:-0800
TZNAME:PST
DTSTART:20231105T090000
END:STANDARD
BEGIN:DAYLIGHT
TZOFFSETFROM:-0800
TZOFFSETTO:-0700
TZNAME:PDT
DTSTART:20240310T100000
END:DAYLIGHT
BEGIN:STANDARD
TZOFFSETFROM:-0700
TZOFFSETTO:-0800
TZNAME:PST
DTSTART:20241103T090000
END:STANDARD
BEGIN:DAYLIGHT
TZOFFSETFROM:-0800
TZOFFSETTO:-0700
TZNAME:PDT
DTSTART:20250309T100000
END:DAYLIGHT
BEGIN:STANDARD
TZOFFSETFROM:-0700
TZOFFSETTO:-0800
TZNAME:PST
DTSTART:20251102T090000
END:STANDARD
END:VTIMEZONE
BEGIN:VEVENT
DTSTART;TZID=America/Los_Angeles:20240528T180000
DTEND;TZID=America/Los_Angeles:20240528T190000
DTSTAMP:20260423T171303
CREATED:20240319T161713Z
LAST-MODIFIED:20240319T161713Z
UID:10004195-1716919200-1716922800@envirocenter.org
SUMMARY:“Shark Heart” in Real Life – The Science of Studying Sharks
DESCRIPTION:Learn about sharks and current research with Dr. Alexandra McInturf. \nSharks play a critical role in maintaining vibrant ecosystems in Oregon and around the world. Yet\, considered “dangerous” by popular media and threatened by human activity worldwide\, these organisms have faced global population declines. Dr. Alexandra McInturf has been studying shark species worldwide for the last decade\, including those among the most vulnerable. As an animal behaviorist\, she researches some of the most understudied components of these organisms\, including their social behavior. In this presentation\, she will introduce some of the key characteristics of sharks (what makes a shark\, a shark)\, talk about shark diversity\, and finally discuss some of the projects she and other researchers are undertaking on different species (including white sharks) in the Big Fish Lab at Oregon State University.
URL:https://envirocenter.org/event/shark-heart-in-real-life-the-science-of-studying-sharks/
LOCATION:Downtown Bend Library\, 601 NW Wall St.\, Bend\, OR\, 97701\, United States
CATEGORIES:Youth Education
ATTACH;FMTTYPE=image/jpeg:https://envirocenter.org/wp-content/uploads/2024/03/ANI-ScienceStudyingSharks-720x480-1.jpg
ORGANIZER;CN="Deschutes Public Library":MAILTO:laurelw@deschuteslibrary.org
GEO:44.0572068;-121.3165935
X-APPLE-STRUCTURED-LOCATION;VALUE=URI;X-ADDRESS=Downtown Bend Library 601 NW Wall St. Bend OR 97701 United States;X-APPLE-RADIUS=500;X-TITLE=601 NW Wall St.:geo:-121.3165935,44.0572068
END:VEVENT
BEGIN:VEVENT
DTSTART;TZID=America/Los_Angeles:20240529T120000
DTEND;TZID=America/Los_Angeles:20240529T130000
DTSTAMP:20260423T171303
CREATED:20240319T161929Z
LAST-MODIFIED:20240319T161929Z
UID:10004196-1716984000-1716987600@envirocenter.org
SUMMARY:"Shark Heart" in Real Life - The Science of Studying Sharks-Sisters Library
DESCRIPTION:Learn about sharks and current research with Dr. Alexandra McInturf. \nSharks play a critical role in maintaining vibrant ecosystems in Oregon and around the world. Yet\, considered “dangerous” by popular media and threatened by human activity worldwide\, these organisms have faced global population declines. Dr. Alexandra McInturf has been studying shark species worldwide for the last decade\, including those among the most vulnerable. As an animal behaviorist\, she researches some of the most understudied components of these organisms\, including their social behavior. In this presentation\, she will introduce some of the key characteristics of sharks (what makes a shark\, a shark)\, talk about shark diversity\, and finally discuss some of the projects she and other researchers are undertaking on different species (including white sharks) in the Big Fish Lab at Oregon State University.
URL:https://envirocenter.org/event/shark-heart-in-real-life-the-science-of-studying-sharks-sisters-library/
LOCATION:Deschutes Public Library – Sisters\, 110 N Cedar St\, Sisters\, OR\, 97759\, United States
CATEGORIES:Youth Education
ATTACH;FMTTYPE=image/jpeg:https://envirocenter.org/wp-content/uploads/2024/03/ANI-ScienceStudyingSharks-720x480-1.jpg
ORGANIZER;CN="Deschutes Public Library":MAILTO:laurelw@deschuteslibrary.org
GEO:44.291691;-121.544664
X-APPLE-STRUCTURED-LOCATION;VALUE=URI;X-ADDRESS=Deschutes Public Library – Sisters 110 N Cedar St Sisters OR 97759 United States;X-APPLE-RADIUS=500;X-TITLE=110 N Cedar St:geo:-121.544664,44.291691
END:VEVENT
BEGIN:VEVENT
DTSTART;TZID=America/Los_Angeles:20240601T093000
DTEND;TZID=America/Los_Angeles:20240601T153000
DTSTAMP:20260423T171303
CREATED:20240430T171630Z
LAST-MODIFIED:20240430T171630Z
UID:10004406-1717234200-1717255800@envirocenter.org
SUMMARY:SheJumps x USFS | WILD SKILLS | Junior Wildland Firefighter Day Camp | OR
DESCRIPTION:Join  SheJumps & USFS Junior Wildland Firefighter for a day camp at Scout Lake Campground on Saturday\, June 1st in Sisters\, Oregon!
URL:https://envirocenter.org/event/shejumps-x-usfs-wild-skills-junior-wildland-firefighter-day-camp-or/
LOCATION:OR
CATEGORIES:Volunteer,Youth Education
ATTACH;FMTTYPE=image/jpeg:https://envirocenter.org/wp-content/uploads/2024/04/JR-Wildland-Firefighter_OR_1080x1080-updated.jpg
END:VEVENT
END:VCALENDAR