BEGIN:VCALENDAR
VERSION:2.0
PRODID:-//The Environmental Center - ECPv6.15.20//NONSGML v1.0//EN
CALSCALE:GREGORIAN
METHOD:PUBLISH
X-ORIGINAL-URL:https://envirocenter.org
X-WR-CALDESC:Events for The Environmental Center
REFRESH-INTERVAL;VALUE=DURATION:PT1H
X-Robots-Tag:noindex
X-PUBLISHED-TTL:PT1H
BEGIN:VTIMEZONE
TZID:America/Los_Angeles
BEGIN:DAYLIGHT
TZOFFSETFROM:-0800
TZOFFSETTO:-0700
TZNAME:PDT
DTSTART:20220313T100000
END:DAYLIGHT
BEGIN:STANDARD
TZOFFSETFROM:-0700
TZOFFSETTO:-0800
TZNAME:PST
DTSTART:20221106T090000
END:STANDARD
BEGIN:DAYLIGHT
TZOFFSETFROM:-0800
TZOFFSETTO:-0700
TZNAME:PDT
DTSTART:20230312T100000
END:DAYLIGHT
BEGIN:STANDARD
TZOFFSETFROM:-0700
TZOFFSETTO:-0800
TZNAME:PST
DTSTART:20231105T090000
END:STANDARD
BEGIN:DAYLIGHT
TZOFFSETFROM:-0800
TZOFFSETTO:-0700
TZNAME:PDT
DTSTART:20240310T100000
END:DAYLIGHT
BEGIN:STANDARD
TZOFFSETFROM:-0700
TZOFFSETTO:-0800
TZNAME:PST
DTSTART:20241103T090000
END:STANDARD
END:VTIMEZONE
BEGIN:VEVENT
DTSTART;TZID=America/Los_Angeles:20231010T190000
DTEND;TZID=America/Los_Angeles:20231010T203000
DTSTAMP:20260425T043959
CREATED:20230927T184801Z
LAST-MODIFIED:20230927T184801Z
UID:10004088-1696964400-1696969800@envirocenter.org
SUMMARY:Finding the Magic in Middle School Talk and Book Signing by Chris Balme
DESCRIPTION:This evening community gathering is intended to support the wellbeing and growth of parents\, educators\, and mental health professionals. While this talk is geared toward the development of adolescence\, anyone who helps to raise our children -of any age- will benefit from the brain-body science that is presented. \nIn this talk\, author and acclaimed educator Chris Balme shows how to tap into the positive potential of middle school. It begins with understanding what’s going on inside the middle school brain. Balme introduces three key developmental needs for middle schoolers\, offering practical tips to support them at each step of the way. Drawing on his experience as a middle school founder and principal\, as well as the latest neuroscience\, he offers a fresh and uplifting take on the transformative years of middle school. \nThis talk is based on Balme’s book\, Finding the Magic in Middle School\, which was published in 2022 and quickly became an Amazon bestseller for adolescent psychology. Renowned adolescent psychologist and author Madeline Levine called it “a must-read for anyone who has a tween or works with tweens.” \nThis event is organized by the Interconnected Diversity team and is being supported financially by many individuals and organizations\, including each ticket purchased and donation at checkout. \nGenerous sponsorships have been provided by Cascades Academy and Seven Peaks Schools. Our list of in-kind donors and financial supporters continue to grow and include: Unitarian Universalist Fellowship of Central Oregon\, Insight Counseling\, Natalie Houston\, Amy Bahrman\, The Base at Franklin\, High Desert Makers\, Brightways Counseling Group\, Roundabout Bookstore\, Spencer Mitchell Photography\, \, Kap Seidel and Upstream Parenting\, Tim Burnett\, Carrie Hicks\, Samara Learning Center\, Andy Slavin and Amity Creek Elementary. A Heartfelt THANK YOU to all those contributing\, for making this event possible. \n  \nRegister here!
URL:https://envirocenter.org/event/finding-the-magic-in-middle-school-talk-and-book-signing-by-chris-balme/
LOCATION:Unitarian Universalist Fellowship\, 61980 Skyline Ranch Road\, Bend\, OR\, United States
CATEGORIES:Youth Education
ATTACH;FMTTYPE=image/webp:https://envirocenter.org/wp-content/uploads/2023/09/rsw_600h_300cg_true.webp
ORGANIZER;CN="Interconnected Diversity":MAILTO:erika@interconnecteddiversity.org
GEO:44.0521916;-121.3621946
X-APPLE-STRUCTURED-LOCATION;VALUE=URI;X-ADDRESS=Unitarian Universalist Fellowship 61980 Skyline Ranch Road Bend OR United States;X-APPLE-RADIUS=500;X-TITLE=61980 Skyline Ranch Road:geo:-121.3621946,44.0521916
END:VEVENT
END:VCALENDAR