BEGIN:VCALENDAR
VERSION:2.0
PRODID:-//The Environmental Center - ECPv6.15.20//NONSGML v1.0//EN
CALSCALE:GREGORIAN
METHOD:PUBLISH
X-ORIGINAL-URL:https://envirocenter.org
X-WR-CALDESC:Events for The Environmental Center
REFRESH-INTERVAL;VALUE=DURATION:PT1H
X-Robots-Tag:noindex
X-PUBLISHED-TTL:PT1H
BEGIN:VTIMEZONE
TZID:America/Los_Angeles
BEGIN:DAYLIGHT
TZOFFSETFROM:-0800
TZOFFSETTO:-0700
TZNAME:PDT
DTSTART:20230312T100000
END:DAYLIGHT
BEGIN:STANDARD
TZOFFSETFROM:-0700
TZOFFSETTO:-0800
TZNAME:PST
DTSTART:20231105T090000
END:STANDARD
BEGIN:DAYLIGHT
TZOFFSETFROM:-0800
TZOFFSETTO:-0700
TZNAME:PDT
DTSTART:20240310T100000
END:DAYLIGHT
BEGIN:STANDARD
TZOFFSETFROM:-0700
TZOFFSETTO:-0800
TZNAME:PST
DTSTART:20241103T090000
END:STANDARD
BEGIN:DAYLIGHT
TZOFFSETFROM:-0800
TZOFFSETTO:-0700
TZNAME:PDT
DTSTART:20250309T100000
END:DAYLIGHT
BEGIN:STANDARD
TZOFFSETFROM:-0700
TZOFFSETTO:-0800
TZNAME:PST
DTSTART:20251102T090000
END:STANDARD
BEGIN:DAYLIGHT
TZOFFSETFROM:-0800
TZOFFSETTO:-0700
TZNAME:PDT
DTSTART:20260308T100000
END:DAYLIGHT
BEGIN:STANDARD
TZOFFSETFROM:-0700
TZOFFSETTO:-0800
TZNAME:PST
DTSTART:20261101T090000
END:STANDARD
BEGIN:DAYLIGHT
TZOFFSETFROM:-0800
TZOFFSETTO:-0700
TZNAME:PDT
DTSTART:20270314T100000
END:DAYLIGHT
BEGIN:STANDARD
TZOFFSETFROM:-0700
TZOFFSETTO:-0800
TZNAME:PST
DTSTART:20271107T090000
END:STANDARD
END:VTIMEZONE
BEGIN:VEVENT
DTSTART;TZID=America/Los_Angeles:20241201T090000
DTEND;TZID=America/Los_Angeles:20241201T110000
DTSTAMP:20260423T004211
CREATED:20241105T000134Z
LAST-MODIFIED:20241105T000134Z
UID:10004528-1733043600-1733050800@envirocenter.org
SUMMARY:Winter Bird Walk with Think Wild
DESCRIPTION:Interested in learning more about bird migration and our feathered friends who overwinter here in Central Oregon? \nJoin us for a morning winter bird walk led by our passionate youth volunteer and bird expert\, Mason! We will learn to identify different Central Oregon bird species and discuss some of their winter adaptations and habits. \nMeet at Hatfield Ponds on Sunday\, December 1st at 9 am. Binoculars and field guides will be provided. \nEvent contact: becca@thinkwildco.org
URL:https://envirocenter.org/event/winter-bird-walk-with-think-wild/
LOCATION:Hatfield Ponds\, McGrath Road 22395\, Bend\, Oregon\, 97701\, United States
CATEGORIES:Outdoors & Adventure,Public Lands,Science,Youth Education
ATTACH;FMTTYPE=image/jpeg:https://envirocenter.org/wp-content/uploads/2024/11/scaled_768.jpg
GEO:44.1195561;-121.2043125
X-APPLE-STRUCTURED-LOCATION;VALUE=URI;X-ADDRESS=Hatfield Ponds McGrath Road 22395 Bend Oregon 97701 United States;X-APPLE-RADIUS=500;X-TITLE=McGrath Road 22395:geo:-121.2043125,44.1195561
END:VEVENT
BEGIN:VEVENT
DTSTART;TZID=America/Los_Angeles:20241215T130000
DTEND;TZID=America/Los_Angeles:20241215T160000
DTSTAMP:20260423T004211
CREATED:20241001T210558Z
LAST-MODIFIED:20241001T210558Z
UID:10004515-1734267600-1734278400@envirocenter.org
SUMMARY:Kids' Entrepreneur Holiday Market
DESCRIPTION:A holiday market run entirely by kids ages 5-17. This is a real-world experience that allows children to be creative\, build confidence\, learn skills beyond the classroom – and above all\, fun! You will find gifts\, artisan crafts\, graphic arts\, services\, games\, food\, drinks\, jewelry\, and more. Come support young entrepreneurs in our community! \nDate: Sunday\, Dec. 15\, 2024 \nTime: 1-4pm \nLocation: Elks Lodge – 63120 Boyd Acres Rd\, Bend\, OR 97701 \nCost: Free to attend. To participate: $10-$20. \nRegister to participate: www.KidsEntrepreneurMarket.com
URL:https://envirocenter.org/event/kids-entrepreneur-holiday-market/
LOCATION:Elks Lodge\, Three Sisters Room\, 63120 Boyd Acres Rd\, bend\, Oregon
CATEGORIES:Youth Education
ATTACH;FMTTYPE=image/jpeg:https://envirocenter.org/wp-content/uploads/2024/10/KEM-Dec-2024-FB-Event-Page.jpg
GEO:44.091191;-121.2949765
X-APPLE-STRUCTURED-LOCATION;VALUE=URI;X-ADDRESS=Elks Lodge Three Sisters Room 63120 Boyd Acres Rd bend Oregon;X-APPLE-RADIUS=500;X-TITLE=63120 Boyd Acres Rd:geo:-121.2949765,44.091191
END:VEVENT
BEGIN:VEVENT
DTSTART;TZID=America/Los_Angeles:20250128T160000
DTEND;TZID=America/Los_Angeles:20250128T180000
DTSTAMP:20260423T004211
CREATED:20250113T213148Z
LAST-MODIFIED:20250113T213148Z
UID:10004570-1738080000-1738087200@envirocenter.org
SUMMARY:Professional Development  for K–12 educators.
DESCRIPTION:Professional Development \nThis virtual workshop is for K–12 educators across multiple content areas. Confluence Professional Development’s purpose is to educate teachers in the pedagogy of Indigenous curriculum and lessons. It is to prepare adults\, teachers\, and educators with a more perceptive understanding of Native American lifeways\, history\, cultural traditions\, and ecology that define our Native identity. \nOver the two-day virtual workshop\, the cohort will learn directly from Indigenous workshop facilitators/speakers and have the opportunity to think through Indigenous education concepts together using materials from Confluence Media Library\, our publications\, Columbia River Sites\, and our work from Camp Confluence and Confluence in the Classroom. We will also show the parallels of our work at Confluence with Oregon’s Tribal History/Shared History and Washington’s Since Time Immemorial curriculums. \nThis cohort will meet on Zoom on Jan. 21 and Jan. 28 at 4–6pm. Our theme this month is: \nVoices of the River Volume 1: Stories to Be Told – Ancestors Always Present \nRegister HERE
URL:https://envirocenter.org/event/professional-development-for-k-12-educators-2/
LOCATION:OR
CATEGORIES:Advocacy|Climate|Energy|Environmental Justice|Online event|Online Networking,Advocacy|Food|Online event,Advocacy|Food|Online event|Racial Justice,Advocacy|Online event|Transportation,Diversity|Food|Online event,Diversity|Inclusion|Online event|Online Networking,Energy|Film|Online event,Food|Garden,Food|Garden|Volunteer,Food|Online event,Youth Education
ATTACH;FMTTYPE=image/jpeg:https://envirocenter.org/wp-content/uploads/2025/01/unnamed-2.jpg
ORGANIZER;CN="Confluence Project":MAILTO:info@confluenceproject.org
END:VEVENT
BEGIN:VEVENT
DTSTART;TZID=America/Los_Angeles:20250204T180000
DTEND;TZID=America/Los_Angeles:20250204T190000
DTSTAMP:20260423T004211
CREATED:20250113T182628Z
LAST-MODIFIED:20250113T182628Z
UID:10004556-1738692000-1738695600@envirocenter.org
SUMMARY:A Year in the Life: Oregon’s Desert Owls
DESCRIPTION:Join Oregon Natural Desert Association as they kick off their 2025 High Desert Speaker Series with an absorbing evening all about high desert owls. Paul Bannick\, acclaimed author and wildlife photographer\, will take you through four seasons in the lives of these owls to give you a better appreciation of what they need to survive and thrive in each season. With stunning\, intimate images\, Paul will bring the stories of these adorable yet fierce predators to life and reveal their unique roles in the high desert ecosystem from its driest lands to its ponderosa pine woodlands.
URL:https://envirocenter.org/event/a-year-in-the-life-oregons-desert-owls/
LOCATION:OR
CATEGORIES:Advocacy|Climate|Energy|Environmental Justice|Online event|Online Networking,Advocacy|Food|Online event,Advocacy|Food|Online event|Racial Justice,Advocacy|Online event|Transportation,Diversity|Food|Online event,Energy|Film|Online event,Food|Garden,Food|Garden|Volunteer,Food|Online event,Online event,Youth Education
ATTACH;FMTTYPE=image/jpeg:https://envirocenter.org/wp-content/uploads/2025/01/Long_Eared_Owl_9877-e1734571780297.jpg
ORGANIZER;CN="Oregon Natural Desert Association":MAILTO:corie@onda.org
END:VEVENT
BEGIN:VEVENT
DTSTART;TZID=America/Los_Angeles:20250205T180000
DTEND;TZID=America/Los_Angeles:20250205T193000
DTSTAMP:20260423T004211
CREATED:20250113T200441Z
LAST-MODIFIED:20250113T200544Z
UID:10004563-1738778400-1738783800@envirocenter.org
SUMMARY:SheJumps x AdventurUs Women x Between Evergreens | Speaker Series | OR
DESCRIPTION:Wednesday\, February 5th\, 2025 – “Women in Wildfire” – Join the women of the US Forest Service & BLM Wildland Fire Management Service to learn what it’s like to be a woman in wildland firefighting. From working on fire lines\, parachuting into dangerous terrain\, handling heavy equipment\, battling fires\, educating the public\, and developing curriculum to teach kids about forest management & fire prevention\, these incredible women have seen it all. Learn more about ways you can help manage and care for our forests\, and how we can all work to get more women into the traditionally male-dominated wildland firefighting career path.
URL:https://envirocenter.org/event/shejumps-x-adventurus-women-x-between-evergreens-speaker-series-or/
LOCATION:Embark\, 2843 NW Lolo Dr.\, Bend\, OR\, 97703\, United States
CATEGORIES:Inclusion,Youth Education
ATTACH;FMTTYPE=image/jpeg:https://envirocenter.org/wp-content/uploads/2025/01/She-Jumps.jpe
GEO:44.0531904;-121.3629071
X-APPLE-STRUCTURED-LOCATION;VALUE=URI;X-ADDRESS=Embark 2843 NW Lolo Dr. Bend OR 97703 United States;X-APPLE-RADIUS=500;X-TITLE=2843 NW Lolo Dr.:geo:-121.3629071,44.0531904
END:VEVENT
BEGIN:VEVENT
DTSTART;TZID=America/Los_Angeles:20250220T190000
DTEND;TZID=America/Los_Angeles:20250220T200000
DTSTAMP:20260423T004211
CREATED:20250113T183231Z
LAST-MODIFIED:20250113T183231Z
UID:10004557-1740078000-1740081600@envirocenter.org
SUMMARY:Tiny Titans: Insects of the High Desert
DESCRIPTION:Get ready for an exciting exploration into the crucial role insects play in Oregon’s high desert. Oregon Natural Desert Association’s High Desert Speaker Series continues with Dr. Tara Cornelisse\, invertebrate zoologist\, as she provides insights into the fascinating butterflies\, moths and beetles residing in eastern Oregon. Tara will examine the current state of insect populations\, share facts and stories about key species in the high desert\, and highlight why conserving the high desert is vital for the future of insect populations and the entire ecosystem.
URL:https://envirocenter.org/event/tiny-titans-insects-of-the-high-desert/
LOCATION:OR
CATEGORIES:Advocacy|Climate|Energy|Environmental Justice|Online event|Online Networking,Advocacy|Food|Online event,Advocacy|Food|Online event|Racial Justice,Advocacy|Online event|Transportation,Diversity|Food|Online event,Energy|Film|Online event,Food|Garden,Food|Garden|Volunteer,Food|Online event,Online event,Youth Education
ATTACH;FMTTYPE=image/jpeg:https://envirocenter.org/wp-content/uploads/2025/01/Flowers-and-bug.jpg
ORGANIZER;CN="Oregon Natural Desert Association":MAILTO:corie@onda.org
END:VEVENT
BEGIN:VEVENT
DTSTART;TZID=America/Los_Angeles:20250223T090000
DTEND;TZID=America/Los_Angeles:20250223T160000
DTSTAMP:20260423T004211
CREATED:20250113T202257Z
LAST-MODIFIED:20250113T202329Z
UID:10004566-1740301200-1740326400@envirocenter.org
SUMMARY:SheJumps | WILD SKILLS Junior Ski Patrol | Hoodoo Ski Resort\, OR
DESCRIPTION:Join for the SheJumps Wild Skills Junior Ski Patrol day camp at Hoodoo Ski Resort on Sunday\, February 23rd\, 2025!
URL:https://envirocenter.org/event/shejumps-wild-skills-junior-ski-patrol-hoodoo-ski-resort-or/
LOCATION:Hoodoo Ski Area\, 27400 Big Lake Road\, Sisters\, OR\, 97759\, United States
CATEGORIES:Youth Education
ATTACH;FMTTYPE=image/jpeg:https://envirocenter.org/wp-content/uploads/2025/01/Hoodo.jpeg
GEO:44.4086986;-121.8714522
X-APPLE-STRUCTURED-LOCATION;VALUE=URI;X-ADDRESS=Hoodoo Ski Area 27400 Big Lake Road Sisters OR 97759 United States;X-APPLE-RADIUS=500;X-TITLE=27400 Big Lake Road:geo:-121.8714522,44.4086986
END:VEVENT
BEGIN:VEVENT
DTSTART;TZID=America/Los_Angeles:20250228T080000
DTEND;TZID=America/Los_Angeles:20250228T170000
DTSTAMP:20260423T004211
CREATED:20250228T205049Z
LAST-MODIFIED:20250228T205049Z
UID:10004587-1740729600-1740762000@envirocenter.org
SUMMARY:Trash-fashion Maker-Mentor workshop:
DESCRIPTION:Rubbish Renewed presents free Trash Fashion DESIGN WORKSHOPS in collaboration with DIYcave. \n• How can I create something from nothing?\n• What is the value of trash beyond the landfill?\n• What is its story? \nSign up for one of the first ever Rubbish Renewed free community design workshops! Rubbish Renewed is partnering with DIYcave to inspire and support new and burgeoning trash fashion designers of all ages. We created two 2-hour workshops to help jump-start your vision with an additional 1-hour free studio time gift card from DIYcave. Space is limited to 12 participants for each workshop. Several dedicated designers\, material manipulators\, and technical teachers will be on hand to meet you where you are in the process. Come with garment ideas\, material samples\, and an open mind! \nDesign Workshop 2: Friday\, March 7th 4-6pm. Sign-up by visiting the Applications tab at rubbishrenewed.org or DIYcave.com
URL:https://envirocenter.org/event/trash-fashion-maker-mentor-workshop/
LOCATION:OR
CATEGORIES:Rethink Waste,Youth Education
ATTACH;FMTTYPE=image/webp:https://envirocenter.org/wp-content/uploads/2025/02/Rubbish-workshop.webp
ORGANIZER;CN="Interconnected Diversity":MAILTO:erika@interconnecteddiversity.org
END:VEVENT
BEGIN:VEVENT
DTSTART;TZID=America/Los_Angeles:20250308T130000
DTEND;TZID=America/Los_Angeles:20250308T160000
DTSTAMP:20260423T004211
CREATED:20250225T213804Z
LAST-MODIFIED:20250225T213958Z
UID:10004581-1741438800-1741449600@envirocenter.org
SUMMARY:Kids’ Entrepreneur Spring Market
DESCRIPTION:The Kids’ Entrepreneur Market is an entirely kid-run\, eco-friendly market\, for ages 7-17 to learn entrepreneurship by creating and selling their own products and services\, all while considering the protection of our beloved planet.
URL:https://envirocenter.org/event/kids-entrepreneur-spring-market/
LOCATION:Downtown Bend Library\, 601 NW Wall St.\, Bend\, OR\, 97701\, United States
CATEGORIES:Rethink Waste,Youth Education
ATTACH;FMTTYPE=image/jpeg:https://envirocenter.org/wp-content/uploads/2025/02/Mar.-2025_Instagram.jpg
GEO:44.0572068;-121.3165935
X-APPLE-STRUCTURED-LOCATION;VALUE=URI;X-ADDRESS=Downtown Bend Library 601 NW Wall St. Bend OR 97701 United States;X-APPLE-RADIUS=500;X-TITLE=601 NW Wall St.:geo:-121.3165935,44.0572068
END:VEVENT
BEGIN:VEVENT
DTSTART;TZID=America/Los_Angeles:20250309T090000
DTEND;TZID=America/Los_Angeles:20250309T140000
DTSTAMP:20260423T004211
CREATED:20250113T202943Z
LAST-MODIFIED:20250113T202943Z
UID:10004567-1741510800-1741528800@envirocenter.org
SUMMARY:SheJumps | Get the Girls Out! | Mt. Bachelor\, OR
DESCRIPTION:Join SheJumps as they celebrate Get the Girls Out! – a nationwide campaign uniting women and girls- transgender and cisgender- as well as non-binary individuals to embrace the great outdoors while fostering a sense of adventure and camaraderie. At the start of each session they will have participants group up depending on terrain they want to ski/ride for each session. The prize drawing will include prizes from awesome sponsors and more! Each registered participant will receive one free prize drawing ticket\, with the option to purchase more tickets at the event via cash or card. They need volunteers for this event! Please let Liz Sequeria (lsequeira@shejumps.org) know if you are available to volunteer. Sign-ups coming soon!
URL:https://envirocenter.org/event/shejumps-get-the-girls-out-mt-bachelor-or/
LOCATION:Mt Bachelor Ski Resort\, 13000 Century Dr\, Bend\, OR\, 97702\, United States
CATEGORIES:Diversity|Food|Online event,Equity,Inclusion,Youth Education
ATTACH;FMTTYPE=image/jpeg:https://envirocenter.org/wp-content/uploads/2022/11/SheJumps_2019_Logo.jpg
GEO:43.9977236;-121.4065174
X-APPLE-STRUCTURED-LOCATION;VALUE=URI;X-ADDRESS=Mt Bachelor Ski Resort 13000 Century Dr Bend OR 97702 United States;X-APPLE-RADIUS=500;X-TITLE=13000 Century Dr:geo:-121.4065174,43.9977236
END:VEVENT
BEGIN:VEVENT
DTSTART;TZID=America/Los_Angeles:20250309T130000
DTEND;TZID=America/Los_Angeles:20250309T160000
DTSTAMP:20260423T004211
CREATED:20250225T213843Z
LAST-MODIFIED:20250225T214032Z
UID:10004582-1741525200-1741536000@envirocenter.org
SUMMARY:Kids’ Entrepreneur Spring Market
DESCRIPTION:The Kids’ Entrepreneur Market is an entirely kid-run\, eco-friendly market\, for ages 7-17 to learn entrepreneurship by creating and selling their own products and services\, all while considering the protection of our beloved planet.
URL:https://envirocenter.org/event/kids-entrepreneur-spring-market-2/
LOCATION:Downtown Bend Library\, 601 NW Wall St.\, Bend\, OR\, 97701\, United States
CATEGORIES:Rethink Waste,Youth Education
ATTACH;FMTTYPE=image/jpeg:https://envirocenter.org/wp-content/uploads/2025/02/Mar.-2025_Instagram.jpg
GEO:44.0572068;-121.3165935
X-APPLE-STRUCTURED-LOCATION;VALUE=URI;X-ADDRESS=Downtown Bend Library 601 NW Wall St. Bend OR 97701 United States;X-APPLE-RADIUS=500;X-TITLE=601 NW Wall St.:geo:-121.3165935,44.0572068
END:VEVENT
BEGIN:VEVENT
DTSTART;TZID=America/Los_Angeles:20250425T180000
DTEND;TZID=America/Los_Angeles:20250425T200000
DTSTAMP:20260423T004211
CREATED:20250114T011646Z
LAST-MODIFIED:20250114T011646Z
UID:10004573-1745604000-1745611200@envirocenter.org
SUMMARY:El día de los niños/El día de los libros (Children's Day/Book Day)
DESCRIPTION:El día de los niños/El diía de los libros (Children’s Day/Book Day)\, commonly known as Día\, is a celebration every day of children\, families\, and reading that culminates yearly on April 30. \nDía is a nationally recognized initiative that emphasizes the importance of literacy for all children of all linguistic and cultural backgrounds. It is a daily commitment to linking children and their families to diverse books\, languages\, and cultures. The common goals of all Día programming are to: \n\nCelebrate children and connect them to the world of learning through books\, stories and libraries.\nNurture cognitive and literacy development in ways that honor and embrace a child’s home language and culture.\nIntroduce families to community resources that provide opportunities for learning through multiple literacies.\nRecognize and respect culture\, heritage and language as powerful tools for strengthening families and communities.\n\nWHAT: El Dia de los Niños\, El Dia de los Libros also known as EL DIA (Childrenś Day/Book Day) \nWHEN: Friday\, April 25th\, 2025  from 6 to 8 pm (Partners arriving from 5 pm on) \nWHERE: Hugh Hartman Elementary School\, Redmond\, Oregon\nEl Dia event is organized in partnership with the Deschutes Public Library (liaison Diana Hernandez)\, and Hugh Hartman Elementary School part of  Redmond School District. (liaison Jessica Pickens).
URL:https://envirocenter.org/event/el-dia-de-los-ninos-el-dia-de-los-libros-childrens-day-book-day/
LOCATION:Hugh Hartman Elementary School\, 2105 W Antler Ave\, Redmond\, OR\, 97756\, United States
CATEGORIES:Advocacy|Climate|Energy|Environmental Justice|Online event|Online Networking,Advocacy|Food|Online event,Advocacy|Food|Online event|Racial Justice,Advocacy|Online event|Transportation,Diversity|Food|Online event,Energy|Film|Online event,Food|Garden,Food|Garden|Volunteer,Food|Online event,Inclusion,Youth Education
ATTACH;FMTTYPE=image/png:https://envirocenter.org/wp-content/uploads/2025/01/dia-webheader.png
GEO:44.27733;-121.1917507
X-APPLE-STRUCTURED-LOCATION;VALUE=URI;X-ADDRESS=Hugh Hartman Elementary School 2105 W Antler Ave Redmond OR 97756 United States;X-APPLE-RADIUS=500;X-TITLE=2105 W Antler Ave:geo:-121.1917507,44.27733
END:VEVENT
BEGIN:VEVENT
DTSTART;TZID=America/Los_Angeles:20250426T110000
DTEND;TZID=America/Los_Angeles:20250426T150000
DTSTAMP:20260423T004211
CREATED:20250407T203456Z
LAST-MODIFIED:20250407T203952Z
UID:10004615-1745665200-1745679600@envirocenter.org
SUMMARY:Earth Day Fair and Celebration
DESCRIPTION:The Environmental Center is thrilled to host their family-friendly Earth Day Fair and Celebration on Saturday\, April 26th\, from 11:00am to 3pm. This outdoor event features and celebrates our community through music and dance performances\, local food vendors\, businesses and nonprofits from across the region\, electric cars demonstrations\, an activity zone for all ages\, and more! \nInterested in volunteering? Sign up here! \nEarth Day Fair & Celebration 2025 Schedule\n11:00am | Welcoming remarks from The Environmental Center. \n\n11:05-11:45am | Join Teafly and the Earth Guardians for a fun\, interactive storytelling event celebrating Earth Day! This magical experience invites participants to become living representations of our beautiful planet. Dress up as your favorite part of the Earth—whether it’s the lush forests\, the babbling rivers\, the majestic mountains\, or the vibrant wildlife—and step onto the runway and into the story! Bring your imagination\, your costumes\, and your love for nature to share in this one-of-a-kind experience! \n\n12:00pm-1pm | Midday will feature performances by Ollin Yolliztli PDX-Traditional Aztec Dancing\, accompanied by traditional Mayan drumming led by Maya T’aan Oregon. \n\n1:15pm-1:45pm | Community Singing with Kira Seto. Join Kira Seto of Voices Rising Community Choir in a joyful celebration of our Earth with a participatory singing experience that welcomes the natural voice and unites us all. Through the simple act of singing together\, we’ll connect with the gifts and preciousness of our natural world. From soulful to silly\, you’ll pick up easy-to-learn songs—from simple pocket songs to polyphonic pieces—all taught by ear in a matter of minutes. Come try it and be delighted by the beautiful sound we can make together! Bring a water bottle and your authentic self. Everyone is welcome—no experience required! \n\n2:00pm-3:00pm | Hokule’a of Central Oregon- ”From the gentle movements of the Hula from the islands of Hawaii to the rhythmic beats of Tahiti. Hokule’a brings the islands to you through dance and live drumming\, sharing our history and culture with everyone.” \n\n11:00-3:00pm | Fair featuring an activity zone\, electric vehicles showcase\, garden activities\, free face painting\, and local food and vendors.
URL:https://envirocenter.org/event/earth-day-fair-and-celebration/
LOCATION:The Environmental Center\, 16 NW Kansas Avenue\, Bend\, OR\, 97703
CATEGORIES:Earth Day,Earth Day|Food|Music|Volunteer|Youth Education,Earth Day|Garden|Youth Education,Earth Day|Inclusion,Earth Day|Volunteer,Earth Day|Youth Education,Electric Vehicles,Food|Music,Volunteer,Youth Education
ATTACH;FMTTYPE=image/jpeg:https://envirocenter.org/wp-content/uploads/2025/04/Copy-of-Half-Poster-Mountain-Film-2025-5.5-x-17-in-11-x-17-in.jpg
ORGANIZER;CN="The Environmental Center":MAILTO:info@envirocenter.org
GEO:44.055562;-121.3143083
X-APPLE-STRUCTURED-LOCATION;VALUE=URI;X-ADDRESS=The Environmental Center 16 NW Kansas Avenue Bend OR 97703;X-APPLE-RADIUS=500;X-TITLE=16 NW Kansas Avenue:geo:-121.3143083,44.055562
END:VEVENT
BEGIN:VEVENT
DTSTART;TZID=America/Los_Angeles:20260425T110000
DTEND;TZID=America/Los_Angeles:20260425T150000
DTSTAMP:20260423T004211
CREATED:20260327T203336Z
LAST-MODIFIED:20260327T203336Z
UID:10004745-1777114800-1777129200@envirocenter.org
SUMMARY:Earth Day Fair and Celebration
DESCRIPTION:An Annual Celebration of Earth And Community. \nThis family-friendly event will feature a lively and inclusive celebration where people of all ages are encouraged to wear costumes that showcase their favorite thing about planet Earth. The fair will feature food vendors\, booths\, performers and artists.
URL:https://envirocenter.org/event/earth-day-fair-and-celebration-2/
LOCATION:Alpenglow Community Park\, 61049 SE 15th St OR 97702\, Bend\, OR\, 97702\, United States
CATEGORIES:Earth Day,Volunteer,Youth Education
ATTACH;FMTTYPE=image/jpeg:https://envirocenter.org/wp-content/uploads/2026/03/Earth-Day-2026-Instagram-Flyer.jpg
ORGANIZER;CN="The Environmental Center":MAILTO:info@envirocenter.org
GEO:44.0181215;-121.2843775
X-APPLE-STRUCTURED-LOCATION;VALUE=URI;X-ADDRESS=Alpenglow Community Park 61049 SE 15th St OR 97702 Bend OR 97702 United States;X-APPLE-RADIUS=500;X-TITLE=61049 SE 15th St OR 97702:geo:-121.2843775,44.0181215
END:VEVENT
END:VCALENDAR