BEGIN:VCALENDAR
VERSION:2.0
PRODID:-//The Environmental Center - ECPv6.15.20//NONSGML v1.0//EN
CALSCALE:GREGORIAN
METHOD:PUBLISH
X-WR-CALNAME:The Environmental Center
X-ORIGINAL-URL:https://envirocenter.org
X-WR-CALDESC:Events for The Environmental Center
REFRESH-INTERVAL;VALUE=DURATION:PT1H
X-Robots-Tag:noindex
X-PUBLISHED-TTL:PT1H
BEGIN:VTIMEZONE
TZID:America/Los_Angeles
BEGIN:DAYLIGHT
TZOFFSETFROM:-0800
TZOFFSETTO:-0700
TZNAME:PDT
DTSTART:20230312T100000
END:DAYLIGHT
BEGIN:STANDARD
TZOFFSETFROM:-0700
TZOFFSETTO:-0800
TZNAME:PST
DTSTART:20231105T090000
END:STANDARD
BEGIN:DAYLIGHT
TZOFFSETFROM:-0800
TZOFFSETTO:-0700
TZNAME:PDT
DTSTART:20240310T100000
END:DAYLIGHT
BEGIN:STANDARD
TZOFFSETFROM:-0700
TZOFFSETTO:-0800
TZNAME:PST
DTSTART:20241103T090000
END:STANDARD
BEGIN:DAYLIGHT
TZOFFSETFROM:-0800
TZOFFSETTO:-0700
TZNAME:PDT
DTSTART:20250309T100000
END:DAYLIGHT
BEGIN:STANDARD
TZOFFSETFROM:-0700
TZOFFSETTO:-0800
TZNAME:PST
DTSTART:20251102T090000
END:STANDARD
END:VTIMEZONE
BEGIN:VEVENT
DTSTART;TZID=America/Los_Angeles:20240801T190000
DTEND;TZID=America/Los_Angeles:20240801T200000
DTSTAMP:20260423T014239
CREATED:20240722T225743Z
LAST-MODIFIED:20240722T225743Z
UID:10004465-1722538800-1722542400@envirocenter.org
SUMMARY:Fire in the Sky: Unlocking the Secrets of the Earth's Aurorae
DESCRIPTION:Join Sunriver Nature Center & Observatory for an illuminating lecture on one of nature’s most captivating phenomena—the aurora. Professor Shane L. Larson\, an esteemed astrophysicist and engaging speaker\, will guide us through the scientific wonders and myths surrounding the Earth’s aurorae\, commonly known as the Northern and Southern Lights.
URL:https://envirocenter.org/event/fire-in-the-sky-unlocking-the-secrets-of-the-earths-aurorae/
LOCATION:OR
CATEGORIES:Youth Education
ATTACH;FMTTYPE=image/jpeg:https://envirocenter.org/wp-content/uploads/2024/07/unnamed-89.jpg
ORGANIZER;CN="Sunriver Nature Center & Oregon Observatory":MAILTO:office@sunrivernaturecenter.org
END:VEVENT
BEGIN:VEVENT
DTSTART;TZID=America/Los_Angeles:20240803T100000
DTEND;TZID=America/Los_Angeles:20240803T130000
DTSTAMP:20260423T014239
CREATED:20240429T192409Z
LAST-MODIFIED:20240429T192409Z
UID:10004401-1722679200-1722690000@envirocenter.org
SUMMARY:Kids' Entrepreneur Summer Market
DESCRIPTION:Kids’ Entrepreneur Summer Market Details: A market for kids ages 5-17 in our community who make and sell their own products & services. This is a real-world experience that allows children to be creative\, build confidence\, and learn skills beyond the classroom. \nDate: Saturday\, August 3\, 2024 Time: 10am-1pm  \nLocation: Troy Field – 51 NW Louisiana Ave\, Bend\, OR 97701  \nCost: Free to attend. To participate: $10-$20.  \nRegister to participate: www.KidsEntrepreneurMarket.com \n 
URL:https://envirocenter.org/event/kids-entrepreneur-summer-market/
LOCATION:Troy Field\, 51 NW Louisiana Avenue\, Bend\, OR\, 97701\, United States
CATEGORIES:Youth Education
GEO:44.056061;-121.314407
X-APPLE-STRUCTURED-LOCATION;VALUE=URI;X-ADDRESS=Troy Field 51 NW Louisiana Avenue Bend OR 97701 United States;X-APPLE-RADIUS=500;X-TITLE=51 NW Louisiana Avenue:geo:-121.314407,44.056061
END:VEVENT
BEGIN:VEVENT
DTSTART;TZID=America/Los_Angeles:20240815T083000
DTEND;TZID=America/Los_Angeles:20240815T160000
DTSTAMP:20260423T014239
CREATED:20240516T212248Z
LAST-MODIFIED:20240516T212248Z
UID:10004426-1723710600-1723737600@envirocenter.org
SUMMARY:Stream Sampling on Whychus Creek
DESCRIPTION:Sampling aquatic insects\, including mayflies and stoneflies\, provides important insights into the health of Whychus Creek. Volunteers meet at Creekside Park in Sisters for a sampling training\, then\, in teams of two to four\, use nets to collect aquatic insect samples from the stream at sites along Whychus. This event is a great opportunity to learn about habitat restoration on Whychus Creek for salmon and steelhead\, spend a day along less-visited reaches of the creek\, and contribute to knowledge about how restoration actions are changing stream conditions. \nUDWC will host our 14th annual Stream Sampling on Whychus Creek event on August 15th and 16th\, 2024! This will be our 14th consecutive year collecting aquatic insect (macroinvertebrate) samples to learn about how physical habitat conditions for native trout and salmon and other aquatic organisms are changing alongside stream flow and stream habitat restoration work by UDWC and our partners. \n2024 sample collection will focus on the following reaches of Whychus Creek: \n\nRecently restored reaches at Deschutes Land Trust’s Rimrock Ranch Preserve\, and at Creekside Park in Sisters;\nOlder restoration sites including Whychus Canyon Preserve Phase 1\, Camp Polk Meadow Preserve upstream reaches\, and Whychus Floodplain on National Forest lands upstream of Sisters);\nSamples from unrestored\, “control” reaches at Whychus Canyon Preserve; and\nSamples from Alder Springs and upstream of USFS Road 6360\, both affected by stream flow restoration but where no habitat restoration has occurred.\n\nWe will collect 18 samples over two days with restoration partners and community volunteers\, working in teams of 2-4. You can register for one day or both at the links below: \nThursday\, August 15th REGISTER \nFriday\, August 16th REGISTER
URL:https://envirocenter.org/event/stream-sampling-on-whychus-creek-4/2024-08-15/
LOCATION:Creekside City Park\, Sisters\, OR\, 97759\, United States
CATEGORIES:Public Lands,Science,Volunteer,Water,Youth Education
ATTACH;FMTTYPE=image/jpeg:https://envirocenter.org/wp-content/uploads/2024/05/https___cdn.evbuc_.com_images_724449229_28090328441_1_original.jpg
ORGANIZER;CN="Upper Deschutes Watershed Council":MAILTO:lmork@restorethedeschutes.org
GEO:44.2909491;-121.5492118
END:VEVENT
BEGIN:VEVENT
DTSTART;TZID=America/Los_Angeles:20240816T083000
DTEND;TZID=America/Los_Angeles:20240816T160000
DTSTAMP:20260423T014239
CREATED:20240516T212248Z
LAST-MODIFIED:20240516T212248Z
UID:10004427-1723797000-1723824000@envirocenter.org
SUMMARY:Stream Sampling on Whychus Creek
DESCRIPTION:Sampling aquatic insects\, including mayflies and stoneflies\, provides important insights into the health of Whychus Creek. Volunteers meet at Creekside Park in Sisters for a sampling training\, then\, in teams of two to four\, use nets to collect aquatic insect samples from the stream at sites along Whychus. This event is a great opportunity to learn about habitat restoration on Whychus Creek for salmon and steelhead\, spend a day along less-visited reaches of the creek\, and contribute to knowledge about how restoration actions are changing stream conditions. \nUDWC will host our 14th annual Stream Sampling on Whychus Creek event on August 15th and 16th\, 2024! This will be our 14th consecutive year collecting aquatic insect (macroinvertebrate) samples to learn about how physical habitat conditions for native trout and salmon and other aquatic organisms are changing alongside stream flow and stream habitat restoration work by UDWC and our partners. \n2024 sample collection will focus on the following reaches of Whychus Creek: \n\nRecently restored reaches at Deschutes Land Trust’s Rimrock Ranch Preserve\, and at Creekside Park in Sisters;\nOlder restoration sites including Whychus Canyon Preserve Phase 1\, Camp Polk Meadow Preserve upstream reaches\, and Whychus Floodplain on National Forest lands upstream of Sisters);\nSamples from unrestored\, “control” reaches at Whychus Canyon Preserve; and\nSamples from Alder Springs and upstream of USFS Road 6360\, both affected by stream flow restoration but where no habitat restoration has occurred.\n\nWe will collect 18 samples over two days with restoration partners and community volunteers\, working in teams of 2-4. You can register for one day or both at the links below: \nThursday\, August 15th REGISTER \nFriday\, August 16th REGISTER
URL:https://envirocenter.org/event/stream-sampling-on-whychus-creek-4/2024-08-16/
LOCATION:Creekside City Park\, Sisters\, OR\, 97759\, United States
CATEGORIES:Public Lands,Science,Volunteer,Water,Youth Education
ATTACH;FMTTYPE=image/jpeg:https://envirocenter.org/wp-content/uploads/2024/05/https___cdn.evbuc_.com_images_724449229_28090328441_1_original.jpg
ORGANIZER;CN="Upper Deschutes Watershed Council":MAILTO:lmork@restorethedeschutes.org
GEO:44.2909491;-121.5492118
END:VEVENT
BEGIN:VEVENT
DTSTART;TZID=America/Los_Angeles:20240818T100000
DTEND;TZID=America/Los_Angeles:20240818T130000
DTSTAMP:20260423T014239
CREATED:20240809T213839Z
LAST-MODIFIED:20240809T213839Z
UID:10004468-1723975200-1723986000@envirocenter.org
SUMMARY:SheJumps x COTA x Trail Sisters of Bend l Trail Work Event l Bend\, OR
DESCRIPTION:Please join SheJumps as they partner with Women of COTA and Trail Sisters of Bend for a day of trail work and learning!\nWhether running\, hiking\, mountain biking\, or exercising with our dogs\, hitting the trails is an important part of our lives in Central Oregon. That’s why they’re bringing together three amazing women-led groups to learn about trail maintenance and to have a little work party of their own! \nWhen: Sunday\, August 18\, 2024 at 10:00 am \nWhere: Please join at Swampy Lakes Sno-Park (Location is subject to change based on conditions or controlled burns. Participants will be notified in advance if the location changes). \nCost: Free! (Suggested donation of $5 to SheJumps) \nDetails: This event will focus on education about COTA and trail maintenance. You’ll learn about drainage\, sight lines\, native vegetation\, brushing and so much more about the trails we all use. \nTimeline of Events:\n10:00 am- Meet at Swampy Lakes Sno-Park\n~10:05 am- Introductions and Safety Talk\n~10:30 am-12:45 pm Learn as we work on trails\n~12:45 pm-Wrap up and thank yous \nWhat to Bring: Come ready to work with sturdy/closed-toe shoes\, long pants and clothes you don’t mind getting dirty. Bring work gloves\, eye protection (sunglasses or clear lenses)\, sunscreen/chapstick\, water\, lunch/snacks and a backpack to carry your things. WoCOTA will provide all tools and hard hats. This will be a fun day of learning\, getting dirty\, and meeting other trail friends!
URL:https://envirocenter.org/event/shejumps-x-cota-x-trail-sisters-of-bend-l-trail-work-event-l-bend-or/
LOCATION:Swampy Lakes Sno-Park and Trail Head\, Bend\, OR\, 97701\, United States
CATEGORIES:Volunteer,Youth Education
ATTACH;FMTTYPE=image/jpeg:https://envirocenter.org/wp-content/uploads/2024/08/trail-work-event.jpg
GEO:43.98948;-121.5680552
END:VEVENT
END:VCALENDAR