BEGIN:VCALENDAR
VERSION:2.0
PRODID:-//The Environmental Center - ECPv6.15.20//NONSGML v1.0//EN
CALSCALE:GREGORIAN
METHOD:PUBLISH
X-ORIGINAL-URL:https://envirocenter.org
X-WR-CALDESC:Events for The Environmental Center
REFRESH-INTERVAL;VALUE=DURATION:PT1H
X-Robots-Tag:noindex
X-PUBLISHED-TTL:PT1H
BEGIN:VTIMEZONE
TZID:America/Los_Angeles
BEGIN:DAYLIGHT
TZOFFSETFROM:-0800
TZOFFSETTO:-0700
TZNAME:PDT
DTSTART:20230312T100000
END:DAYLIGHT
BEGIN:STANDARD
TZOFFSETFROM:-0700
TZOFFSETTO:-0800
TZNAME:PST
DTSTART:20231105T090000
END:STANDARD
BEGIN:DAYLIGHT
TZOFFSETFROM:-0800
TZOFFSETTO:-0700
TZNAME:PDT
DTSTART:20240310T100000
END:DAYLIGHT
BEGIN:STANDARD
TZOFFSETFROM:-0700
TZOFFSETTO:-0800
TZNAME:PST
DTSTART:20241103T090000
END:STANDARD
BEGIN:DAYLIGHT
TZOFFSETFROM:-0800
TZOFFSETTO:-0700
TZNAME:PDT
DTSTART:20250309T100000
END:DAYLIGHT
BEGIN:STANDARD
TZOFFSETFROM:-0700
TZOFFSETTO:-0800
TZNAME:PST
DTSTART:20251102T090000
END:STANDARD
END:VTIMEZONE
BEGIN:VEVENT
DTSTART;TZID=America/Los_Angeles:20240503T180000
DTEND;TZID=America/Los_Angeles:20240503T210000
DTSTAMP:20260423T132717
CREATED:20240423T205500Z
LAST-MODIFIED:20240423T205500Z
UID:10004213-1714759200-1714770000@envirocenter.org
SUMMARY:ZUMBA FIESTA-FREE event
DESCRIPTION:On May 3rd\, from 6-9 pm\, a special ZUMBA FIESTA-FREE event. We will have a significant presentation by Oscar Gonzalez from the Latino Community Association\, to honor Cinco de Mayo\, for the Battle of Puebla. Children from 8 years old can come on this day. (Further details on the flyer) \nEl 3 de mayo\, de 6-9 pm\, un evento especial de ZUMBA FIESTA-GRATIS. Tendremos a una presentación significativa a cargo de Oscar Gonzalez de la Asociación de la Comunidad Latina\, en honor a las celebración del Cinco de Mayo\, por la Batalla de Puebla. Niños a partir de los 8 años pueden venir este día. (Mayores detalles en el volante)
URL:https://envirocenter.org/event/zumba-fiesta-free-event/
LOCATION:Larkspur Community Center\, 1600 SE Reed Market Rd\, Bend\, OR\, 97703\, United States
CATEGORIES:Diversity,Inclusion,Youth Education
ATTACH;FMTTYPE=image/jpeg:https://envirocenter.org/wp-content/uploads/2024/04/Zumba-Dance-Fiesta.jpg
ORGANIZER;CN="Bend Park and Rec District":MAILTO:Chelsea Schneider 
GEO:44.0378002;-121.2818347
X-APPLE-STRUCTURED-LOCATION;VALUE=URI;X-ADDRESS=Larkspur Community Center 1600 SE Reed Market Rd Bend OR 97703 United States;X-APPLE-RADIUS=500;X-TITLE=1600 SE Reed Market Rd:geo:-121.2818347,44.0378002
END:VEVENT
BEGIN:VEVENT
DTSTART;TZID=America/Los_Angeles:20240504T110000
DTEND;TZID=America/Los_Angeles:20240504T140000
DTSTAMP:20260423T132717
CREATED:20240430T163753Z
LAST-MODIFIED:20240430T163753Z
UID:10004404-1714820400-1714831200@envirocenter.org
SUMMARY:Spring into Nature Festival
DESCRIPTION:Visit the Deschutes Land Trust at the Children’s Forest of Central Oregon’s Spring Into Nature Festival! The Spring Into Nature Festival celebrates the many ways that we all connect with nature. Stop by our table to plant native milkweed seeds to add to your garden or yard and create a monarch butterfly craft. Learn more about the Land Trust’s work while also providing habitat for Western monarch butterflies and other pollinators.
URL:https://envirocenter.org/event/spring-into-nature-festival/
LOCATION:Sahalee Park\, 1 SE 7th Street\, Madras\, OR\, 97744\, United States
CATEGORIES:Garden,Youth Education
ATTACH;FMTTYPE=image/png:https://envirocenter.org/wp-content/uploads/2024/04/c016c1f4-898e-4f89-b502-1610fa4c4a3f.png
GEO:44.6359411;-121.1275153
X-APPLE-STRUCTURED-LOCATION;VALUE=URI;X-ADDRESS=Sahalee Park 1 SE 7th Street Madras OR 97744 United States;X-APPLE-RADIUS=500;X-TITLE=1 SE 7th Street:geo:-121.1275153,44.6359411
END:VEVENT
BEGIN:VEVENT
DTSTART;TZID=America/Los_Angeles:20240507T184500
DTEND;TZID=America/Los_Angeles:20240507T194500
DTSTAMP:20260423T132717
CREATED:20240423T210328Z
LAST-MODIFIED:20240423T211932Z
UID:10004214-1715107500-1715111100@envirocenter.org
SUMMARY:Family Zumba classes
DESCRIPTION:Starting in May\, BPRD will begin with Family Zumba classes at Larkspur. The first two classes on May 7th and 9th will be FREE\, so you can meet instructor Perla Ruiz and explore to see if this class is suitable for you and your family. BPRD is promoting this class first within the Spanish-speaking community. BRPD aims to provide a suitable space for families who can come with their children from the age of 5. Parents or adult caregivers must supervise them at all times. This is the first time we will offer this class in this way\, so please bear with them. Any questions you may have please call at 541-706-1212. \nA partir de mayo empezaremos con clases de Zumba en Familia en Larkspur. Las dos primeras clases del 7 y 9 de mayo serán GRATIS\, así podrá conocer a nuestra instructora Perla Ruiz y explorar y ver si esta clase es conveniente para usted y su familia. Estamos promocionando esta clase primero con la comunidad hispanohablante\, deseamos proporcionar un espacio adecuado para las familias que puedan venir con sus hijos a partir de los 5 añitos. Los papás o personas adultas deben supervisarlos todo el tiempo. Es la primera vez que ofreceremos esta clase así que ténganos paciencia. Cualquier pregunta que tengan los padres pueden llamarme al 541-706-1212.
URL:https://envirocenter.org/event/family-zumba-classes/2024-05-07/
LOCATION:Larkspur Community Center\, 1600 SE Reed Market Rd\, Bend\, OR\, 97703\, United States
CATEGORIES:Inclusion,Youth Education
ATTACH;FMTTYPE=image/jpeg:https://envirocenter.org/wp-content/uploads/2024/04/Zumba-en-familia.jpg
ORGANIZER;CN="Bend Park and Rec District":MAILTO:Chelsea Schneider 
GEO:44.0378002;-121.2818347
X-APPLE-STRUCTURED-LOCATION;VALUE=URI;X-ADDRESS=Larkspur Community Center 1600 SE Reed Market Rd Bend OR 97703 United States;X-APPLE-RADIUS=500;X-TITLE=1600 SE Reed Market Rd:geo:-121.2818347,44.0378002
END:VEVENT
BEGIN:VEVENT
DTSTART;TZID=America/Los_Angeles:20240509T184500
DTEND;TZID=America/Los_Angeles:20240509T194500
DTSTAMP:20260423T132717
CREATED:20240423T210328Z
LAST-MODIFIED:20240423T211932Z
UID:10004215-1715280300-1715283900@envirocenter.org
SUMMARY:Family Zumba classes
DESCRIPTION:Starting in May\, BPRD will begin with Family Zumba classes at Larkspur. The first two classes on May 7th and 9th will be FREE\, so you can meet instructor Perla Ruiz and explore to see if this class is suitable for you and your family. BPRD is promoting this class first within the Spanish-speaking community. BRPD aims to provide a suitable space for families who can come with their children from the age of 5. Parents or adult caregivers must supervise them at all times. This is the first time we will offer this class in this way\, so please bear with them. Any questions you may have please call at 541-706-1212. \nA partir de mayo empezaremos con clases de Zumba en Familia en Larkspur. Las dos primeras clases del 7 y 9 de mayo serán GRATIS\, así podrá conocer a nuestra instructora Perla Ruiz y explorar y ver si esta clase es conveniente para usted y su familia. Estamos promocionando esta clase primero con la comunidad hispanohablante\, deseamos proporcionar un espacio adecuado para las familias que puedan venir con sus hijos a partir de los 5 añitos. Los papás o personas adultas deben supervisarlos todo el tiempo. Es la primera vez que ofreceremos esta clase así que ténganos paciencia. Cualquier pregunta que tengan los padres pueden llamarme al 541-706-1212.
URL:https://envirocenter.org/event/family-zumba-classes/2024-05-09/
LOCATION:Larkspur Community Center\, 1600 SE Reed Market Rd\, Bend\, OR\, 97703\, United States
CATEGORIES:Inclusion,Youth Education
ATTACH;FMTTYPE=image/jpeg:https://envirocenter.org/wp-content/uploads/2024/04/Zumba-en-familia.jpg
ORGANIZER;CN="Bend Park and Rec District":MAILTO:Chelsea Schneider 
GEO:44.0378002;-121.2818347
X-APPLE-STRUCTURED-LOCATION;VALUE=URI;X-ADDRESS=Larkspur Community Center 1600 SE Reed Market Rd Bend OR 97703 United States;X-APPLE-RADIUS=500;X-TITLE=1600 SE Reed Market Rd:geo:-121.2818347,44.0378002
END:VEVENT
BEGIN:VEVENT
DTSTART;TZID=America/Los_Angeles:20240518T103000
DTEND;TZID=America/Los_Angeles:20240518T120000
DTSTAMP:20260423T132717
CREATED:20240509T175757Z
LAST-MODIFIED:20240509T175757Z
UID:10004419-1716028200-1716033600@envirocenter.org
SUMMARY:Nature Kids: Flower Power!
DESCRIPTION:Join the Deschutes Land Trust and Karen Walsh for Nature Kids! Get outside and explore the nature of Central Oregon on guided family nature walks just for kids ages 5-10. Kids and their families can explore\, imagine\, and grow through hands-on activities and experiences outside. During May\, we’ll explore the world of flowers! Learn how a flower’s size\, shape\, color\, and smell have the power to attract unique pollinators. Meet other families\, learn more about the natural world around us\, and have fun! Offered on the second Wednesday and last Saturday of the month April-October at Land Trust Preserves and in Bend. Perfect for kids ages 5-10 with a grown-up in tow. Registration is helpful\, but not required. Registrants will receive important event details and directions leading up to the outing. Registration opens 1 month prior to the event. \nREGISTER HERE!
URL:https://envirocenter.org/event/nature-kids-flower-power/
LOCATION:Whychus Canyon Preserve\, Sisters\, OR\, 97756\, United States
CATEGORIES:Public Lands,Youth Education
ATTACH;FMTTYPE=image/jpeg:https://envirocenter.org/wp-content/uploads/2024/05/NatureKids.jpeg
ORGANIZER;CN="Deschutes Land Trust":MAILTO:event@deschuteslandtrust.org
END:VEVENT
BEGIN:VEVENT
DTSTART;TZID=America/Los_Angeles:20240518T110000
DTEND;TZID=America/Los_Angeles:20240518T150000
DTSTAMP:20260423T132717
CREATED:20240507T184347Z
LAST-MODIFIED:20240507T184347Z
UID:10004413-1716030000-1716044400@envirocenter.org
SUMMARY:COCC Salmon Bake
DESCRIPTION:
URL:https://envirocenter.org/event/cocc-salmon-bake/
LOCATION:COCC\, 2600 NW Collge Way\, Bend\, OR\, 97701\, United States
CATEGORIES:Diversity|Inclusion,Food,Youth Education
GEO:44.0713603;-121.3485532
X-APPLE-STRUCTURED-LOCATION;VALUE=URI;X-ADDRESS=COCC 2600 NW Collge Way Bend OR 97701 United States;X-APPLE-RADIUS=500;X-TITLE=2600 NW Collge Way:geo:-121.3485532,44.0713603
END:VEVENT
BEGIN:VEVENT
DTSTART;TZID=America/Los_Angeles:20240528T180000
DTEND;TZID=America/Los_Angeles:20240528T190000
DTSTAMP:20260423T132717
CREATED:20240319T161713Z
LAST-MODIFIED:20240319T161713Z
UID:10004195-1716919200-1716922800@envirocenter.org
SUMMARY:“Shark Heart” in Real Life – The Science of Studying Sharks
DESCRIPTION:Learn about sharks and current research with Dr. Alexandra McInturf. \nSharks play a critical role in maintaining vibrant ecosystems in Oregon and around the world. Yet\, considered “dangerous” by popular media and threatened by human activity worldwide\, these organisms have faced global population declines. Dr. Alexandra McInturf has been studying shark species worldwide for the last decade\, including those among the most vulnerable. As an animal behaviorist\, she researches some of the most understudied components of these organisms\, including their social behavior. In this presentation\, she will introduce some of the key characteristics of sharks (what makes a shark\, a shark)\, talk about shark diversity\, and finally discuss some of the projects she and other researchers are undertaking on different species (including white sharks) in the Big Fish Lab at Oregon State University.
URL:https://envirocenter.org/event/shark-heart-in-real-life-the-science-of-studying-sharks/
LOCATION:Downtown Bend Library\, 601 NW Wall St.\, Bend\, OR\, 97701\, United States
CATEGORIES:Youth Education
ATTACH;FMTTYPE=image/jpeg:https://envirocenter.org/wp-content/uploads/2024/03/ANI-ScienceStudyingSharks-720x480-1.jpg
ORGANIZER;CN="Deschutes Public Library":MAILTO:laurelw@deschuteslibrary.org
GEO:44.0572068;-121.3165935
X-APPLE-STRUCTURED-LOCATION;VALUE=URI;X-ADDRESS=Downtown Bend Library 601 NW Wall St. Bend OR 97701 United States;X-APPLE-RADIUS=500;X-TITLE=601 NW Wall St.:geo:-121.3165935,44.0572068
END:VEVENT
BEGIN:VEVENT
DTSTART;TZID=America/Los_Angeles:20240529T120000
DTEND;TZID=America/Los_Angeles:20240529T130000
DTSTAMP:20260423T132717
CREATED:20240319T161929Z
LAST-MODIFIED:20240319T161929Z
UID:10004196-1716984000-1716987600@envirocenter.org
SUMMARY:"Shark Heart" in Real Life - The Science of Studying Sharks-Sisters Library
DESCRIPTION:Learn about sharks and current research with Dr. Alexandra McInturf. \nSharks play a critical role in maintaining vibrant ecosystems in Oregon and around the world. Yet\, considered “dangerous” by popular media and threatened by human activity worldwide\, these organisms have faced global population declines. Dr. Alexandra McInturf has been studying shark species worldwide for the last decade\, including those among the most vulnerable. As an animal behaviorist\, she researches some of the most understudied components of these organisms\, including their social behavior. In this presentation\, she will introduce some of the key characteristics of sharks (what makes a shark\, a shark)\, talk about shark diversity\, and finally discuss some of the projects she and other researchers are undertaking on different species (including white sharks) in the Big Fish Lab at Oregon State University.
URL:https://envirocenter.org/event/shark-heart-in-real-life-the-science-of-studying-sharks-sisters-library/
LOCATION:Deschutes Public Library – Sisters\, 110 N Cedar St\, Sisters\, OR\, 97759\, United States
CATEGORIES:Youth Education
ATTACH;FMTTYPE=image/jpeg:https://envirocenter.org/wp-content/uploads/2024/03/ANI-ScienceStudyingSharks-720x480-1.jpg
ORGANIZER;CN="Deschutes Public Library":MAILTO:laurelw@deschuteslibrary.org
GEO:44.291691;-121.544664
X-APPLE-STRUCTURED-LOCATION;VALUE=URI;X-ADDRESS=Deschutes Public Library – Sisters 110 N Cedar St Sisters OR 97759 United States;X-APPLE-RADIUS=500;X-TITLE=110 N Cedar St:geo:-121.544664,44.291691
END:VEVENT
END:VCALENDAR