BEGIN:VCALENDAR
VERSION:2.0
PRODID:-//The Environmental Center - ECPv6.15.20//NONSGML v1.0//EN
CALSCALE:GREGORIAN
METHOD:PUBLISH
X-WR-CALNAME:The Environmental Center
X-ORIGINAL-URL:https://envirocenter.org
X-WR-CALDESC:Events for The Environmental Center
REFRESH-INTERVAL;VALUE=DURATION:PT1H
X-Robots-Tag:noindex
X-PUBLISHED-TTL:PT1H
BEGIN:VTIMEZONE
TZID:America/Los_Angeles
BEGIN:DAYLIGHT
TZOFFSETFROM:-0800
TZOFFSETTO:-0700
TZNAME:PDT
DTSTART:20220313T100000
END:DAYLIGHT
BEGIN:STANDARD
TZOFFSETFROM:-0700
TZOFFSETTO:-0800
TZNAME:PST
DTSTART:20221106T090000
END:STANDARD
BEGIN:DAYLIGHT
TZOFFSETFROM:-0800
TZOFFSETTO:-0700
TZNAME:PDT
DTSTART:20230312T100000
END:DAYLIGHT
BEGIN:STANDARD
TZOFFSETFROM:-0700
TZOFFSETTO:-0800
TZNAME:PST
DTSTART:20231105T090000
END:STANDARD
BEGIN:DAYLIGHT
TZOFFSETFROM:-0800
TZOFFSETTO:-0700
TZNAME:PDT
DTSTART:20240310T100000
END:DAYLIGHT
BEGIN:STANDARD
TZOFFSETFROM:-0700
TZOFFSETTO:-0800
TZNAME:PST
DTSTART:20241103T090000
END:STANDARD
END:VTIMEZONE
BEGIN:VEVENT
DTSTART;TZID=America/Los_Angeles:20230502T160000
DTEND;TZID=America/Los_Angeles:20230502T180000
DTSTAMP:20260425T094710
CREATED:20230222T221831Z
LAST-MODIFIED:20230504T040915Z
UID:10003964-1683043200-1683050400@envirocenter.org
SUMMARY:Happy Hour in the Garden
DESCRIPTION:Join us in our Kansas Avenue Learning Garden for our ongoing volunteer work party series. In 2022\, volunteers contributed over 200 hours to help keep our learning garden maintained over the growing season. We couldn’t do it without you! \nThis event is open to all ages and gardening abilities! No experience or tools required. Beer and non-alcoholic beverages are provided for all who volunteer. Each event includes seasonal ongoing tasks as well as special projects as needed throughout the growing season. Volunteers are welcome to pop in for an hour or stay the whole time. No need to RSVP or commit ahead of time. (Pro tip – put the following dates in your phone calendar now – then when it pops up you can decide if it works out for you or not!) \nIn 2023\, Happy Hour in the Garden will once again run twice a month from March through October. This schedule throughout the extent of the growing season offers meaningful volunteer experiences for all who come\, and deeper care for the garden when it needs it. \nFor Spring 2023\, our Happy Hours will be 4-6pm\, on the 1st & 3rd Tuesdays of the month. \nMarch & April Happy Hours sponsored by Wild Ride Brewing \n\nMarch 7 & 21\nApril 4 & 18\n\nMay & June Happy Hours sponsored by Worthy Environmental \n\nMay 2 & 16\nJune 6 & 20\n\nStay tuned for confirmation of dates for July through October\, as these might switch to the 2nd & 4th…) \nContact Denise\, Garden Program Manager\, if you have any questions about getting involved.
URL:https://envirocenter.org/event/happy-hour-in-the-garden-17/
LOCATION:The Environmental Center\, 16 NW Kansas Avenue\, Bend\, OR\, 97703
CATEGORIES:Food,Garden,Volunteer,Youth Education
ATTACH;FMTTYPE=image/jpeg:https://envirocenter.org/wp-content/uploads/2018/04/DSC6905-e1524508190728.jpg
ORGANIZER;CN="Denise Rowcroft%2C The Environmental Center":MAILTO:denise@envirocenter.org
GEO:44.055562;-121.3143083
X-APPLE-STRUCTURED-LOCATION;VALUE=URI;X-ADDRESS=The Environmental Center 16 NW Kansas Avenue Bend OR 97703;X-APPLE-RADIUS=500;X-TITLE=16 NW Kansas Avenue:geo:-121.3143083,44.055562
END:VEVENT
BEGIN:VEVENT
DTSTART;TZID=America/Los_Angeles:20230516T160000
DTEND;TZID=America/Los_Angeles:20230516T180000
DTSTAMP:20260425T094710
CREATED:20230222T222215Z
LAST-MODIFIED:20230504T040915Z
UID:10002073-1684252800-1684260000@envirocenter.org
SUMMARY:Happy Hour in the Garden
DESCRIPTION:Join us in our Kansas Avenue Learning Garden for our ongoing volunteer work party series. In 2022\, volunteers contributed over 200 hours to help keep our learning garden maintained over the growing season. We couldn’t do it without you! \nThis event is open to all ages and gardening abilities! No experience or tools required. Beer and non-alcoholic beverages are provided for all who volunteer. Each event includes seasonal ongoing tasks as well as special projects as needed throughout the growing season. Volunteers are welcome to pop in for an hour or stay the whole time. No need to RSVP or commit ahead of time. (Pro tip – put the following dates in your phone calendar now – then when it pops up you can decide if it works out for you or not!) \nIn 2023\, Happy Hour in the Garden will once again run twice a month from March through October. This schedule throughout the extent of the growing season offers meaningful volunteer experiences for all who come\, and deeper care for the garden when it needs it. \nFor Spring 2023\, our Happy Hours will be 4-6pm\, on the 1st & 3rd Tuesdays of the month. \nMarch & April Happy Hours sponsored by Wild Ride Brewing \n\nMarch 7 & 21\nApril 4 & 18\n\nMay & June Happy Hours sponsored by Worthy Environmental \n\nMay 2 & 16\nJune 6 & 20\n\nStay tuned for confirmation of dates for July through October\, as these might switch to the 2nd & 4th…) \nContact Denise\, Garden Program Manager\, if you have any questions about getting involved.
URL:https://envirocenter.org/event/happy-hour-in-the-garden-18/
LOCATION:The Environmental Center\, 16 NW Kansas Avenue\, Bend\, OR\, 97703
CATEGORIES:Food,Garden,Volunteer,Youth Education
ATTACH;FMTTYPE=image/jpeg:https://envirocenter.org/wp-content/uploads/2018/04/DSC6905-e1524508190728.jpg
ORGANIZER;CN="Denise Rowcroft%2C The Environmental Center":MAILTO:denise@envirocenter.org
GEO:44.055562;-121.3143083
X-APPLE-STRUCTURED-LOCATION;VALUE=URI;X-ADDRESS=The Environmental Center 16 NW Kansas Avenue Bend OR 97703;X-APPLE-RADIUS=500;X-TITLE=16 NW Kansas Avenue:geo:-121.3143083,44.055562
END:VEVENT
BEGIN:VEVENT
DTSTART;TZID=America/Los_Angeles:20230530T150000
DTEND;TZID=America/Los_Angeles:20230530T183000
DTSTAMP:20260425T094710
CREATED:20230522T173922Z
LAST-MODIFIED:20230522T174401Z
UID:10004004-1685458800-1685471400@envirocenter.org
SUMMARY:VIRTUAL Workshop: Supporting Gender Expansive and Transgender Youth
DESCRIPTION:The TransActive Gender Project is based in Portland and provides a holistic range of services and expertise to empower transgender and gender expansive children\, youth\, and their families to live healthy lives that are free of discrimination. Workshop participants will gain a better understanding of gender identity development\, cultural gender myths\, and stereotypes and their impact on gender diverse and transgender children. This workshop will focus on demonstrating inclusive language\, how to address bullying\, and ways to analyze curriculum and programs. We’ll also be joined by Jamie Bowman\, a local LGBTQIA+ advocate who is co-founder of the Central Oregon Transgender Health Coalition. \nAll educators are welcome to attend though the content will focus on out-of-school and summer programs. \nThis workshop has been organized by The Environmental Center\, Camp Tamarack\, and the Children’s Forest of Central Oregon with support from High Desert ESD. \nREGISTER HERE FOR VIRTUAL WORKSHOP \nNote: Registration is separate for the in-person workshop on June 12th.
URL:https://envirocenter.org/event/virtual-workshop-supporting-gender-expansive-and-transgender-youth/
LOCATION:Online Event
CATEGORIES:Online event,Youth Education
ATTACH;FMTTYPE=image/jpeg:https://envirocenter.org/wp-content/uploads/2023/05/https___cdn.evbuc_.com_images_496424129_201503051345_1_original.jpeg
ORGANIZER;CN="The Environmental Center":MAILTO:info@envirocenter.org
END:VEVENT
END:VCALENDAR