BEGIN:VCALENDAR
VERSION:2.0
PRODID:-//The Environmental Center - ECPv6.15.20//NONSGML v1.0//EN
CALSCALE:GREGORIAN
METHOD:PUBLISH
X-WR-CALNAME:The Environmental Center
X-ORIGINAL-URL:https://envirocenter.org
X-WR-CALDESC:Events for The Environmental Center
REFRESH-INTERVAL;VALUE=DURATION:PT1H
X-Robots-Tag:noindex
X-PUBLISHED-TTL:PT1H
BEGIN:VTIMEZONE
TZID:America/Los_Angeles
BEGIN:DAYLIGHT
TZOFFSETFROM:-0800
TZOFFSETTO:-0700
TZNAME:PDT
DTSTART:20230312T100000
END:DAYLIGHT
BEGIN:STANDARD
TZOFFSETFROM:-0700
TZOFFSETTO:-0800
TZNAME:PST
DTSTART:20231105T090000
END:STANDARD
BEGIN:DAYLIGHT
TZOFFSETFROM:-0800
TZOFFSETTO:-0700
TZNAME:PDT
DTSTART:20240310T100000
END:DAYLIGHT
BEGIN:STANDARD
TZOFFSETFROM:-0700
TZOFFSETTO:-0800
TZNAME:PST
DTSTART:20241103T090000
END:STANDARD
BEGIN:DAYLIGHT
TZOFFSETFROM:-0800
TZOFFSETTO:-0700
TZNAME:PDT
DTSTART:20250309T100000
END:DAYLIGHT
BEGIN:STANDARD
TZOFFSETFROM:-0700
TZOFFSETTO:-0800
TZNAME:PST
DTSTART:20251102T090000
END:STANDARD
END:VTIMEZONE
BEGIN:VEVENT
DTSTART;TZID=America/Los_Angeles:20240402T173000
DTEND;TZID=America/Los_Angeles:20240402T193000
DTSTAMP:20260421T034203
CREATED:20231208T180246Z
LAST-MODIFIED:20231208T180246Z
UID:10004128-1712079000-1712086200@envirocenter.org
SUMMARY:Whychus Creek Watershed Speaker Series: Learn About Your Home Waters
DESCRIPTION:Co-presented by the Upper Deschutes Watershed Council\, a six-part informational speaker series about Whychus Creek and its watershed. Learn about Whychus Creek’s history\, hydrology\, water quality\, habitat conditions\, native fish\, recreation\, conservation\, and stream restoration. There are five classroom sessions and one full-day field trip. Field trip date will be determined during the series.\n\n\n\n\nClassroom sessions are every other Tuesday\, 2/6\, 2/20\, 3/5\, 3/19\, 4/2. Field trip date is tentatively scheduled for the end of April\, and will be finalized during the lecture series.
URL:https://envirocenter.org/event/whychus-creek-watershed-speaker-series-learn-about-your-home-waters/2024-04-02/
LOCATION:Sisters Public Library\, 110 N Cedar St\, Sisters\, OR\, 97759\, United States
CATEGORIES:Water
ATTACH;FMTTYPE=image/jpeg:https://envirocenter.org/wp-content/uploads/2023/12/COCC-Whychus-Creek-Watershed-Speaker-Series.jpg
GEO:44.2918194;-121.5446829
X-APPLE-STRUCTURED-LOCATION;VALUE=URI;X-ADDRESS=Sisters Public Library 110 N Cedar St Sisters OR 97759 United States;X-APPLE-RADIUS=500;X-TITLE=110 N Cedar St:geo:-121.5446829,44.2918194
END:VEVENT
BEGIN:VEVENT
DTSTART;TZID=America/Los_Angeles:20240403T180000
DTEND;TZID=America/Los_Angeles:20240403T190000
DTSTAMP:20260421T034203
CREATED:20240329T013753Z
LAST-MODIFIED:20240329T013753Z
UID:10004200-1712167200-1712170800@envirocenter.org
SUMMARY:Webcast: Geology and Natural History of the John Day River Basin
DESCRIPTION:The geology of the John Day basin is complex and records a rich history of changing environments including deep oceans\, subtropical rainforests\, temperate forests\, and sagebrush steppes. Volcanic and tectonic activity in the region not only built the land that we see today\, but also helps us to know the age of the rocks that the land is built from. The John Day River and its tributaries\, both current and ancestral\, have helped to expose many of these rocks and to even deposit some of them\, allowing us to learn and explore these stories. The John Day River basin is critical to our understanding of the past of the region which is preserved through a variety of public and private land. \nJoin us on April 3rd at 6pm as we welcome Nicholas Famoso\, Paleontology Program Manager for the John Day Fossil Beds National Monument\, to take us on a journey through the geologic and natural history of the John Day River basin. \nWe will be raffling off a copy of Oregon’s Ancient Forests: A Hiking Guide and a “Wild: The Oregon Way” t-shirt. Tickets are $5 and are an optional purchase below. Raffle tickets not only help us continue these Wednesday presentations but also support our work safeguarding Oregon’s wildlands\, wildlife\, and waters. \nREGISTER HERE
URL:https://envirocenter.org/event/webcast-geology-and-natural-history-of-the-john-day-river-basin/
LOCATION:Online Event
CATEGORIES:Online event,Public Lands,Water
ATTACH;FMTTYPE=image/jpeg:https://envirocenter.org/wp-content/uploads/2024/03/JDwebcast_1200x628.jpg
ORGANIZER;CN="Oregon Wild":MAILTO:ph@oregonwild.org
END:VEVENT
END:VCALENDAR