BEGIN:VCALENDAR
VERSION:2.0
PRODID:-//The Environmental Center - ECPv6.15.20//NONSGML v1.0//EN
CALSCALE:GREGORIAN
METHOD:PUBLISH
X-WR-CALNAME:The Environmental Center
X-ORIGINAL-URL:https://envirocenter.org
X-WR-CALDESC:Events for The Environmental Center
REFRESH-INTERVAL;VALUE=DURATION:PT1H
X-Robots-Tag:noindex
X-PUBLISHED-TTL:PT1H
BEGIN:VTIMEZONE
TZID:America/Los_Angeles
BEGIN:DAYLIGHT
TZOFFSETFROM:-0800
TZOFFSETTO:-0700
TZNAME:PDT
DTSTART:20230312T100000
END:DAYLIGHT
BEGIN:STANDARD
TZOFFSETFROM:-0700
TZOFFSETTO:-0800
TZNAME:PST
DTSTART:20231105T090000
END:STANDARD
BEGIN:DAYLIGHT
TZOFFSETFROM:-0800
TZOFFSETTO:-0700
TZNAME:PDT
DTSTART:20240310T100000
END:DAYLIGHT
BEGIN:STANDARD
TZOFFSETFROM:-0700
TZOFFSETTO:-0800
TZNAME:PST
DTSTART:20241103T090000
END:STANDARD
BEGIN:DAYLIGHT
TZOFFSETFROM:-0800
TZOFFSETTO:-0700
TZNAME:PDT
DTSTART:20250309T100000
END:DAYLIGHT
BEGIN:STANDARD
TZOFFSETFROM:-0700
TZOFFSETTO:-0800
TZNAME:PST
DTSTART:20251102T090000
END:STANDARD
END:VTIMEZONE
BEGIN:VEVENT
DTSTART;TZID=America/Los_Angeles:20240301T133000
DTEND;TZID=America/Los_Angeles:20240301T150000
DTSTAMP:20260420T225143
CREATED:20240223T045937Z
LAST-MODIFIED:20240226T190704Z
UID:10004168-1709299800-1709305200@envirocenter.org
SUMMARY:OPB Think Out Loud: How Central Oregon is responding to ongoing drought
DESCRIPTION:Be part of the audience for an engaging\, solution-oriented discussion about how Central Oregon is tackling the ongoing drought. “Think Out Loud” host Dave Miller will talk with local officials\, policy makers\, advocates\, irrigators\, conservationists and water users of all kinds. Discover the innovative strategies and initiatives being implemented to conserve water and safeguard the environment and economic interests. This in-person event will be held at Riverhouse on the Deschutes in Bend\, in the Deschutes South room. Audience participation is welcomed. \nDoors open at 1:30 with light refreshments\, and the show will start promptly at 2pm.
URL:https://envirocenter.org/event/opb-think-out-loud-how-central-oregon-is-responding-to-ongoing-drought/
LOCATION:Riverhouse on the Deschutes\, 2850 Rippling River Court\, Bend\, OR\, 97701\, United States
CATEGORIES:Climate,Water
ATTACH;FMTTYPE=image/png:https://envirocenter.org/wp-content/uploads/2024/02/obp.png
GEO:44.0788727;-121.306652
X-APPLE-STRUCTURED-LOCATION;VALUE=URI;X-ADDRESS=Riverhouse on the Deschutes 2850 Rippling River Court Bend OR 97701 United States;X-APPLE-RADIUS=500;X-TITLE=2850 Rippling River Court:geo:-121.306652,44.0788727
END:VEVENT
BEGIN:VEVENT
DTSTART;TZID=America/Los_Angeles:20240305T173000
DTEND;TZID=America/Los_Angeles:20240305T193000
DTSTAMP:20260420T225143
CREATED:20231208T180246Z
LAST-MODIFIED:20231208T180246Z
UID:10004126-1709659800-1709667000@envirocenter.org
SUMMARY:Whychus Creek Watershed Speaker Series: Learn About Your Home Waters
DESCRIPTION:Co-presented by the Upper Deschutes Watershed Council\, a six-part informational speaker series about Whychus Creek and its watershed. Learn about Whychus Creek’s history\, hydrology\, water quality\, habitat conditions\, native fish\, recreation\, conservation\, and stream restoration. There are five classroom sessions and one full-day field trip. Field trip date will be determined during the series.\n\n\n\n\nClassroom sessions are every other Tuesday\, 2/6\, 2/20\, 3/5\, 3/19\, 4/2. Field trip date is tentatively scheduled for the end of April\, and will be finalized during the lecture series.
URL:https://envirocenter.org/event/whychus-creek-watershed-speaker-series-learn-about-your-home-waters/2024-03-05/
LOCATION:Sisters Public Library\, 110 N Cedar St\, Sisters\, OR\, 97759\, United States
CATEGORIES:Water
ATTACH;FMTTYPE=image/jpeg:https://envirocenter.org/wp-content/uploads/2023/12/COCC-Whychus-Creek-Watershed-Speaker-Series.jpg
GEO:44.2918194;-121.5446829
X-APPLE-STRUCTURED-LOCATION;VALUE=URI;X-ADDRESS=Sisters Public Library 110 N Cedar St Sisters OR 97759 United States;X-APPLE-RADIUS=500;X-TITLE=110 N Cedar St:geo:-121.5446829,44.2918194
END:VEVENT
BEGIN:VEVENT
DTSTART;TZID=America/Los_Angeles:20240309T090000
DTEND;TZID=America/Los_Angeles:20240309T101500
DTSTAMP:20260420T225143
CREATED:20240212T194856Z
LAST-MODIFIED:20240212T194856Z
UID:10004163-1709974800-1709979300@envirocenter.org
SUMMARY:Bye Lawn\, High Desert! How Turf Rebates Can Help
DESCRIPTION:Are you looking to update your landscape and save water? The City of Bend Water Conservation program is offering a Turf Removal Rebate to convert thirsty lawns into low water use landscapes. The result is a gorgeous High Desert landscape that provides a colorful\, biodiverse\, pollinator-friendly\, and waterwise alternative to traditional lawns! \nIn this webinar\, hosted by the City of Bend\, Oregon you will learn how to: \n\nPlan and Prepare for your Lawn Conversion\nRemove Turf Without the Use of Chemicals\nUse Highly Efficient Irrigation\nSuccessfully Apply for the Turf Removal Rebate
URL:https://envirocenter.org/event/bye-lawn-high-desert-how-turf-rebates-can-help/
LOCATION:Online Event
CATEGORIES:Climate,Garden,Online event,Water
ATTACH;FMTTYPE=image/jpeg:https://envirocenter.org/wp-content/uploads/2024/02/bye-lawn-high-desert.jpeg
ORGANIZER;CN="City of Bend":MAILTO:brankin@bendoregon.gov
END:VEVENT
BEGIN:VEVENT
DTSTART;TZID=America/Los_Angeles:20240312T180000
DTEND;TZID=America/Los_Angeles:20240312T191500
DTSTAMP:20260420T225143
CREATED:20240212T195650Z
LAST-MODIFIED:20240212T195650Z
UID:10004164-1710266400-1710270900@envirocenter.org
SUMMARY:Bye Lawn\, High Desert! How Turf Rebates Can Help
DESCRIPTION:Are you looking to update your landscape and save water? The City of Bend Water Conservation program is offering a Turf Removal Rebate to convert thirsty lawns into low water use landscapes. The result is a gorgeous High Desert landscape that provides a colorful\, biodiverse\, pollinator-friendly\, and waterwise alternative to traditional lawns! \nIn this webinar\, hosted by the City of Bend\, Oregon you will learn how to: \n\nPlan and Prepare for your Lawn Conversion\nRemove Turf Without the Use of Chemicals\nUse Highly Efficient Irrigation\nSuccessfully Apply for the Turf Removal Rebate
URL:https://envirocenter.org/event/bye-lawn-high-desert-how-turf-rebates-can-help-2/
LOCATION:Online Event
CATEGORIES:Climate,Garden,Online event,Water
ATTACH;FMTTYPE=image/jpeg:https://envirocenter.org/wp-content/uploads/2024/02/bye-lawn-high-desert.jpeg
ORGANIZER;CN="City of Bend":MAILTO:brankin@bendoregon.gov
END:VEVENT
BEGIN:VEVENT
DTSTART;TZID=America/Los_Angeles:20240319T173000
DTEND;TZID=America/Los_Angeles:20240319T193000
DTSTAMP:20260420T225143
CREATED:20231208T180246Z
LAST-MODIFIED:20231208T180246Z
UID:10004127-1710869400-1710876600@envirocenter.org
SUMMARY:Whychus Creek Watershed Speaker Series: Learn About Your Home Waters
DESCRIPTION:Co-presented by the Upper Deschutes Watershed Council\, a six-part informational speaker series about Whychus Creek and its watershed. Learn about Whychus Creek’s history\, hydrology\, water quality\, habitat conditions\, native fish\, recreation\, conservation\, and stream restoration. There are five classroom sessions and one full-day field trip. Field trip date will be determined during the series.\n\n\n\n\nClassroom sessions are every other Tuesday\, 2/6\, 2/20\, 3/5\, 3/19\, 4/2. Field trip date is tentatively scheduled for the end of April\, and will be finalized during the lecture series.
URL:https://envirocenter.org/event/whychus-creek-watershed-speaker-series-learn-about-your-home-waters/2024-03-19/
LOCATION:Sisters Public Library\, 110 N Cedar St\, Sisters\, OR\, 97759\, United States
CATEGORIES:Water
ATTACH;FMTTYPE=image/jpeg:https://envirocenter.org/wp-content/uploads/2023/12/COCC-Whychus-Creek-Watershed-Speaker-Series.jpg
GEO:44.2918194;-121.5446829
X-APPLE-STRUCTURED-LOCATION;VALUE=URI;X-ADDRESS=Sisters Public Library 110 N Cedar St Sisters OR 97759 United States;X-APPLE-RADIUS=500;X-TITLE=110 N Cedar St:geo:-121.5446829,44.2918194
END:VEVENT
BEGIN:VEVENT
DTSTART;TZID=America/Los_Angeles:20240319T173000
DTEND;TZID=America/Los_Angeles:20240319T193000
DTSTAMP:20260420T225143
CREATED:20240208T173003Z
LAST-MODIFIED:20240314T191420Z
UID:10004161-1710869400-1710876600@envirocenter.org
SUMMARY:Science Pub: Klamath Dam Removal and Beyond
DESCRIPTION:The largest dam removal in U.S. history is underway on Oregon’s Klamath River. Come hear from OSU’s biological engineer Desiree Tullos and anthropologist Bryan Tilt about the complex issues involved in the project including the hopeful impacts for ecosystems and Native peoples. \nWhen:  Tuesday\, March 19\, 2024\n5:30 p.m. – 6 p.pm\, Networking\n9 p.m. – 7:15 p.m.\, Presentation and Q&A \nRegistration Fee:\n$22 per person includes:\nNetworking\nHeavy hors d’oeuvres prepared by OSU-Cascades’ Edge Catering\nNo-host bar with beer\, wine\, cider and non-alcoholic beverages. \nEvent Limited to 100 people \nWhere:\nOSU-Cascades\nEdward J. Ray Hall\n1500 SW Chandler Ave\nBend Oregon 97702 \nFor any questions regarding payment for registration or event\, please email events@osucascades.edu \nFull refunds provided for cancelations submitted 48 hours prior to event start day/time (no later than 5:30 p.m.\, Sunday\, March 17th)
URL:https://envirocenter.org/event/science-pub-klamath-dam-removal-and-beyond/
LOCATION:OSU Cascades – Edward J. Ray Hall\, Atrium\, 1500 SW Chandler Ave\, Bend\, OR\, 97702\, United States
CATEGORIES:Climate,Public Lands,Science,Social Justice,Water
ATTACH;FMTTYPE=image/png:https://envirocenter.org/wp-content/uploads/2023/09/bb39ea-b987-458d-968f-94767f2a1bdd.png
GEO:44.0428983;-121.3334261
X-APPLE-STRUCTURED-LOCATION;VALUE=URI;X-ADDRESS=OSU Cascades – Edward J. Ray Hall Atrium 1500 SW Chandler Ave Bend OR 97702 United States;X-APPLE-RADIUS=500;X-TITLE=1500 SW Chandler Ave:geo:-121.3334261,44.0428983
END:VEVENT
BEGIN:VEVENT
DTSTART;TZID=America/Los_Angeles:20240320T180000
DTEND;TZID=America/Los_Angeles:20240320T191500
DTSTAMP:20260420T225143
CREATED:20240212T195805Z
LAST-MODIFIED:20240212T195805Z
UID:10004165-1710957600-1710962100@envirocenter.org
SUMMARY:Bye Lawn\, High Desert! How Turf Rebates Can Help
DESCRIPTION:Are you looking to update your landscape and save water? The City of Bend Water Conservation program is offering a Turf Removal Rebate to convert thirsty lawns into low water use landscapes. The result is a gorgeous High Desert landscape that provides a colorful\, biodiverse\, pollinator-friendly\, and waterwise alternative to traditional lawns! \nIn this webinar\, hosted by the City of Bend\, Oregon you will learn how to: \n\nPlan and Prepare for your Lawn Conversion\nRemove Turf Without the Use of Chemicals\nUse Highly Efficient Irrigation\nSuccessfully Apply for the Turf Removal Rebate
URL:https://envirocenter.org/event/bye-lawn-high-desert-how-turf-rebates-can-help-3/
LOCATION:Online Event
CATEGORIES:Climate,Garden,Online event,Water
ATTACH;FMTTYPE=image/jpeg:https://envirocenter.org/wp-content/uploads/2024/02/bye-lawn-high-desert.jpeg
ORGANIZER;CN="City of Bend":MAILTO:brankin@bendoregon.gov
END:VEVENT
END:VCALENDAR