BEGIN:VCALENDAR
VERSION:2.0
PRODID:-//The Environmental Center - ECPv6.15.20//NONSGML v1.0//EN
CALSCALE:GREGORIAN
METHOD:PUBLISH
X-ORIGINAL-URL:https://envirocenter.org
X-WR-CALDESC:Events for The Environmental Center
REFRESH-INTERVAL;VALUE=DURATION:PT1H
X-Robots-Tag:noindex
X-PUBLISHED-TTL:PT1H
BEGIN:VTIMEZONE
TZID:America/Los_Angeles
BEGIN:DAYLIGHT
TZOFFSETFROM:-0800
TZOFFSETTO:-0700
TZNAME:PDT
DTSTART:20230312T100000
END:DAYLIGHT
BEGIN:STANDARD
TZOFFSETFROM:-0700
TZOFFSETTO:-0800
TZNAME:PST
DTSTART:20231105T090000
END:STANDARD
BEGIN:DAYLIGHT
TZOFFSETFROM:-0800
TZOFFSETTO:-0700
TZNAME:PDT
DTSTART:20240310T100000
END:DAYLIGHT
BEGIN:STANDARD
TZOFFSETFROM:-0700
TZOFFSETTO:-0800
TZNAME:PST
DTSTART:20241103T090000
END:STANDARD
BEGIN:DAYLIGHT
TZOFFSETFROM:-0800
TZOFFSETTO:-0700
TZNAME:PDT
DTSTART:20250309T100000
END:DAYLIGHT
BEGIN:STANDARD
TZOFFSETFROM:-0700
TZOFFSETTO:-0800
TZNAME:PST
DTSTART:20251102T090000
END:STANDARD
END:VTIMEZONE
BEGIN:VEVENT
DTSTART;TZID=America/Los_Angeles:20240206T173000
DTEND;TZID=America/Los_Angeles:20240206T193000
DTSTAMP:20260420T225650
CREATED:20231208T180246Z
LAST-MODIFIED:20231208T180246Z
UID:10004124-1707240600-1707247800@envirocenter.org
SUMMARY:Whychus Creek Watershed Speaker Series: Learn About Your Home Waters
DESCRIPTION:Co-presented by the Upper Deschutes Watershed Council\, a six-part informational speaker series about Whychus Creek and its watershed. Learn about Whychus Creek’s history\, hydrology\, water quality\, habitat conditions\, native fish\, recreation\, conservation\, and stream restoration. There are five classroom sessions and one full-day field trip. Field trip date will be determined during the series.\n\n\n\n\nClassroom sessions are every other Tuesday\, 2/6\, 2/20\, 3/5\, 3/19\, 4/2. Field trip date is tentatively scheduled for the end of April\, and will be finalized during the lecture series.
URL:https://envirocenter.org/event/whychus-creek-watershed-speaker-series-learn-about-your-home-waters/2024-02-06/
LOCATION:Sisters Public Library\, 110 N Cedar St\, Sisters\, OR\, 97759\, United States
CATEGORIES:Water
ATTACH;FMTTYPE=image/jpeg:https://envirocenter.org/wp-content/uploads/2023/12/COCC-Whychus-Creek-Watershed-Speaker-Series.jpg
GEO:44.2918194;-121.5446829
X-APPLE-STRUCTURED-LOCATION;VALUE=URI;X-ADDRESS=Sisters Public Library 110 N Cedar St Sisters OR 97759 United States;X-APPLE-RADIUS=500;X-TITLE=110 N Cedar St:geo:-121.5446829,44.2918194
END:VEVENT
BEGIN:VEVENT
DTSTART;TZID=America/Los_Angeles:20240220T173000
DTEND;TZID=America/Los_Angeles:20240220T193000
DTSTAMP:20260420T225650
CREATED:20231208T180246Z
LAST-MODIFIED:20231208T180246Z
UID:10004125-1708450200-1708457400@envirocenter.org
SUMMARY:Whychus Creek Watershed Speaker Series: Learn About Your Home Waters
DESCRIPTION:Co-presented by the Upper Deschutes Watershed Council\, a six-part informational speaker series about Whychus Creek and its watershed. Learn about Whychus Creek’s history\, hydrology\, water quality\, habitat conditions\, native fish\, recreation\, conservation\, and stream restoration. There are five classroom sessions and one full-day field trip. Field trip date will be determined during the series.\n\n\n\n\nClassroom sessions are every other Tuesday\, 2/6\, 2/20\, 3/5\, 3/19\, 4/2. Field trip date is tentatively scheduled for the end of April\, and will be finalized during the lecture series.
URL:https://envirocenter.org/event/whychus-creek-watershed-speaker-series-learn-about-your-home-waters/2024-02-20/
LOCATION:Sisters Public Library\, 110 N Cedar St\, Sisters\, OR\, 97759\, United States
CATEGORIES:Water
ATTACH;FMTTYPE=image/jpeg:https://envirocenter.org/wp-content/uploads/2023/12/COCC-Whychus-Creek-Watershed-Speaker-Series.jpg
GEO:44.2918194;-121.5446829
X-APPLE-STRUCTURED-LOCATION;VALUE=URI;X-ADDRESS=Sisters Public Library 110 N Cedar St Sisters OR 97759 United States;X-APPLE-RADIUS=500;X-TITLE=110 N Cedar St:geo:-121.5446829,44.2918194
END:VEVENT
BEGIN:VEVENT
DTSTART;TZID=America/Los_Angeles:20240228T180000
DTEND;TZID=America/Los_Angeles:20240228T200000
DTSTAMP:20260420T225650
CREATED:20240201T223131Z
LAST-MODIFIED:20240201T223131Z
UID:10004159-1709143200-1709150400@envirocenter.org
SUMMARY:Raise the Deschutes - A River Runs Through It
DESCRIPTION:Collaborative Strategies for the Future of the Crooked River \nJoin us for a discussion focused on balancing water conservation\, agricultural needs\, and sustainable management of the Crooked River. This seminar unites experts and community members to explore joint efforts in securing a resilient water future for Crook County — for fish\, farms\, and families alike. \nPanelists:\nBill Nasham – Crook County Water Master\nBruce Scanlon – General Manager of Ochoco Irrigation District\nPeter Lickwar – US Fish and Wildlife Service\nModerator: Lisa Seales – Program Manager – Deschutes River Conservancy \nREGISTER HERE
URL:https://envirocenter.org/event/raise-the-deschutes-a-river-runs-through-it/
LOCATION:Meadow Lakes Golf Course & Restaurant\, 300 Southwest Meadow Lakes Drive\, Prineville\, OR\, United States
CATEGORIES:Agriculture,Climate,Public Lands,Water
ATTACH;FMTTYPE=image/jpeg:https://envirocenter.org/wp-content/uploads/2024/02/Crooked-River-RTD-_Instagram-Post_-_2160-x-1080-px_.jpg
ORGANIZER;CN="Deschutes River Conservancy":MAILTO:marisa@deschutesriver.org
GEO:44.2967758;-120.8534431
X-APPLE-STRUCTURED-LOCATION;VALUE=URI;X-ADDRESS=Meadow Lakes Golf Course & Restaurant 300 Southwest Meadow Lakes Drive Prineville OR United States;X-APPLE-RADIUS=500;X-TITLE=300 Southwest Meadow Lakes Drive:geo:-120.8534431,44.2967758
END:VEVENT
END:VCALENDAR