BEGIN:VCALENDAR
VERSION:2.0
PRODID:-//The Environmental Center - ECPv6.15.20//NONSGML v1.0//EN
CALSCALE:GREGORIAN
METHOD:PUBLISH
X-WR-CALNAME:The Environmental Center
X-ORIGINAL-URL:https://envirocenter.org
X-WR-CALDESC:Events for The Environmental Center
REFRESH-INTERVAL;VALUE=DURATION:PT1H
X-Robots-Tag:noindex
X-PUBLISHED-TTL:PT1H
BEGIN:VTIMEZONE
TZID:America/Los_Angeles
BEGIN:DAYLIGHT
TZOFFSETFROM:-0800
TZOFFSETTO:-0700
TZNAME:PDT
DTSTART:20220313T100000
END:DAYLIGHT
BEGIN:STANDARD
TZOFFSETFROM:-0700
TZOFFSETTO:-0800
TZNAME:PST
DTSTART:20221106T090000
END:STANDARD
BEGIN:DAYLIGHT
TZOFFSETFROM:-0800
TZOFFSETTO:-0700
TZNAME:PDT
DTSTART:20230312T100000
END:DAYLIGHT
BEGIN:STANDARD
TZOFFSETFROM:-0700
TZOFFSETTO:-0800
TZNAME:PST
DTSTART:20231105T090000
END:STANDARD
BEGIN:DAYLIGHT
TZOFFSETFROM:-0800
TZOFFSETTO:-0700
TZNAME:PDT
DTSTART:20240310T100000
END:DAYLIGHT
BEGIN:STANDARD
TZOFFSETFROM:-0700
TZOFFSETTO:-0800
TZNAME:PST
DTSTART:20241103T090000
END:STANDARD
END:VTIMEZONE
BEGIN:VEVENT
DTSTART;TZID=America/Los_Angeles:20230810T083000
DTEND;TZID=America/Los_Angeles:20230811T160000
DTSTAMP:20260422T145548
CREATED:20230802T213555Z
LAST-MODIFIED:20230802T213555Z
UID:10004042-1691656200-1691769600@envirocenter.org
SUMMARY:Stream Sampling on Whychus Creek
DESCRIPTION:Do you have an interest in supporting the Upper Deschutes Watershed Council as a community scientist? They invite you to join them for their annual Stream Sampling Days on Whychus Creek this August 10th or 11th!\n\nSampling the aquatic insect community in restoration project reaches allows our organization and partners to understand the habitat these projects are providing for aquatic critters like bugs and fish. Join on August 10th or 11th (or both!) to collect stream samples along Whychus Creek that will provide information about their restoration projects\, fish habitat\, and stream health. You’ll spend the day with a small team collecting samples from the stream on Deschutes Land Trust preserves and National Forest lands and will have the opportunity to learn about their restoration efforts and see less-visited reaches of the creek.\n\n\n\nPlease register below to volunteer for one day or both. For questions about Stream Sampling\, please contact Lauren Mork at lmork@restorethedeschutes.org \nThursday\, August 10th Registration\nFriday\, August 11th Registration
URL:https://envirocenter.org/event/stream-sampling-on-whychus-creek/
LOCATION:Whychus Creek\, Sisters\, OR\, 97759\, United States
CATEGORIES:Volunteer,Volunteer|Water
ATTACH;FMTTYPE=image/jpeg:https://envirocenter.org/wp-content/uploads/2023/08/MacroCount2015-6865_LowRes-768x512-1.jpg
ORGANIZER;CN="Upper Deschutes Watershed Council":MAILTO:lmork@restorethedeschutes.org
END:VEVENT
END:VCALENDAR