BEGIN:VCALENDAR
VERSION:2.0
PRODID:-//The Environmental Center - ECPv6.15.20//NONSGML v1.0//EN
CALSCALE:GREGORIAN
METHOD:PUBLISH
X-WR-CALNAME:The Environmental Center
X-ORIGINAL-URL:https://envirocenter.org
X-WR-CALDESC:Events for The Environmental Center
REFRESH-INTERVAL;VALUE=DURATION:PT1H
X-Robots-Tag:noindex
X-PUBLISHED-TTL:PT1H
BEGIN:VTIMEZONE
TZID:America/Los_Angeles
BEGIN:DAYLIGHT
TZOFFSETFROM:-0800
TZOFFSETTO:-0700
TZNAME:PDT
DTSTART:20230312T100000
END:DAYLIGHT
BEGIN:STANDARD
TZOFFSETFROM:-0700
TZOFFSETTO:-0800
TZNAME:PST
DTSTART:20231105T090000
END:STANDARD
BEGIN:DAYLIGHT
TZOFFSETFROM:-0800
TZOFFSETTO:-0700
TZNAME:PDT
DTSTART:20240310T100000
END:DAYLIGHT
BEGIN:STANDARD
TZOFFSETFROM:-0700
TZOFFSETTO:-0800
TZNAME:PST
DTSTART:20241103T090000
END:STANDARD
BEGIN:DAYLIGHT
TZOFFSETFROM:-0800
TZOFFSETTO:-0700
TZNAME:PDT
DTSTART:20250309T100000
END:DAYLIGHT
BEGIN:STANDARD
TZOFFSETFROM:-0700
TZOFFSETTO:-0800
TZNAME:PST
DTSTART:20251102T090000
END:STANDARD
END:VTIMEZONE
BEGIN:VEVENT
DTSTART;TZID=America/Los_Angeles:20240928T090000
DTEND;TZID=America/Los_Angeles:20240928T140000
DTSTAMP:20260422T153706
CREATED:20240827T180305Z
LAST-MODIFIED:20240827T180305Z
UID:10004497-1727514000-1727532000@envirocenter.org
SUMMARY:Drop it\, Swap it - FREE Reduce and Reuse Event 2024
DESCRIPTION:Drop it Swap it is an event where people bring small\, portable items that are clean and in good working condition\, which they no longer want or need. Items are dropped off early\, categorized\, and then displayed on swap tables where participants can browse and find something new to take home. These Free Swaps are a fantastic way to give new life to items\, reduce waste\, and prevent things from ending up in the landfill. Additionally\, the event fosters a strong sense of community\, offering residents a chance to meet and connect with like-minded individuals. \nDate : September 28\, 2024\nTime : Drop it! 9am -10:30am\nSwap it! 12pm- 2pm\nLocation : Deschutes County Road Department Parking Lot\n61150 SE 27th Street\, Bend\, OR 97702 \nWhy Participate?\nThis event isn’t just about finding something new – it’s about making a difference. By participating in Drop It\, Swap It\, you’re helping to keep perfectly good items out of the landfill and giving them a second life. It’s a fun\, eco-friendly way to de-clutter your home and discover hidden treasures from others in our community! \nHow It Works: \n\nDrop It: Bring your unwanted\, portable items to the event from 9-10:30am at the Deschutes County Roads Department. Items will be sorted by category to make browsing easy.\nSwap It: Once the items are set up\, the swap begins\, 12-2pm! Browse the tables\, find items that catch your eye\, and take them home- all for free!
URL:https://envirocenter.org/event/drop-it-swap-it-free-reduce-and-reuse-event-2024/
LOCATION:Deschutes County Road Department Parking Lot\, Southeast 27th Street\, Bend\, OR\, 97702\, United States
CATEGORIES:Rethink Waste
ATTACH;FMTTYPE=image/png:https://envirocenter.org/wp-content/uploads/2024/08/save_the_date_24.png
GEO:44.0202261;-121.2614682
X-APPLE-STRUCTURED-LOCATION;VALUE=URI;X-ADDRESS=Deschutes County Road Department Parking Lot Southeast 27th Street Bend OR 97702 United States;X-APPLE-RADIUS=500;X-TITLE=Southeast 27th Street:geo:-121.2614682,44.0202261
END:VEVENT
END:VCALENDAR