BEGIN:VCALENDAR
VERSION:2.0
PRODID:-//The Environmental Center - ECPv6.15.20//NONSGML v1.0//EN
CALSCALE:GREGORIAN
METHOD:PUBLISH
X-WR-CALNAME:The Environmental Center
X-ORIGINAL-URL:https://envirocenter.org
X-WR-CALDESC:Events for The Environmental Center
REFRESH-INTERVAL;VALUE=DURATION:PT1H
X-Robots-Tag:noindex
X-PUBLISHED-TTL:PT1H
BEGIN:VTIMEZONE
TZID:America/Los_Angeles
BEGIN:DAYLIGHT
TZOFFSETFROM:-0800
TZOFFSETTO:-0700
TZNAME:PDT
DTSTART:20160313T100000
END:DAYLIGHT
BEGIN:STANDARD
TZOFFSETFROM:-0700
TZOFFSETTO:-0800
TZNAME:PST
DTSTART:20161106T090000
END:STANDARD
BEGIN:DAYLIGHT
TZOFFSETFROM:-0800
TZOFFSETTO:-0700
TZNAME:PDT
DTSTART:20170312T100000
END:DAYLIGHT
BEGIN:STANDARD
TZOFFSETFROM:-0700
TZOFFSETTO:-0800
TZNAME:PST
DTSTART:20171105T090000
END:STANDARD
BEGIN:DAYLIGHT
TZOFFSETFROM:-0800
TZOFFSETTO:-0700
TZNAME:PDT
DTSTART:20180311T100000
END:DAYLIGHT
BEGIN:STANDARD
TZOFFSETFROM:-0700
TZOFFSETTO:-0800
TZNAME:PST
DTSTART:20181104T090000
END:STANDARD
END:VTIMEZONE
BEGIN:VEVENT
DTSTART;VALUE=DATE:20171118
DTEND;VALUE=DATE:20171119
DTSTAMP:20260420T175116
CREATED:20171018T060831Z
LAST-MODIFIED:20230503T200633Z
UID:10002897-1511002800-1511010000@envirocenter.org
SUMMARY:Fall Repair Cafe
DESCRIPTION:Our Fall Repair Cafe will be at the Bend Habitat for Humanity ReStore on Saturday November 18th\, from 11am – 1pm. Volunteers will be on hand to attempt to repair your broken items\, for FREE! Items to bring include clothes\, outdoor gear\, electronics and small appliances\, jewelry\, small furniture and household goods. You may bring multiple items\, but only 1 item will be repaired at a time. \nNEW! Since this event will be at a ReStore\, we will be accepting items to be repaired for donation. Items will be limited to the kinds of things that ReStore normally accepts for resale. You will have to stay with your item\, just as you would as if you were bringing it home. If it can be successfully repaired\, it will be accepted for resale at ReStore. If the item cannot be repaired\, it will be your responsibility to take it with you for recycling or disposal.
URL:https://envirocenter.org/event/fall-repair-cafe/
LOCATION:Deschutes Brewery Public House\, 1044 NW Bond St\, Bend\, OR\, 97701\, United States
CATEGORIES:Repair Cafe
GEO:44.0593984;-121.3113079
X-APPLE-STRUCTURED-LOCATION;VALUE=URI;X-ADDRESS=Deschutes Brewery Public House 1044 NW Bond St Bend OR 97701 United States;X-APPLE-RADIUS=500;X-TITLE=1044 NW Bond St:geo:-121.3113079,44.0593984
END:VEVENT
END:VCALENDAR