BEGIN:VCALENDAR
VERSION:2.0
PRODID:-//The Environmental Center - ECPv6.15.20//NONSGML v1.0//EN
CALSCALE:GREGORIAN
METHOD:PUBLISH
X-ORIGINAL-URL:https://envirocenter.org
X-WR-CALDESC:Events for The Environmental Center
REFRESH-INTERVAL;VALUE=DURATION:PT1H
X-Robots-Tag:noindex
X-PUBLISHED-TTL:PT1H
BEGIN:VTIMEZONE
TZID:America/Los_Angeles
BEGIN:DAYLIGHT
TZOFFSETFROM:-0800
TZOFFSETTO:-0700
TZNAME:PDT
DTSTART:20230312T100000
END:DAYLIGHT
BEGIN:STANDARD
TZOFFSETFROM:-0700
TZOFFSETTO:-0800
TZNAME:PST
DTSTART:20231105T090000
END:STANDARD
BEGIN:DAYLIGHT
TZOFFSETFROM:-0800
TZOFFSETTO:-0700
TZNAME:PDT
DTSTART:20240310T100000
END:DAYLIGHT
BEGIN:STANDARD
TZOFFSETFROM:-0700
TZOFFSETTO:-0800
TZNAME:PST
DTSTART:20241103T090000
END:STANDARD
BEGIN:DAYLIGHT
TZOFFSETFROM:-0800
TZOFFSETTO:-0700
TZNAME:PDT
DTSTART:20250309T100000
END:DAYLIGHT
BEGIN:STANDARD
TZOFFSETFROM:-0700
TZOFFSETTO:-0800
TZNAME:PST
DTSTART:20251102T090000
END:STANDARD
END:VTIMEZONE
BEGIN:VEVENT
DTSTART;TZID=America/Los_Angeles:20240220T180000
DTEND;TZID=America/Los_Angeles:20240220T193000
DTSTAMP:20260422T145759
CREATED:20240104T215310Z
LAST-MODIFIED:20240104T215310Z
UID:10004146-1708452000-1708457400@envirocenter.org
SUMMARY:Black Joy: A Strategy for Freedom\, Healing\, and Reckoning
DESCRIPTION:As the author of the 2023 NAACP Image Award-winning book\, Black Joy: Stories of Resistance\, Resilience\, and Restoration\, Tracey Michae’l Lewis-Giggetts will present a blueprint for making space for Black joy in the world\, workplace\, the classroom\, and our neighborhoods. She will highlight how this is a form of wellness and liberation work that can and should be a core value in any and all diversity\, equity\, and inclusion efforts. \nCOCC Bend Campus\nWille Hall\, Coats Campus Center\nLivestream also available \nRegistration required for in-person and livestream. Register Here!
URL:https://envirocenter.org/event/black-joy-a-strategy-for-freedom-healing-and-reckoning/
LOCATION:375 SW Powerhouse Dr Suite 100\, Bend\, OR\, 97701\, United States
CATEGORIES:Equity|Inclusion|Social Justice,Racial Justice|Social Justice
ATTACH;FMTTYPE=image/jpeg:https://envirocenter.org/wp-content/uploads/2024/01/keynoteeventtmlg.jpg
END:VEVENT
END:VCALENDAR