BEGIN:VCALENDAR
VERSION:2.0
PRODID:-//The Environmental Center - ECPv6.15.20//NONSGML v1.0//EN
CALSCALE:GREGORIAN
METHOD:PUBLISH
X-ORIGINAL-URL:https://envirocenter.org
X-WR-CALDESC:Events for The Environmental Center
REFRESH-INTERVAL;VALUE=DURATION:PT1H
X-Robots-Tag:noindex
X-PUBLISHED-TTL:PT1H
BEGIN:VTIMEZONE
TZID:America/Los_Angeles
BEGIN:DAYLIGHT
TZOFFSETFROM:-0800
TZOFFSETTO:-0700
TZNAME:PDT
DTSTART:20150308T100000
END:DAYLIGHT
BEGIN:STANDARD
TZOFFSETFROM:-0700
TZOFFSETTO:-0800
TZNAME:PST
DTSTART:20151101T090000
END:STANDARD
BEGIN:DAYLIGHT
TZOFFSETFROM:-0800
TZOFFSETTO:-0700
TZNAME:PDT
DTSTART:20160313T100000
END:DAYLIGHT
BEGIN:STANDARD
TZOFFSETFROM:-0700
TZOFFSETTO:-0800
TZNAME:PST
DTSTART:20161106T090000
END:STANDARD
BEGIN:DAYLIGHT
TZOFFSETFROM:-0800
TZOFFSETTO:-0700
TZNAME:PDT
DTSTART:20170312T100000
END:DAYLIGHT
BEGIN:STANDARD
TZOFFSETFROM:-0700
TZOFFSETTO:-0800
TZNAME:PST
DTSTART:20171105T090000
END:STANDARD
BEGIN:DAYLIGHT
TZOFFSETFROM:-0800
TZOFFSETTO:-0700
TZNAME:PDT
DTSTART:20180311T100000
END:DAYLIGHT
BEGIN:STANDARD
TZOFFSETFROM:-0700
TZOFFSETTO:-0800
TZNAME:PST
DTSTART:20181104T090000
END:STANDARD
BEGIN:DAYLIGHT
TZOFFSETFROM:-0800
TZOFFSETTO:-0700
TZNAME:PDT
DTSTART:20190310T100000
END:DAYLIGHT
BEGIN:STANDARD
TZOFFSETFROM:-0700
TZOFFSETTO:-0800
TZNAME:PST
DTSTART:20191103T090000
END:STANDARD
BEGIN:DAYLIGHT
TZOFFSETFROM:-0800
TZOFFSETTO:-0700
TZNAME:PDT
DTSTART:20200308T100000
END:DAYLIGHT
BEGIN:STANDARD
TZOFFSETFROM:-0700
TZOFFSETTO:-0800
TZNAME:PST
DTSTART:20201101T090000
END:STANDARD
BEGIN:DAYLIGHT
TZOFFSETFROM:-0800
TZOFFSETTO:-0700
TZNAME:PDT
DTSTART:20210314T100000
END:DAYLIGHT
BEGIN:STANDARD
TZOFFSETFROM:-0700
TZOFFSETTO:-0800
TZNAME:PST
DTSTART:20211107T090000
END:STANDARD
END:VTIMEZONE
BEGIN:VEVENT
DTSTART;VALUE=DATE:20201015
DTEND;VALUE=DATE:20201016
DTSTAMP:20260423T040939
CREATED:20201002T031550Z
LAST-MODIFIED:20230503T201104Z
UID:10001595-1602763200-1602768600@envirocenter.org
SUMMARY:Indigenous Perspectives on Earth and Sky\, Featuring Chad Kālepa Baybayan
DESCRIPTION:Born and raised on Maui\, Chad Kālepa Baybayan first sailed on Hōkūleʻa in 1975\, a traditionally designed reconstruction of a double-hulled deep-sea oceanic voyaging canoe. He has since sailed on major voyages throughout the Pacific and in 2014 participated as captain and navigator on the Mālama Honua Worldwide voyage\, a 47\,000 nautical mile journey around the world that visited 26 countries and stopped at 85 ports. He currently serves as the Navigator in Residence at the ‘Imiloa Astronomy Center of Hawai‘i developing wayfinding activities\, curriculum materials\, and conducting outreach. In 2007\, his teacher\, Master Navigator Mau Piailug\, on the tiny Micronesian atoll of Satawal\, initiated Kālepa into the order of Pwo\, a three thousand year old society of deep-sea navigators.
URL:https://envirocenter.org/event/indigenous-perspectives-on-earth-and-sky-featuring-chad-kalepa-baybayan/
LOCATION:Deschutes Brewery Public House\, 1044 NW Bond St\, Bend\, OR\, 97701\, United States
CATEGORIES:Online event
GEO:44.0593984;-121.3113079
X-APPLE-STRUCTURED-LOCATION;VALUE=URI;X-ADDRESS=Deschutes Brewery Public House 1044 NW Bond St Bend OR 97701 United States;X-APPLE-RADIUS=500;X-TITLE=1044 NW Bond St:geo:-121.3113079,44.0593984
END:VEVENT
BEGIN:VEVENT
DTSTART;VALUE=DATE:20201008
DTEND;VALUE=DATE:20201009
DTSTAMP:20260423T040939
CREATED:20201007T040629Z
LAST-MODIFIED:20230503T201107Z
UID:10003427-1602178200-1602181800@envirocenter.org
SUMMARY:20 Years of Steens Stewardship
DESCRIPTION:Join ONDA for a look back at milestones from 20 years of advocating for and restoring Steens Mountain\, in a live-stream presentation led by Corinne Handelman\, ONDA’s engagement manager\, along with special guests photographer and frequent ONDA volunteer Sage Brown and ONDA’s program director Mark Salvo. With a history ranging from legal victories to backcountry stories\, this event will dive deep into the complexity of a long-term conservation vision and leave you inspired to look ahead toward the next 20 years of stewarding Steens Mountain.
URL:https://envirocenter.org/event/20-years-of-steens-stewardship/
LOCATION:Deschutes Brewery Public House\, 1044 NW Bond St\, Bend\, OR\, 97701\, United States
CATEGORIES:Online event
GEO:44.0593984;-121.3113079
X-APPLE-STRUCTURED-LOCATION;VALUE=URI;X-ADDRESS=Deschutes Brewery Public House 1044 NW Bond St Bend OR 97701 United States;X-APPLE-RADIUS=500;X-TITLE=1044 NW Bond St:geo:-121.3113079,44.0593984
END:VEVENT
BEGIN:VEVENT
DTSTART;VALUE=DATE:20201007
DTEND;VALUE=DATE:20201008
DTSTAMP:20260423T040939
CREATED:20201007T035941Z
LAST-MODIFIED:20230503T201107Z
UID:10001596-1602086400-1602088200@envirocenter.org
SUMMARY:Exploring Steens Facebook Live Q&A
DESCRIPTION:Pull up a camp chair\, grab a beverage and have your questions ready! \nYou’ll be psyched to explore Steens Mountain when you listen in on a Facebook Live Q&A between Lace Thornberg\, communications manager at ONDA and Matt Wastradowski\, co-author of Pacific Northwest Hiking
URL:https://envirocenter.org/event/exploring-steens-facebook-live-qa/
LOCATION:Deschutes Brewery Public House\, 1044 NW Bond St\, Bend\, OR\, 97701\, United States
CATEGORIES:Online event
GEO:44.0593984;-121.3113079
X-APPLE-STRUCTURED-LOCATION;VALUE=URI;X-ADDRESS=Deschutes Brewery Public House 1044 NW Bond St Bend OR 97701 United States;X-APPLE-RADIUS=500;X-TITLE=1044 NW Bond St:geo:-121.3113079,44.0593984
END:VEVENT
BEGIN:VEVENT
DTSTART;VALUE=DATE:20201007
DTEND;VALUE=DATE:20201008
DTSTAMP:20260423T040939
CREATED:20200923T030956Z
LAST-MODIFIED:20230503T201103Z
UID:10001586-1602072000-1602075600@envirocenter.org
SUMMARY:Oregon State Legislature Candidate Forum
DESCRIPTION:Election season is upon us with candidates running to represent Bendites at the State Legislature in Salem.\nThe Bend Chamber of Commerce is hosting\, in partnership with Miller Lumber and SunWest Builders\, a series of forums to introduce the candidates to the community and learn more about their policy platforms. \nCandidates scheduled to appear:\n-Cheri Helt\n-Emerson Levy\n-Eileen Keilly\n-Tim Knopp\n-Jason Kropf\n-Jack Zika \nThis year\, the Chamber is adapting the format to allow for a virtual discussion of key issues affecting local business and the community. We hope you will join us!
URL:https://envirocenter.org/event/oregon-state-legislature-candidate-forum/
LOCATION:Deschutes Brewery Public House\, 1044 NW Bond St\, Bend\, OR\, 97701\, United States
CATEGORIES:Online event
GEO:44.0593984;-121.3113079
X-APPLE-STRUCTURED-LOCATION;VALUE=URI;X-ADDRESS=Deschutes Brewery Public House 1044 NW Bond St Bend OR 97701 United States;X-APPLE-RADIUS=500;X-TITLE=1044 NW Bond St:geo:-121.3113079,44.0593984
END:VEVENT
BEGIN:VEVENT
DTSTART;VALUE=DATE:20201006
DTEND;VALUE=DATE:20201007
DTSTAMP:20260423T040939
CREATED:20200917T070013Z
LAST-MODIFIED:20230503T201101Z
UID:10003418-1602005400-1602009000@envirocenter.org
SUMMARY:Womxn in Conservation: Striving for Work/Life Balance
DESCRIPTION:Enjoy several short presentations by amazing womxn in conservation sharing how they strive for a healthy work/life balance\, lessons they’ve learned\, struggles they’ve had\, and advice for others. This will be followed by a Q&A panel with speakers.
URL:https://envirocenter.org/event/womxn-in-conservation-striving-for-work-life-balance/
LOCATION:Deschutes Brewery Public House\, 1044 NW Bond St\, Bend\, OR\, 97701\, United States
CATEGORIES:Online event
GEO:44.0593984;-121.3113079
X-APPLE-STRUCTURED-LOCATION;VALUE=URI;X-ADDRESS=Deschutes Brewery Public House 1044 NW Bond St Bend OR 97701 United States;X-APPLE-RADIUS=500;X-TITLE=1044 NW Bond St:geo:-121.3113079,44.0593984
END:VEVENT
BEGIN:VEVENT
DTSTART;TZID=America/Los_Angeles:20201002T180000
DTEND;TZID=America/Los_Angeles:20201002T210000
DTSTAMP:20260423T040939
CREATED:20200818T033110Z
LAST-MODIFIED:20200818T033110Z
UID:10001547-1601661600-1601672400@envirocenter.org
SUMMARY:Wild & Scenic Film Festival
DESCRIPTION:Oregon Natural Desert Association presents the Wild & Scenic Film Festival! Join for an evening of short films showcasing our earth’s natural wonders and the amazing stories of activists working to conserve the environment. \nThe event is fully virtual this year. Enjoy the Wild & Scenic Film Festival\, screened in HD\, from the comfort of your home. The virtual waiting room will open at 5:30PM\, and the livestream will start at 6:00PM. Only one person per household needs to register.
URL:https://envirocenter.org/event/wild-scenic-film-festival-7/
LOCATION:375 SW Powerhouse Dr Suite 100\, Bend\, OR\, 97701\, United States
CATEGORIES:Advocacy,Energy,Film,Online event
ATTACH;FMTTYPE=image/jpeg:https://envirocenter.org/wp-content/uploads/2020/08/Wild-and-scenic-film-festival.jpg
ORGANIZER;CN="Oregon Natural Desert Association":MAILTO:corie@onda.org
END:VEVENT
BEGIN:VEVENT
DTSTART;VALUE=DATE:20200929
DTEND;VALUE=DATE:20200930
DTSTAMP:20260423T040939
CREATED:20200923T030513Z
LAST-MODIFIED:20230503T201103Z
UID:10001585-1601380800-1601384400@envirocenter.org
SUMMARY:Candidate Forum - Deschutes County Commission
DESCRIPTION:Election season is upon us with candidates running to represent Bendites on the Deschutes County Commission.\nThe Bend Chamber of Commerce is hosting\, in partnership with Miller Lumber and SunWest Builders\, this forum to introduce the candidates to the community and learn more about their policy platforms. \nCandidates scheduled to appear:\n-Phil Henderson\n-Phil Chang \nThis year\, the Chamber is adapting the format to allow for a virtual discussion of key issues affecting local business and the community. We hope you will join us!
URL:https://envirocenter.org/event/candidate-forum-deschutes-county-commission/
LOCATION:Deschutes Brewery Public House\, 1044 NW Bond St\, Bend\, OR\, 97701\, United States
CATEGORIES:Online event
GEO:44.0593984;-121.3113079
X-APPLE-STRUCTURED-LOCATION;VALUE=URI;X-ADDRESS=Deschutes Brewery Public House 1044 NW Bond St Bend OR 97701 United States;X-APPLE-RADIUS=500;X-TITLE=1044 NW Bond St:geo:-121.3113079,44.0593984
END:VEVENT
BEGIN:VEVENT
DTSTART;VALUE=DATE:20200924
DTEND;VALUE=DATE:20200925
DTSTAMP:20260423T040939
CREATED:20200917T072713Z
LAST-MODIFIED:20230503T201102Z
UID:10003419-1600948800-1600952400@envirocenter.org
SUMMARY:Bend City Council Candidate Forum
DESCRIPTION:Election season is upon us with candidates running to represent Bendites at City Council. \nThe Bend Chamber of Commerce is excited to host\, in partnership with Miller Lumber and SunWest Builders\, this forum to introduce the candidates to the community and learn more about their policy platforms. \nHear from these candidates for Bend City Council: \nAnthony Broadman\nMichael R Hughes\nAugust Paul Johnson\nMelanie Kebler\nJustin Livingston\nMegan Perkins\nChris Piper\nRita Schenkelberg\nBubba Walters\nRondo \nThis year\, the Chamber is adapting the format to allow for a virtual discussion of key issues affecting local business and the community. We hope you will join us! \n 
URL:https://envirocenter.org/event/bend-city-council-candidate-forum/
LOCATION:Deschutes Brewery Public House\, 1044 NW Bond St\, Bend\, OR\, 97701\, United States
CATEGORIES:Online event
GEO:44.0593984;-121.3113079
X-APPLE-STRUCTURED-LOCATION;VALUE=URI;X-ADDRESS=Deschutes Brewery Public House 1044 NW Bond St Bend OR 97701 United States;X-APPLE-RADIUS=500;X-TITLE=1044 NW Bond St:geo:-121.3113079,44.0593984
END:VEVENT
BEGIN:VEVENT
DTSTART;VALUE=DATE:20200910
DTEND;VALUE=DATE:20200911
DTSTAMP:20260423T040939
CREATED:20200909T020758Z
LAST-MODIFIED:20230503T201056Z
UID:10003409-1599739200-1599744600@envirocenter.org
SUMMARY:Higher Education - Plans for 2020-2021
DESCRIPTION:Join Bend Chamber  for part three in their education and childcare series as they dig into the plans for implementing classes at OSU-Cascades and COCC during the COVID-19 pandemic. \nWhat adjustments will students and professors need to make? How will the workforce pipeline be impacted. Presenters\, Dr. Becky Johnson of OSU-Cascades and Dr. Laurie Chesley of COCC will provide answers and insights.
URL:https://envirocenter.org/event/higher-education-plans-for-2020-2021/
LOCATION:Deschutes Brewery Public House\, 1044 NW Bond St\, Bend\, OR\, 97701\, United States
CATEGORIES:Online event
GEO:44.0593984;-121.3113079
X-APPLE-STRUCTURED-LOCATION;VALUE=URI;X-ADDRESS=Deschutes Brewery Public House 1044 NW Bond St Bend OR 97701 United States;X-APPLE-RADIUS=500;X-TITLE=1044 NW Bond St:geo:-121.3113079,44.0593984
END:VEVENT
BEGIN:VEVENT
DTSTART;VALUE=DATE:20200909
DTEND;VALUE=DATE:20200910
DTSTAMP:20260423T040939
CREATED:20200826T061811Z
LAST-MODIFIED:20230503T201045Z
UID:10003386-1599676200-1599681600@envirocenter.org
SUMMARY:Virtual Lecture: The Roots of History: Oregon’s Heritage Trees
DESCRIPTION:If trees tie us to our historical roots\, then Oregon’s history is long and rich. Join historian Nate Pedersen as he shares the compelling stories behind some of Oregon’s growing collection of state-recognized heritage trees. Pedersen is a librarian\, writer\, and historian in Portland\, Oregon. He is a former member of the Oregon Heritage Trees Committee. \n 
URL:https://envirocenter.org/event/virtual-lecture-the-roots-of-history-oregons-heritage-trees/
LOCATION:Deschutes Brewery Public House\, 1044 NW Bond St\, Bend\, OR\, 97701\, United States
CATEGORIES:Online event
GEO:44.0593984;-121.3113079
X-APPLE-STRUCTURED-LOCATION;VALUE=URI;X-ADDRESS=Deschutes Brewery Public House 1044 NW Bond St Bend OR 97701 United States;X-APPLE-RADIUS=500;X-TITLE=1044 NW Bond St:geo:-121.3113079,44.0593984
END:VEVENT
BEGIN:VEVENT
DTSTART;TZID=America/Los_Angeles:20200827T080000
DTEND;TZID=America/Los_Angeles:20200827T100000
DTSTAMP:20260423T040939
CREATED:20200826T040147Z
LAST-MODIFIED:20200826T040147Z
UID:10003393-1598515200-1598522400@envirocenter.org
SUMMARY:
DESCRIPTION:Chlorpyrifos is an insecticide that damages the brains of infants and children\, and can cause neurological harm\, cancer and other serious impacts. Unsafe levels of residues are found in drinking water and common foods such as beans\, vegetables and fruit. Research overwhelmingly shows that chlorpyrifos kills and harm bees\, butterflies\, and birds and is a serious threat to our food\, public health\, and wildlife. \nHawaii\, California\, New York and Maryland have taken action to ban or severely restrict chlorpyrifos. Oregon must take action\, but the Oregon Department of Agriculture’s proposed rules on chlorpyrifos need to be stronger! We need your help to pass effective rules. Please send your written comments or speak at one of two remaining virtual public hearings in August. If you can’t make it to one of those hearings\, see below for public comment details\, our policy analysis and suggested talking points. \nThere are two easy ways you can get involved: \n\nAttend one of the scheduled virtual public hearings: \nAug. 27\, 2020\, 8-10 AM\n(Real-time Spanish translation provided.)\nSubmit your written comments to the ODA record by October 1st.\nRead suggested talking points->>
URL:https://envirocenter.org/event/25199/
LOCATION:375 SW Powerhouse Dr Suite 100\, Bend\, OR\, 97701\, United States
CATEGORIES:Advocacy,Equity,Online event
ATTACH;FMTTYPE=image/jpeg:https://envirocenter.org/wp-content/uploads/2020/08/Action.jpg
END:VEVENT
BEGIN:VEVENT
DTSTART;VALUE=DATE:20160105
DTEND;VALUE=DATE:20160106
DTSTAMP:20260423T040939
CREATED:20210521T014030Z
LAST-MODIFIED:20230503T201247Z
UID:10002570-1452018600-1452022200@envirocenter.org
SUMMARY:Deschutes County Town Hall
DESCRIPTION:Senator Jeff Merkley is hosting his 18th digital town hall of the year — and 450th since first being elected to the Senate. In these uncertain times\, it’s more important than ever to hear directly from our community. But it’s also important to respect the health and safety of every member of our communities while there is still a very real risk of spreading COVID-19 through in-person gatherings. Senator Jeff Merkley\, invites all Deschutes County residents to join online\, on mobile devices\, or on the telephone to discuss what we need to do to strengthen our state and our nation. \nOn a computer\, smartphone or tablet: click here\nOn the phone: \nCall 669-254-5252 \nEnter meeting ID: 160 544 9836 \nEner participant ID: # \nEnter access code: 41220350
URL:https://envirocenter.org/event/deschutes-county-town-hall-2/
LOCATION:Deschutes Brewery Public House\, 1044 NW Bond St\, Bend\, OR\, 97701\, United States
CATEGORIES:Online event
GEO:44.0593984;-121.3113079
X-APPLE-STRUCTURED-LOCATION;VALUE=URI;X-ADDRESS=Deschutes Brewery Public House 1044 NW Bond St Bend OR 97701 United States;X-APPLE-RADIUS=500;X-TITLE=1044 NW Bond St:geo:-121.3113079,44.0593984
END:VEVENT
END:VCALENDAR