BEGIN:VCALENDAR
VERSION:2.0
PRODID:-//The Environmental Center - ECPv6.15.20//NONSGML v1.0//EN
CALSCALE:GREGORIAN
METHOD:PUBLISH
X-WR-CALNAME:The Environmental Center
X-ORIGINAL-URL:https://envirocenter.org
X-WR-CALDESC:Events for The Environmental Center
REFRESH-INTERVAL;VALUE=DURATION:PT1H
X-Robots-Tag:noindex
X-PUBLISHED-TTL:PT1H
BEGIN:VTIMEZONE
TZID:America/Los_Angeles
BEGIN:DAYLIGHT
TZOFFSETFROM:-0800
TZOFFSETTO:-0700
TZNAME:PDT
DTSTART:20230312T100000
END:DAYLIGHT
BEGIN:STANDARD
TZOFFSETFROM:-0700
TZOFFSETTO:-0800
TZNAME:PST
DTSTART:20231105T090000
END:STANDARD
BEGIN:DAYLIGHT
TZOFFSETFROM:-0800
TZOFFSETTO:-0700
TZNAME:PDT
DTSTART:20240310T100000
END:DAYLIGHT
BEGIN:STANDARD
TZOFFSETFROM:-0700
TZOFFSETTO:-0800
TZNAME:PST
DTSTART:20241103T090000
END:STANDARD
BEGIN:DAYLIGHT
TZOFFSETFROM:-0800
TZOFFSETTO:-0700
TZNAME:PDT
DTSTART:20250309T100000
END:DAYLIGHT
BEGIN:STANDARD
TZOFFSETFROM:-0700
TZOFFSETTO:-0800
TZNAME:PST
DTSTART:20251102T090000
END:STANDARD
END:VTIMEZONE
BEGIN:VEVENT
DTSTART;TZID=America/Los_Angeles:20240320T190000
DTEND;TZID=America/Los_Angeles:20240320T203000
DTSTAMP:20260420T220843
CREATED:20240104T025711Z
LAST-MODIFIED:20240104T025711Z
UID:10004140-1710961200-1710966600@envirocenter.org
SUMMARY:An Introduction to the Klamath Tribes
DESCRIPTION:Join Gabriann Hall of the Klamath Tribes and the Deschutes Land Trust for an evening centered around the Klamath Tribes. Gabriann will share her personal perspective and insight through acknowledging Native history and carrying on the tradition of oral storytelling. Learn about the impact of Termination and Restoration on the Klamath Tribes’ people\, then gain a better understanding about current issues related to treaty rights\, first foods\, and dam removal. Gabriann will finish the evening talking about the Klamath Tribes’ work on water and land restoration. This presentation is free and ticket sales open one month prior to the event. \nNature Nights are free\, but a ticket is required. Please register online: deschuteslandtrust.org
URL:https://envirocenter.org/event/an-introduction-to-the-klamath-tribes/
LOCATION:Tower Theatre\, 835 NW Wall St.\, Bend\, OR\, 97701\, United States
CATEGORIES:Inclusion|Social Justice
ATTACH;FMTTYPE=image/jpeg:https://envirocenter.org/wp-content/uploads/2024/01/Gabrian-Nature-Nights.jpeg
ORGANIZER;CN="Deschutes Land Trust":MAILTO:event@deschuteslandtrust.org
GEO:44.058743;-121.314914
X-APPLE-STRUCTURED-LOCATION;VALUE=URI;X-ADDRESS=Tower Theatre 835 NW Wall St. Bend OR 97701 United States;X-APPLE-RADIUS=500;X-TITLE=835 NW Wall St.:geo:-121.314914,44.058743
END:VEVENT
END:VCALENDAR