BEGIN:VCALENDAR
VERSION:2.0
PRODID:-//The Environmental Center - ECPv6.15.20//NONSGML v1.0//EN
CALSCALE:GREGORIAN
METHOD:PUBLISH
X-WR-CALNAME:The Environmental Center
X-ORIGINAL-URL:https://envirocenter.org
X-WR-CALDESC:Events for The Environmental Center
REFRESH-INTERVAL;VALUE=DURATION:PT1H
X-Robots-Tag:noindex
X-PUBLISHED-TTL:PT1H
BEGIN:VTIMEZONE
TZID:America/Los_Angeles
BEGIN:DAYLIGHT
TZOFFSETFROM:-0800
TZOFFSETTO:-0700
TZNAME:PDT
DTSTART:20240310T100000
END:DAYLIGHT
BEGIN:STANDARD
TZOFFSETFROM:-0700
TZOFFSETTO:-0800
TZNAME:PST
DTSTART:20241103T090000
END:STANDARD
BEGIN:DAYLIGHT
TZOFFSETFROM:-0800
TZOFFSETTO:-0700
TZNAME:PDT
DTSTART:20250309T100000
END:DAYLIGHT
BEGIN:STANDARD
TZOFFSETFROM:-0700
TZOFFSETTO:-0800
TZNAME:PST
DTSTART:20251102T090000
END:STANDARD
BEGIN:DAYLIGHT
TZOFFSETFROM:-0800
TZOFFSETTO:-0700
TZNAME:PDT
DTSTART:20260308T100000
END:DAYLIGHT
BEGIN:STANDARD
TZOFFSETFROM:-0700
TZOFFSETTO:-0800
TZNAME:PST
DTSTART:20261101T090000
END:STANDARD
END:VTIMEZONE
BEGIN:VEVENT
DTSTART;TZID=America/Los_Angeles:20250305T180000
DTEND;TZID=America/Los_Angeles:20250305T193000
DTSTAMP:20260420T181847
CREATED:20250113T200904Z
LAST-MODIFIED:20250113T200904Z
UID:10004564-1741197600-1741203000@envirocenter.org
SUMMARY:SheJumps x AdventurUs Women x Between Evergreens | Speaker Series | OR
DESCRIPTION:Wednesday\, March 5th\, 2025 – “Reveille & Retreat: Discover How Two Female Army Captains are Empowering Military Women Through Adventure” – Join Captain Dakota Olsen-Harris of the Army National Guard and Captain Kim Liszka of the United States Army/Reserves to learn about the Reveille & Retreat Project\, a series of retreats carefully crafted for military women using a blend of healing modalities\, empowerment workshops\, and personalized development sessions. With a deep understanding of the unique challenges faced by women in the military community\, their programs are designed to foster resilience\, confidence\, and a renewed sense of purpose. Dakota and Kim also created “Dog Tag Diaries”\, a podcast series dedicated to sharing the stories and struggles of women in the military. Come along with us as we learn more about the unique experiences of the women protecting our country & our communities and learn how we can all better support them\, and each other.
URL:https://envirocenter.org/event/shejumps-x-adventurus-women-x-between-evergreens-speaker-series-or-2/
LOCATION:Embark\, 2843 NW Lolo Dr.\, Bend\, OR\, 97703\, United States
CATEGORIES:Inclusion
ATTACH;FMTTYPE=image/jpeg:https://envirocenter.org/wp-content/uploads/2025/01/She-Jumps.jpe
GEO:44.0531904;-121.3629071
X-APPLE-STRUCTURED-LOCATION;VALUE=URI;X-ADDRESS=Embark 2843 NW Lolo Dr. Bend OR 97703 United States;X-APPLE-RADIUS=500;X-TITLE=2843 NW Lolo Dr.:geo:-121.3629071,44.0531904
END:VEVENT
BEGIN:VEVENT
DTSTART;TZID=America/Los_Angeles:20250306T173000
DTEND;TZID=America/Los_Angeles:20250306T190000
DTSTAMP:20260420T181847
CREATED:20250227T181254Z
LAST-MODIFIED:20250228T193149Z
UID:10004584-1741282200-1741287600@envirocenter.org
SUMMARY:Fragments of Connection: Quests for Belonging
DESCRIPTION:A collaboration between the Bend Contemporary Dance Company and Central Oregon Community College\, this dance performance is an original piece that explores the search for connection at various stages of life\, from childhood through adolescence and adulthood — inspired by literary and psychological writings on loneliness\, anxiety and community. \nChoreographers: Sinnamon Hauser\, Maud Comboul and Marisa Malzone. \nIn cooperation with COCC faculty\, Jessica Hammerman\, associate professor of history\, and Stephanie André\, professor of composition. \nLocation: Caldera High School Auditorium.
URL:https://envirocenter.org/event/fragments-of-connection-quests-for-belonging/
CATEGORIES:Inclusion
ATTACH;FMTTYPE=image/jpeg:https://envirocenter.org/wp-content/uploads/2025/02/March-6.jpg
ORGANIZER;CN="Central Oregon Communuty College (COCC) Nancy R. Chandler Visiting Scholar Program (VSP)":MAILTO:cgilbride@cocc.edu
END:VEVENT
BEGIN:VEVENT
DTSTART;TZID=America/Los_Angeles:20250309T090000
DTEND;TZID=America/Los_Angeles:20250309T140000
DTSTAMP:20260420T181847
CREATED:20250113T202943Z
LAST-MODIFIED:20250113T202943Z
UID:10004567-1741510800-1741528800@envirocenter.org
SUMMARY:SheJumps | Get the Girls Out! | Mt. Bachelor\, OR
DESCRIPTION:Join SheJumps as they celebrate Get the Girls Out! – a nationwide campaign uniting women and girls- transgender and cisgender- as well as non-binary individuals to embrace the great outdoors while fostering a sense of adventure and camaraderie. At the start of each session they will have participants group up depending on terrain they want to ski/ride for each session. The prize drawing will include prizes from awesome sponsors and more! Each registered participant will receive one free prize drawing ticket\, with the option to purchase more tickets at the event via cash or card. They need volunteers for this event! Please let Liz Sequeria (lsequeira@shejumps.org) know if you are available to volunteer. Sign-ups coming soon!
URL:https://envirocenter.org/event/shejumps-get-the-girls-out-mt-bachelor-or/
LOCATION:Mt Bachelor Ski Resort\, 13000 Century Dr\, Bend\, OR\, 97702\, United States
CATEGORIES:Diversity|Food|Online event,Equity,Inclusion,Youth Education
ATTACH;FMTTYPE=image/jpeg:https://envirocenter.org/wp-content/uploads/2022/11/SheJumps_2019_Logo.jpg
GEO:43.9977236;-121.4065174
X-APPLE-STRUCTURED-LOCATION;VALUE=URI;X-ADDRESS=Mt Bachelor Ski Resort 13000 Century Dr Bend OR 97702 United States;X-APPLE-RADIUS=500;X-TITLE=13000 Century Dr:geo:-121.4065174,43.9977236
END:VEVENT
BEGIN:VEVENT
DTSTART;TZID=America/Los_Angeles:20250422T180000
DTEND;TZID=America/Los_Angeles:20250422T200000
DTSTAMP:20260420T181847
CREATED:20250407T213306Z
LAST-MODIFIED:20250407T213306Z
UID:10004616-1745344800-1745352000@envirocenter.org
SUMMARY:Tertulias . . . ¡de película!: Santuario
DESCRIPTION:Empezamos nuestro ciclo de cine celebrando el día de la Tierra\, con el documental “Santuario” de Álvaro Longoria.  Un hermoso documental sobre la iniciativa de protección ambiental para crear el santuario marino más grande de la Tierra en el Océano Antártico. Disfruta una noche en comunidad\, cine\, snacks y reflexiones al final de la película. \nTertulias . . . ¡de película!  es un programa que busca proveer espacios de conexión para comunidades hispanohablantes. Durante estas tertulias hablamos abiertamente y sin prejuicios sobre nuestras ideas y sentires a partir de la interacción con el arte cinematográfico y documental. Un lugar en el que se le de rienda suelta al mundo de las ideas y de autoeducación popular\, con el lenguaje español como el vehículo que conecta. \nUbicación: Envía un correo electrónico a juliana@oregonhumanities.org para registrarte y recibir la dirección. \nOrganizan: Oregon Humanities en colaboración con BENDITAS\, The Environmental Center\, y OSU Cascades. \n¡Pregúntanos por el apoyo que ofrecemos para cuidado de niños!
URL:https://envirocenter.org/event/tertulias-de-pelicula-santuario/
CATEGORIES:Climate,Earth Day,Film,Inclusion
ATTACH;FMTTYPE=image/jpeg:https://envirocenter.org/wp-content/uploads/2025/04/Santuario.jpg
ORGANIZER;CN="Oregon Humanities":MAILTO:o.hm@oregonhumanities.org
END:VEVENT
BEGIN:VEVENT
DTSTART;TZID=America/Los_Angeles:20250425T180000
DTEND;TZID=America/Los_Angeles:20250425T200000
DTSTAMP:20260420T181847
CREATED:20250114T011646Z
LAST-MODIFIED:20250114T011646Z
UID:10004573-1745604000-1745611200@envirocenter.org
SUMMARY:El día de los niños/El día de los libros (Children's Day/Book Day)
DESCRIPTION:El día de los niños/El diía de los libros (Children’s Day/Book Day)\, commonly known as Día\, is a celebration every day of children\, families\, and reading that culminates yearly on April 30. \nDía is a nationally recognized initiative that emphasizes the importance of literacy for all children of all linguistic and cultural backgrounds. It is a daily commitment to linking children and their families to diverse books\, languages\, and cultures. The common goals of all Día programming are to: \n\nCelebrate children and connect them to the world of learning through books\, stories and libraries.\nNurture cognitive and literacy development in ways that honor and embrace a child’s home language and culture.\nIntroduce families to community resources that provide opportunities for learning through multiple literacies.\nRecognize and respect culture\, heritage and language as powerful tools for strengthening families and communities.\n\nWHAT: El Dia de los Niños\, El Dia de los Libros also known as EL DIA (Childrenś Day/Book Day) \nWHEN: Friday\, April 25th\, 2025  from 6 to 8 pm (Partners arriving from 5 pm on) \nWHERE: Hugh Hartman Elementary School\, Redmond\, Oregon\nEl Dia event is organized in partnership with the Deschutes Public Library (liaison Diana Hernandez)\, and Hugh Hartman Elementary School part of  Redmond School District. (liaison Jessica Pickens).
URL:https://envirocenter.org/event/el-dia-de-los-ninos-el-dia-de-los-libros-childrens-day-book-day/
LOCATION:Hugh Hartman Elementary School\, 2105 W Antler Ave\, Redmond\, OR\, 97756\, United States
CATEGORIES:Advocacy|Climate|Energy|Environmental Justice|Online event|Online Networking,Advocacy|Food|Online event,Advocacy|Food|Online event|Racial Justice,Advocacy|Online event|Transportation,Diversity|Food|Online event,Energy|Film|Online event,Food|Garden,Food|Garden|Volunteer,Food|Online event,Inclusion,Youth Education
ATTACH;FMTTYPE=image/png:https://envirocenter.org/wp-content/uploads/2025/01/dia-webheader.png
GEO:44.27733;-121.1917507
X-APPLE-STRUCTURED-LOCATION;VALUE=URI;X-ADDRESS=Hugh Hartman Elementary School 2105 W Antler Ave Redmond OR 97756 United States;X-APPLE-RADIUS=500;X-TITLE=2105 W Antler Ave:geo:-121.1917507,44.27733
END:VEVENT
END:VCALENDAR