BEGIN:VCALENDAR
VERSION:2.0
PRODID:-//The Environmental Center - ECPv6.15.20//NONSGML v1.0//EN
CALSCALE:GREGORIAN
METHOD:PUBLISH
X-WR-CALNAME:The Environmental Center
X-ORIGINAL-URL:https://envirocenter.org
X-WR-CALDESC:Events for The Environmental Center
REFRESH-INTERVAL;VALUE=DURATION:PT1H
X-Robots-Tag:noindex
X-PUBLISHED-TTL:PT1H
BEGIN:VTIMEZONE
TZID:America/Los_Angeles
BEGIN:DAYLIGHT
TZOFFSETFROM:-0800
TZOFFSETTO:-0700
TZNAME:PDT
DTSTART:20200308T100000
END:DAYLIGHT
BEGIN:STANDARD
TZOFFSETFROM:-0700
TZOFFSETTO:-0800
TZNAME:PST
DTSTART:20201101T090000
END:STANDARD
BEGIN:DAYLIGHT
TZOFFSETFROM:-0800
TZOFFSETTO:-0700
TZNAME:PDT
DTSTART:20210314T100000
END:DAYLIGHT
BEGIN:STANDARD
TZOFFSETFROM:-0700
TZOFFSETTO:-0800
TZNAME:PST
DTSTART:20211107T090000
END:STANDARD
BEGIN:DAYLIGHT
TZOFFSETFROM:-0800
TZOFFSETTO:-0700
TZNAME:PDT
DTSTART:20220313T100000
END:DAYLIGHT
BEGIN:STANDARD
TZOFFSETFROM:-0700
TZOFFSETTO:-0800
TZNAME:PST
DTSTART:20221106T090000
END:STANDARD
BEGIN:DAYLIGHT
TZOFFSETFROM:-0800
TZOFFSETTO:-0700
TZNAME:PDT
DTSTART:20230312T100000
END:DAYLIGHT
BEGIN:STANDARD
TZOFFSETFROM:-0700
TZOFFSETTO:-0800
TZNAME:PST
DTSTART:20231105T090000
END:STANDARD
END:VTIMEZONE
BEGIN:VEVENT
DTSTART;VALUE=DATE:20211114
DTEND;VALUE=DATE:20211115
DTSTAMP:20260420T191125
CREATED:20211026T000259Z
LAST-MODIFIED:20230503T201338Z
UID:10001837-1636891200-1636898400@envirocenter.org
SUMMARY:November Green Drinks celebrates Native American Heritage Month
DESCRIPTION:The month is a time to celebrate rich and diverse cultures\, traditions\, and histories and to acknowledge the important contributions of Native people. This month is also referred to as the American Indian and Alaska Native Heritage Month. \nWe will gather for storytelling\, a leisurely hike\, and warm tea from local farmer\, Spring Alaska Schreiner\, owner of Sakari Farms. We have invited our Indigenous neighbors to share in storytelling. People can hike at their own leisure\, and we encourage you to think of these stories and the Indigenous People who lived on these lands while you hike. \nThis event is free but we ask that you register in advance. We hope to see you there!
URL:https://envirocenter.org/event/november-green-drinks-celebrates-native-american-heritage-month/
LOCATION:Deschutes Brewery Public House\, 1044 NW Bond St\, Bend\, OR\, 97701\, United States
CATEGORIES:Green Drinks|Inclusion|Youth Education
GEO:44.0593984;-121.3113079
X-APPLE-STRUCTURED-LOCATION;VALUE=URI;X-ADDRESS=Deschutes Brewery Public House 1044 NW Bond St Bend OR 97701 United States;X-APPLE-RADIUS=500;X-TITLE=1044 NW Bond St:geo:-121.3113079,44.0593984
END:VEVENT
BEGIN:VEVENT
DTSTART;VALUE=DATE:20221005
DTEND;VALUE=DATE:20221006
DTSTAMP:20260420T191125
CREATED:20220922T221945Z
LAST-MODIFIED:20230503T210510Z
UID:10003889-1664989200-1664996400@envirocenter.org
SUMMARY:Fall Green Drinks
DESCRIPTION:Green Drinks celebrating Latinx Heritage Month in partnership with Central Oregon Community College \nJoin us to learn and celebrate Latinx culture! \nUPCYCLED PIÑATA MAKING WORKSHOPS In-Person Events \nWednesday\, October 5\, 5–7 pm. The Environmental Center\, 16 NW Kansas Avenue\, Bend \nSpace is limited for both in-person events\, please RSVP to attend! \nRSVP to latinx@cocc.edu \nJoin us to learn and celebrate Latinx culture!
URL:https://envirocenter.org/event/fall-green-drinks/
LOCATION:Deschutes Brewery Public House\, 1044 NW Bond St\, Bend\, OR\, 97701\, United States
CATEGORIES:Green Drinks|Inclusion|Youth Education
GEO:44.0593984;-121.3113079
X-APPLE-STRUCTURED-LOCATION;VALUE=URI;X-ADDRESS=Deschutes Brewery Public House 1044 NW Bond St Bend OR 97701 United States;X-APPLE-RADIUS=500;X-TITLE=1044 NW Bond St:geo:-121.3113079,44.0593984
END:VEVENT
END:VCALENDAR