BEGIN:VCALENDAR
VERSION:2.0
PRODID:-//The Environmental Center - ECPv6.15.20//NONSGML v1.0//EN
CALSCALE:GREGORIAN
METHOD:PUBLISH
X-WR-CALNAME:The Environmental Center
X-ORIGINAL-URL:https://envirocenter.org
X-WR-CALDESC:Events for The Environmental Center
REFRESH-INTERVAL;VALUE=DURATION:PT1H
X-Robots-Tag:noindex
X-PUBLISHED-TTL:PT1H
BEGIN:VTIMEZONE
TZID:America/Los_Angeles
BEGIN:DAYLIGHT
TZOFFSETFROM:-0800
TZOFFSETTO:-0700
TZNAME:PDT
DTSTART:20190310T100000
END:DAYLIGHT
BEGIN:STANDARD
TZOFFSETFROM:-0700
TZOFFSETTO:-0800
TZNAME:PST
DTSTART:20191103T090000
END:STANDARD
BEGIN:DAYLIGHT
TZOFFSETFROM:-0800
TZOFFSETTO:-0700
TZNAME:PDT
DTSTART:20200308T100000
END:DAYLIGHT
BEGIN:STANDARD
TZOFFSETFROM:-0700
TZOFFSETTO:-0800
TZNAME:PST
DTSTART:20201101T090000
END:STANDARD
BEGIN:DAYLIGHT
TZOFFSETFROM:-0800
TZOFFSETTO:-0700
TZNAME:PDT
DTSTART:20210314T100000
END:DAYLIGHT
BEGIN:STANDARD
TZOFFSETFROM:-0700
TZOFFSETTO:-0800
TZNAME:PST
DTSTART:20211107T090000
END:STANDARD
END:VTIMEZONE
BEGIN:VEVENT
DTSTART;VALUE=DATE:20201018
DTEND;VALUE=DATE:20201019
DTSTAMP:20260422T151923
CREATED:20200930T060222Z
LAST-MODIFIED:20230503T201103Z
UID:10001589-1603018800-1603033200@envirocenter.org
SUMMARY:Transplanting Forest Seedlings
DESCRIPTION:Join Lee Stevenson\, founder of Project Ponderosa\, for a hands-on workshop to learn how to identify and transplant a variety of native forest seedlings\, including Grand Fir\, White Fir\, Mountain Hemlock\, Snowbush\, Manzanita\, Mahala Mat\, Kinnikinnnick\, Paintbrush and more. You’ll learn where to find these native species locally and how to successfully collect and incorporate them into your own landscape. \nThe first half of the program will take place outdoors in the amphitheater and then the group will travel to one or more locations near Sunriver (within 10 miles) for plant collection. Please bring your own pots/containers\, work gloves\, and shovel if you have. Participants should also obtain a free Forest Products Free Use Permit from the U.S. Forest Service (if possible) if they wish to collect transplants during the field trip. \nThis program is limited to 10 participants and early registration is recommended. Masks are required throughout the program. Review  COVID-19 safety protocols HERE.
URL:https://envirocenter.org/event/transplanting-forest-seedlings/
LOCATION:Deschutes Brewery Public House\, 1044 NW Bond St\, Bend\, OR\, 97701\, United States
CATEGORIES:Garden
GEO:44.0593984;-121.3113079
X-APPLE-STRUCTURED-LOCATION;VALUE=URI;X-ADDRESS=Deschutes Brewery Public House 1044 NW Bond St Bend OR 97701 United States;X-APPLE-RADIUS=500;X-TITLE=1044 NW Bond St:geo:-121.3113079,44.0593984
END:VEVENT
END:VCALENDAR