BEGIN:VCALENDAR
VERSION:2.0
PRODID:-//The Environmental Center - ECPv6.15.20//NONSGML v1.0//EN
CALSCALE:GREGORIAN
METHOD:PUBLISH
X-ORIGINAL-URL:https://envirocenter.org
X-WR-CALDESC:Events for The Environmental Center
REFRESH-INTERVAL;VALUE=DURATION:PT1H
X-Robots-Tag:noindex
X-PUBLISHED-TTL:PT1H
BEGIN:VTIMEZONE
TZID:America/Los_Angeles
BEGIN:DAYLIGHT
TZOFFSETFROM:-0800
TZOFFSETTO:-0700
TZNAME:PDT
DTSTART:20180311T100000
END:DAYLIGHT
BEGIN:STANDARD
TZOFFSETFROM:-0700
TZOFFSETTO:-0800
TZNAME:PST
DTSTART:20181104T090000
END:STANDARD
BEGIN:DAYLIGHT
TZOFFSETFROM:-0800
TZOFFSETTO:-0700
TZNAME:PDT
DTSTART:20190310T100000
END:DAYLIGHT
BEGIN:STANDARD
TZOFFSETFROM:-0700
TZOFFSETTO:-0800
TZNAME:PST
DTSTART:20191103T090000
END:STANDARD
BEGIN:DAYLIGHT
TZOFFSETFROM:-0800
TZOFFSETTO:-0700
TZNAME:PDT
DTSTART:20200308T100000
END:DAYLIGHT
BEGIN:STANDARD
TZOFFSETFROM:-0700
TZOFFSETTO:-0800
TZNAME:PST
DTSTART:20201101T090000
END:STANDARD
END:VTIMEZONE
BEGIN:VEVENT
DTSTART;TZID=America/Los_Angeles:20190420T113000
DTEND;TZID=America/Los_Angeles:20190420T150000
DTSTAMP:20260425T035916
CREATED:20190327T181118Z
LAST-MODIFIED:20190327T182633Z
UID:10001314-1555759800-1555772400@envirocenter.org
SUMMARY:Earth Day Fair & Parade
DESCRIPTION:FOR FULL EVENT INFO\, VISIT OUR EARTH DAY WEBPAGE.\nJoin The Environmental Center for a fun and festive celebration of the natural world! Our day of festivities kicks off with a colorful\, creative parade and with tunes from B Side Brass Band. You’re sure to feel the energy at one of Bend’s best parades! \n11:00 am: Assemble on Louisiana Avenue next to McMenamin’s\n11:30 am: Parade starts (about 8 blocks through downtown Bend) \nNo motorized vehicles in the parade. Well-behaved dogs on leashes are allowed. Costumes encouraged! \nThe fair takes place on Kansas Avenue in front of The Environmental Center (downtown Bend) from 12pm – 3pm. Featuring live music from Maxwell Friedman Group and a street fair with local businesses\, nonprofits\, and a variety of food carts. Head over to Troy Field for the Kid’s Zone to enjoy interactive activities and games for all ages. \nBig thanks to local artist Megan Marie Myers for creating this year’s original Earth Day artwork! Her design is a beautiful interpretation the interconnectedness of humans and the natural world. Be sure to visit Megan’s booth during the fair!
URL:https://envirocenter.org/event/earth-day-fair-parade-5/
LOCATION:Downtown Bend\, Bend\, OR\, 97701\, United States
CATEGORIES:Earth Day,Garden,Youth Education
ATTACH;FMTTYPE=image/jpeg:https://envirocenter.org/wp-content/uploads/2019/03/Earth_Day_social3-e1553710365722.jpg
ORGANIZER;CN="The Environmental Center":MAILTO:info@envirocenter.org
END:VEVENT
END:VCALENDAR