BEGIN:VCALENDAR
VERSION:2.0
PRODID:-//The Environmental Center - ECPv6.15.20//NONSGML v1.0//EN
CALSCALE:GREGORIAN
METHOD:PUBLISH
X-WR-CALNAME:The Environmental Center
X-ORIGINAL-URL:https://envirocenter.org
X-WR-CALDESC:Events for The Environmental Center
REFRESH-INTERVAL;VALUE=DURATION:PT1H
X-Robots-Tag:noindex
X-PUBLISHED-TTL:PT1H
BEGIN:VTIMEZONE
TZID:America/Los_Angeles
BEGIN:DAYLIGHT
TZOFFSETFROM:-0800
TZOFFSETTO:-0700
TZNAME:PDT
DTSTART:20200308T100000
END:DAYLIGHT
BEGIN:STANDARD
TZOFFSETFROM:-0700
TZOFFSETTO:-0800
TZNAME:PST
DTSTART:20201101T090000
END:STANDARD
BEGIN:DAYLIGHT
TZOFFSETFROM:-0800
TZOFFSETTO:-0700
TZNAME:PDT
DTSTART:20210314T100000
END:DAYLIGHT
BEGIN:STANDARD
TZOFFSETFROM:-0700
TZOFFSETTO:-0800
TZNAME:PST
DTSTART:20211107T090000
END:STANDARD
BEGIN:DAYLIGHT
TZOFFSETFROM:-0800
TZOFFSETTO:-0700
TZNAME:PDT
DTSTART:20220313T100000
END:DAYLIGHT
BEGIN:STANDARD
TZOFFSETFROM:-0700
TZOFFSETTO:-0800
TZNAME:PST
DTSTART:20221106T090000
END:STANDARD
BEGIN:DAYLIGHT
TZOFFSETFROM:-0800
TZOFFSETTO:-0700
TZNAME:PDT
DTSTART:20230312T100000
END:DAYLIGHT
BEGIN:STANDARD
TZOFFSETFROM:-0700
TZOFFSETTO:-0800
TZNAME:PST
DTSTART:20231105T090000
END:STANDARD
BEGIN:DAYLIGHT
TZOFFSETFROM:-0800
TZOFFSETTO:-0700
TZNAME:PDT
DTSTART:20240310T100000
END:DAYLIGHT
BEGIN:STANDARD
TZOFFSETFROM:-0700
TZOFFSETTO:-0800
TZNAME:PST
DTSTART:20241103T090000
END:STANDARD
BEGIN:DAYLIGHT
TZOFFSETFROM:-0800
TZOFFSETTO:-0700
TZNAME:PDT
DTSTART:20250309T100000
END:DAYLIGHT
BEGIN:STANDARD
TZOFFSETFROM:-0700
TZOFFSETTO:-0800
TZNAME:PST
DTSTART:20251102T090000
END:STANDARD
BEGIN:DAYLIGHT
TZOFFSETFROM:-0800
TZOFFSETTO:-0700
TZNAME:PDT
DTSTART:20260308T100000
END:DAYLIGHT
BEGIN:STANDARD
TZOFFSETFROM:-0700
TZOFFSETTO:-0800
TZNAME:PST
DTSTART:20261101T090000
END:STANDARD
END:VTIMEZONE
BEGIN:VEVENT
DTSTART;VALUE=DATE:20210709
DTEND;VALUE=DATE:20210710
DTSTAMP:20260425T130426
CREATED:20210622T055258Z
LAST-MODIFIED:20230503T201302Z
UID:10003628-1625839200-1625853600@envirocenter.org
SUMMARY:Madras Farm-to-Table Market
DESCRIPTION:This Market is a new opportunity for Jefferson County farmers and ranchers to sell products directly to consumers in a convenient Downtown location. Buy local and reap the health benefits of consuming farm fresh products while helping our local agricultural community! They’ll be open every Friday between Memorial Day and Labor Day from 2-6 pm.
URL:https://envirocenter.org/event/madras-farm-to-table-market-2021-06-25/
LOCATION:Deschutes Brewery Public House\, 1044 NW Bond St\, Bend\, OR\, 97701\, United States
CATEGORIES:Food|Garden|Inclusion
GEO:44.0593984;-121.3113079
X-APPLE-STRUCTURED-LOCATION;VALUE=URI;X-ADDRESS=Deschutes Brewery Public House 1044 NW Bond St Bend OR 97701 United States;X-APPLE-RADIUS=500;X-TITLE=1044 NW Bond St:geo:-121.3113079,44.0593984
END:VEVENT
BEGIN:VEVENT
DTSTART;VALUE=DATE:20210716
DTEND;VALUE=DATE:20210717
DTSTAMP:20260425T130426
CREATED:20210622T055258Z
LAST-MODIFIED:20230503T201302Z
UID:10003629-1626444000-1626458400@envirocenter.org
SUMMARY:Madras Farm-to-Table Market
DESCRIPTION:This Market is a new opportunity for Jefferson County farmers and ranchers to sell products directly to consumers in a convenient Downtown location. Buy local and reap the health benefits of consuming farm fresh products while helping our local agricultural community! They’ll be open every Friday between Memorial Day and Labor Day from 2-6 pm.
URL:https://envirocenter.org/event/madras-farm-to-table-market-2021-06-25/
LOCATION:Deschutes Brewery Public House\, 1044 NW Bond St\, Bend\, OR\, 97701\, United States
CATEGORIES:Food|Garden|Inclusion
GEO:44.0593984;-121.3113079
X-APPLE-STRUCTURED-LOCATION;VALUE=URI;X-ADDRESS=Deschutes Brewery Public House 1044 NW Bond St Bend OR 97701 United States;X-APPLE-RADIUS=500;X-TITLE=1044 NW Bond St:geo:-121.3113079,44.0593984
END:VEVENT
BEGIN:VEVENT
DTSTART;VALUE=DATE:20210723
DTEND;VALUE=DATE:20210724
DTSTAMP:20260425T130426
CREATED:20210622T055258Z
LAST-MODIFIED:20230503T201302Z
UID:10003630-1627048800-1627063200@envirocenter.org
SUMMARY:Madras Farm-to-Table Market
DESCRIPTION:This Market is a new opportunity for Jefferson County farmers and ranchers to sell products directly to consumers in a convenient Downtown location. Buy local and reap the health benefits of consuming farm fresh products while helping our local agricultural community! They’ll be open every Friday between Memorial Day and Labor Day from 2-6 pm.
URL:https://envirocenter.org/event/madras-farm-to-table-market-2021-06-25/
LOCATION:Deschutes Brewery Public House\, 1044 NW Bond St\, Bend\, OR\, 97701\, United States
CATEGORIES:Food|Garden|Inclusion
GEO:44.0593984;-121.3113079
X-APPLE-STRUCTURED-LOCATION;VALUE=URI;X-ADDRESS=Deschutes Brewery Public House 1044 NW Bond St Bend OR 97701 United States;X-APPLE-RADIUS=500;X-TITLE=1044 NW Bond St:geo:-121.3113079,44.0593984
END:VEVENT
BEGIN:VEVENT
DTSTART;VALUE=DATE:20210730
DTEND;VALUE=DATE:20210731
DTSTAMP:20260425T130426
CREATED:20210622T055258Z
LAST-MODIFIED:20230503T201302Z
UID:10003631-1627653600-1627668000@envirocenter.org
SUMMARY:Madras Farm-to-Table Market
DESCRIPTION:This Market is a new opportunity for Jefferson County farmers and ranchers to sell products directly to consumers in a convenient Downtown location. Buy local and reap the health benefits of consuming farm fresh products while helping our local agricultural community! They’ll be open every Friday between Memorial Day and Labor Day from 2-6 pm.
URL:https://envirocenter.org/event/madras-farm-to-table-market-2021-06-25/
LOCATION:Deschutes Brewery Public House\, 1044 NW Bond St\, Bend\, OR\, 97701\, United States
CATEGORIES:Food|Garden|Inclusion
GEO:44.0593984;-121.3113079
X-APPLE-STRUCTURED-LOCATION;VALUE=URI;X-ADDRESS=Deschutes Brewery Public House 1044 NW Bond St Bend OR 97701 United States;X-APPLE-RADIUS=500;X-TITLE=1044 NW Bond St:geo:-121.3113079,44.0593984
END:VEVENT
BEGIN:VEVENT
DTSTART;VALUE=DATE:20210806
DTEND;VALUE=DATE:20210807
DTSTAMP:20260425T130426
CREATED:20210622T055258Z
LAST-MODIFIED:20230503T201302Z
UID:10003632-1628258400-1628272800@envirocenter.org
SUMMARY:Madras Farm-to-Table Market
DESCRIPTION:This Market is a new opportunity for Jefferson County farmers and ranchers to sell products directly to consumers in a convenient Downtown location. Buy local and reap the health benefits of consuming farm fresh products while helping our local agricultural community! They’ll be open every Friday between Memorial Day and Labor Day from 2-6 pm.
URL:https://envirocenter.org/event/madras-farm-to-table-market-2021-06-25/
LOCATION:Deschutes Brewery Public House\, 1044 NW Bond St\, Bend\, OR\, 97701\, United States
CATEGORIES:Food|Garden|Inclusion
GEO:44.0593984;-121.3113079
X-APPLE-STRUCTURED-LOCATION;VALUE=URI;X-ADDRESS=Deschutes Brewery Public House 1044 NW Bond St Bend OR 97701 United States;X-APPLE-RADIUS=500;X-TITLE=1044 NW Bond St:geo:-121.3113079,44.0593984
END:VEVENT
BEGIN:VEVENT
DTSTART;VALUE=DATE:20210813
DTEND;VALUE=DATE:20210814
DTSTAMP:20260425T130426
CREATED:20210622T055258Z
LAST-MODIFIED:20230503T201302Z
UID:10003633-1628863200-1628877600@envirocenter.org
SUMMARY:Madras Farm-to-Table Market
DESCRIPTION:This Market is a new opportunity for Jefferson County farmers and ranchers to sell products directly to consumers in a convenient Downtown location. Buy local and reap the health benefits of consuming farm fresh products while helping our local agricultural community! They’ll be open every Friday between Memorial Day and Labor Day from 2-6 pm.
URL:https://envirocenter.org/event/madras-farm-to-table-market-2021-06-25/
LOCATION:Deschutes Brewery Public House\, 1044 NW Bond St\, Bend\, OR\, 97701\, United States
CATEGORIES:Food|Garden|Inclusion
GEO:44.0593984;-121.3113079
X-APPLE-STRUCTURED-LOCATION;VALUE=URI;X-ADDRESS=Deschutes Brewery Public House 1044 NW Bond St Bend OR 97701 United States;X-APPLE-RADIUS=500;X-TITLE=1044 NW Bond St:geo:-121.3113079,44.0593984
END:VEVENT
BEGIN:VEVENT
DTSTART;VALUE=DATE:20210820
DTEND;VALUE=DATE:20210821
DTSTAMP:20260425T130426
CREATED:20210622T055258Z
LAST-MODIFIED:20230503T201302Z
UID:10003634-1629468000-1629482400@envirocenter.org
SUMMARY:Madras Farm-to-Table Market
DESCRIPTION:This Market is a new opportunity for Jefferson County farmers and ranchers to sell products directly to consumers in a convenient Downtown location. Buy local and reap the health benefits of consuming farm fresh products while helping our local agricultural community! They’ll be open every Friday between Memorial Day and Labor Day from 2-6 pm.
URL:https://envirocenter.org/event/madras-farm-to-table-market-2021-06-25/
LOCATION:Deschutes Brewery Public House\, 1044 NW Bond St\, Bend\, OR\, 97701\, United States
CATEGORIES:Food|Garden|Inclusion
GEO:44.0593984;-121.3113079
X-APPLE-STRUCTURED-LOCATION;VALUE=URI;X-ADDRESS=Deschutes Brewery Public House 1044 NW Bond St Bend OR 97701 United States;X-APPLE-RADIUS=500;X-TITLE=1044 NW Bond St:geo:-121.3113079,44.0593984
END:VEVENT
BEGIN:VEVENT
DTSTART;VALUE=DATE:20210827
DTEND;VALUE=DATE:20210828
DTSTAMP:20260425T130426
CREATED:20210622T055258Z
LAST-MODIFIED:20230503T201302Z
UID:10003635-1630072800-1630087200@envirocenter.org
SUMMARY:Madras Farm-to-Table Market
DESCRIPTION:This Market is a new opportunity for Jefferson County farmers and ranchers to sell products directly to consumers in a convenient Downtown location. Buy local and reap the health benefits of consuming farm fresh products while helping our local agricultural community! They’ll be open every Friday between Memorial Day and Labor Day from 2-6 pm.
URL:https://envirocenter.org/event/madras-farm-to-table-market-2021-06-25/
LOCATION:Deschutes Brewery Public House\, 1044 NW Bond St\, Bend\, OR\, 97701\, United States
CATEGORIES:Food|Garden|Inclusion
GEO:44.0593984;-121.3113079
X-APPLE-STRUCTURED-LOCATION;VALUE=URI;X-ADDRESS=Deschutes Brewery Public House 1044 NW Bond St Bend OR 97701 United States;X-APPLE-RADIUS=500;X-TITLE=1044 NW Bond St:geo:-121.3113079,44.0593984
END:VEVENT
BEGIN:VEVENT
DTSTART;VALUE=DATE:20210903
DTEND;VALUE=DATE:20210904
DTSTAMP:20260425T130426
CREATED:20210622T055258Z
LAST-MODIFIED:20230503T201302Z
UID:10003636-1630677600-1630692000@envirocenter.org
SUMMARY:Madras Farm-to-Table Market
DESCRIPTION:This Market is a new opportunity for Jefferson County farmers and ranchers to sell products directly to consumers in a convenient Downtown location. Buy local and reap the health benefits of consuming farm fresh products while helping our local agricultural community! They’ll be open every Friday between Memorial Day and Labor Day from 2-6 pm.
URL:https://envirocenter.org/event/madras-farm-to-table-market-2021-06-25/
LOCATION:Deschutes Brewery Public House\, 1044 NW Bond St\, Bend\, OR\, 97701\, United States
CATEGORIES:Food|Garden|Inclusion
GEO:44.0593984;-121.3113079
X-APPLE-STRUCTURED-LOCATION;VALUE=URI;X-ADDRESS=Deschutes Brewery Public House 1044 NW Bond St Bend OR 97701 United States;X-APPLE-RADIUS=500;X-TITLE=1044 NW Bond St:geo:-121.3113079,44.0593984
END:VEVENT
BEGIN:VEVENT
DTSTART;TZID=America/Los_Angeles:20250408T173000
DTEND;TZID=America/Los_Angeles:20250408T193000
DTSTAMP:20260425T130426
CREATED:20250228T000920Z
LAST-MODIFIED:20250228T000920Z
UID:10004585-1744133400-1744140600@envirocenter.org
SUMMARY:Farming While Black: Reclaiming Land and Agricultural Heritage - Film Screening and Discussion
DESCRIPTION:In this 75 min. feature-length documentary\, Leah Penniman\, co-founder of Soul Fire Farm\, reflects on the plight of Black farmers in the United States. From the height of Black-owned farms at 14% in 1910 to less than 2% today. Leah and her Soul Fire family help propel a rising generation finding strength in the deep historical knowledge of African agrarianism – and its potential to save the planet. \nFREE AND OPEN TO THE PUBLIC \nFor more information\, visit cocc.edu/snv \n\n\nLocation\nWille Hall\, Coats Campus Center\, COCC Bend Campus\, 97703
URL:https://envirocenter.org/event/farming-while-black-reclaiming-land-and-agricultural-heritage-film-screening-and-discussion/
LOCATION:375 SW Powerhouse Dr Suite 100\, Bend\, OR\, 97701\, United States
CATEGORIES:Film,Food|Garden|Inclusion,Garden,Social Justice
ATTACH;FMTTYPE=image/jpeg:https://envirocenter.org/wp-content/uploads/2025/02/April-8.jpg
ORGANIZER;CN="Central Oregon Communuty College (COCC) Nancy R. Chandler Visiting Scholar Program (VSP)":MAILTO:cgilbride@cocc.edu
END:VEVENT
END:VCALENDAR