BEGIN:VCALENDAR
VERSION:2.0
PRODID:-//The Environmental Center - ECPv6.15.20//NONSGML v1.0//EN
CALSCALE:GREGORIAN
METHOD:PUBLISH
X-ORIGINAL-URL:https://envirocenter.org
X-WR-CALDESC:Events for The Environmental Center
REFRESH-INTERVAL;VALUE=DURATION:PT1H
X-Robots-Tag:noindex
X-PUBLISHED-TTL:PT1H
BEGIN:VTIMEZONE
TZID:America/Los_Angeles
BEGIN:DAYLIGHT
TZOFFSETFROM:-0800
TZOFFSETTO:-0700
TZNAME:PDT
DTSTART:20230312T100000
END:DAYLIGHT
BEGIN:STANDARD
TZOFFSETFROM:-0700
TZOFFSETTO:-0800
TZNAME:PST
DTSTART:20231105T090000
END:STANDARD
BEGIN:DAYLIGHT
TZOFFSETFROM:-0800
TZOFFSETTO:-0700
TZNAME:PDT
DTSTART:20240310T100000
END:DAYLIGHT
BEGIN:STANDARD
TZOFFSETFROM:-0700
TZOFFSETTO:-0800
TZNAME:PST
DTSTART:20241103T090000
END:STANDARD
BEGIN:DAYLIGHT
TZOFFSETFROM:-0800
TZOFFSETTO:-0700
TZNAME:PDT
DTSTART:20250309T100000
END:DAYLIGHT
BEGIN:STANDARD
TZOFFSETFROM:-0700
TZOFFSETTO:-0800
TZNAME:PST
DTSTART:20251102T090000
END:STANDARD
END:VTIMEZONE
BEGIN:VEVENT
DTSTART;TZID=America/Los_Angeles:20240521T160000
DTEND;TZID=America/Los_Angeles:20240521T180000
DTSTAMP:20260425T040421
CREATED:20240304T185211Z
LAST-MODIFIED:20240304T185211Z
UID:10004181-1716307200-1716314400@envirocenter.org
SUMMARY:Happy Hour in the Garden
DESCRIPTION:Join us in our Kansas Avenue Learning Garden for our ongoing volunteer work party series. In 2022\, volunteers contributed over 200 hours to help keep our learning garden maintained over the growing season. We couldn’t do it without you! \nThis event is open to all ages and gardening abilities! No experience or tools required. Beer and non-alcoholic beverages are provided for all who volunteer. Each event includes seasonal ongoing tasks as well as special projects as needed throughout the growing season. Volunteers are welcome to pop in for an hour or stay the whole time. No need to RSVP or commit ahead of time. (Pro tip – put the following dates in your phone calendar now – then when it pops up you can decide if it works out for you or not!) \nIn 2024\, Happy Hour in the Garden will once again run twice a month from March through October on the 1st and 3rd Tuesdays from 4-6pm. This schedule throughout the extent of the growing season offers meaningful volunteer experiences for all who come\, and deeper care for the garden when it needs it.
URL:https://envirocenter.org/event/happy-hour-in-the-garden-4/2024-05-21/
LOCATION:The Environmental Center\, 16 NW Kansas Avenue\, Bend\, OR\, 97703
CATEGORIES:Food,Garden,Sustainability,Volunteer
ATTACH;FMTTYPE=image/jpeg:https://envirocenter.org/wp-content/uploads/2023/04/happy-hour-in-the-garden.jpeg
ORGANIZER;CN="Denise Rowcroft%2C The Environmental Center":MAILTO:denise@envirocenter.org
GEO:44.055562;-121.3143083
X-APPLE-STRUCTURED-LOCATION;VALUE=URI;X-ADDRESS=The Environmental Center 16 NW Kansas Avenue Bend OR 97703;X-APPLE-RADIUS=500;X-TITLE=16 NW Kansas Avenue:geo:-121.3143083,44.055562
END:VEVENT
BEGIN:VEVENT
DTSTART;TZID=America/Los_Angeles:20240523T170000
DTEND;TZID=America/Los_Angeles:20240523T190000
DTSTAMP:20260425T040421
CREATED:20240503T210043Z
LAST-MODIFIED:20240503T210043Z
UID:10004410-1716483600-1716490800@envirocenter.org
SUMMARY:May Green Drinks
DESCRIPTION:Join the staff of The Environmental Center and host Kobold Brewing for a social gathering on Thursday\, May 23rd for May Green Drinks. \nHave a cold one\, on us– join us at Kobold Brewing for Green Drinks! Over appetizers and beverages\, you’ll have the opportunity to network with fellow sustainability enthusiasts and hear about Kobold’s commitment to sustainability in their business. Curious about The Environmental Center? Staff will be there to answer your questions about our mission to embed sustainability into daily life here in Central Oregon. \nThis is a great opportunity to pick up a Rethink Waste Guide for your home or business and learn about energy savings through our new Home Energy Assessment Program.
URL:https://envirocenter.org/event/may-green-drinks/
LOCATION:Kobold Brewing The Lair\, 1043 NW Bond St\, Bend\, OR\, 97703\, United States
CATEGORIES:Food,Green Drinks
ATTACH;FMTTYPE=image/jpeg:https://envirocenter.org/wp-content/uploads/2024/05/348s.jpg
ORGANIZER;CN="The Environmental Center":MAILTO:info@envirocenter.org
GEO:44.0597311;-121.3118882
X-APPLE-STRUCTURED-LOCATION;VALUE=URI;X-ADDRESS=Kobold Brewing The Lair 1043 NW Bond St Bend OR 97703 United States;X-APPLE-RADIUS=500;X-TITLE=1043 NW Bond St:geo:-121.3118882,44.0597311
END:VEVENT
END:VCALENDAR