BEGIN:VCALENDAR
VERSION:2.0
PRODID:-//The Environmental Center - ECPv6.15.20//NONSGML v1.0//EN
CALSCALE:GREGORIAN
METHOD:PUBLISH
X-ORIGINAL-URL:https://envirocenter.org
X-WR-CALDESC:Events for The Environmental Center
REFRESH-INTERVAL;VALUE=DURATION:PT1H
X-Robots-Tag:noindex
X-PUBLISHED-TTL:PT1H
BEGIN:VTIMEZONE
TZID:America/Los_Angeles
BEGIN:DAYLIGHT
TZOFFSETFROM:-0800
TZOFFSETTO:-0700
TZNAME:PDT
DTSTART:20230312T100000
END:DAYLIGHT
BEGIN:STANDARD
TZOFFSETFROM:-0700
TZOFFSETTO:-0800
TZNAME:PST
DTSTART:20231105T090000
END:STANDARD
BEGIN:DAYLIGHT
TZOFFSETFROM:-0800
TZOFFSETTO:-0700
TZNAME:PDT
DTSTART:20240310T100000
END:DAYLIGHT
BEGIN:STANDARD
TZOFFSETFROM:-0700
TZOFFSETTO:-0800
TZNAME:PST
DTSTART:20241103T090000
END:STANDARD
BEGIN:DAYLIGHT
TZOFFSETFROM:-0800
TZOFFSETTO:-0700
TZNAME:PDT
DTSTART:20250309T100000
END:DAYLIGHT
BEGIN:STANDARD
TZOFFSETFROM:-0700
TZOFFSETTO:-0800
TZNAME:PST
DTSTART:20251102T090000
END:STANDARD
END:VTIMEZONE
BEGIN:VEVENT
DTSTART;TZID=America/Los_Angeles:20240416T160000
DTEND;TZID=America/Los_Angeles:20240416T180000
DTSTAMP:20260425T040339
CREATED:20240304T185211Z
LAST-MODIFIED:20240304T185211Z
UID:10004179-1713283200-1713290400@envirocenter.org
SUMMARY:Happy Hour in the Garden
DESCRIPTION:Join us in our Kansas Avenue Learning Garden for our ongoing volunteer work party series. In 2022\, volunteers contributed over 200 hours to help keep our learning garden maintained over the growing season. We couldn’t do it without you! \nThis event is open to all ages and gardening abilities! No experience or tools required. Beer and non-alcoholic beverages are provided for all who volunteer. Each event includes seasonal ongoing tasks as well as special projects as needed throughout the growing season. Volunteers are welcome to pop in for an hour or stay the whole time. No need to RSVP or commit ahead of time. (Pro tip – put the following dates in your phone calendar now – then when it pops up you can decide if it works out for you or not!) \nIn 2024\, Happy Hour in the Garden will once again run twice a month from March through October on the 1st and 3rd Tuesdays from 4-6pm. This schedule throughout the extent of the growing season offers meaningful volunteer experiences for all who come\, and deeper care for the garden when it needs it.
URL:https://envirocenter.org/event/happy-hour-in-the-garden-4/2024-04-16/
LOCATION:The Environmental Center\, 16 NW Kansas Avenue\, Bend\, OR\, 97703
CATEGORIES:Food,Garden,Sustainability,Volunteer
ATTACH;FMTTYPE=image/jpeg:https://envirocenter.org/wp-content/uploads/2023/04/happy-hour-in-the-garden.jpeg
ORGANIZER;CN="Denise Rowcroft%2C The Environmental Center":MAILTO:denise@envirocenter.org
GEO:44.055562;-121.3143083
X-APPLE-STRUCTURED-LOCATION;VALUE=URI;X-ADDRESS=The Environmental Center 16 NW Kansas Avenue Bend OR 97703;X-APPLE-RADIUS=500;X-TITLE=16 NW Kansas Avenue:geo:-121.3143083,44.055562
END:VEVENT
BEGIN:VEVENT
DTSTART;TZID=America/Los_Angeles:20240419T170000
DTEND;TZID=America/Los_Angeles:20240419T210000
DTSTAMP:20260425T040339
CREATED:20240212T194414Z
LAST-MODIFIED:20240212T194414Z
UID:10004162-1713546000-1713560400@envirocenter.org
SUMMARY:8th Annual Locavore Gala & Fundraiser
DESCRIPTION:Central Oregon Locavore Hosts 8th Annual Gala and Fundraiser at Tetherow Resort on April 19th \nCentral Oregon Locavore\, a non-profit organization committed to supporting local food and farmers\, is thrilled to announce its 8th Annual Gala and Fundraiser\, taking place at the prestigious Tetherow Resort on April 19th. \nThis year’s gala promises to be an unforgettable evening filled with a gourmet multi-course farm-to-table meal\, engaging activities\, and a celebration of CO-llaboration and CO-operativism in the agricultural community. The theme emphasizes the importance of farmers working together\, sharing resources\, and supporting one another in an era where competition often overshadows collaboration. \nThe event will feature a variety of attractions\, including a silent auction\, live auction\, golden ticket raffle\, photographic narrative showcasing the hardworking farmers and ranchers of the region\, and the infamous dessert dash – an exciting race to claim delectable desserts.
URL:https://envirocenter.org/event/8th-annual-locavore-gala-fundraiser/
LOCATION:Tetherow\, 61240 Skyline Ranch Rd.\, Bend\, OR\, 97701\, United States
CATEGORIES:Food
ATTACH;FMTTYPE=image/jpeg:https://envirocenter.org/wp-content/uploads/2024/02/2024-Gala-Banner.jpg
ORGANIZER;CN="Central Oregon Locavore":MAILTO:info@centraloregonlocavore.org
GEO:44.0254844;-121.364106
X-APPLE-STRUCTURED-LOCATION;VALUE=URI;X-ADDRESS=Tetherow 61240 Skyline Ranch Rd. Bend OR 97701 United States;X-APPLE-RADIUS=500;X-TITLE=61240 Skyline Ranch Rd.:geo:-121.364106,44.0254844
END:VEVENT
BEGIN:VEVENT
DTSTART;TZID=America/Los_Angeles:20240420T110000
DTEND;TZID=America/Los_Angeles:20240420T150000
DTSTAMP:20260425T040339
CREATED:20240402T222818Z
LAST-MODIFIED:20240402T222818Z
UID:10004205-1713610800-1713625200@envirocenter.org
SUMMARY:2024 Earth Day Fair and Parade
DESCRIPTION:Save the Date! The 2024 Earth Day Fair and Parade will take place on Saturday\, April 20th. An Annual Celebration of Earth And Community. \nThis family-friendly event typically features a lively and inclusive parade through downtown Bend where folks are encouraged to wear costumes to showcase their favorite thing about planet earth. During the fair\, food vendors\, booths\, and performers offer something for everyone. \nStay tuned for updates on performances that will take place on Troy Field!
URL:https://envirocenter.org/event/2024-earth-day-fair-and-parade/
LOCATION:The Environmental Center\, 16 NW Kansas Avenue\, Bend\, OR\, 97703
CATEGORIES:Earth Day,Food,Volunteer,Youth Education
ATTACH;FMTTYPE=image/jpeg:https://envirocenter.org/wp-content/uploads/2024/04/EDF-Fair-Vendors.jpeg
ORGANIZER;CN="The Environmental Center":MAILTO:info@envirocenter.org
GEO:44.055562;-121.3143083
X-APPLE-STRUCTURED-LOCATION;VALUE=URI;X-ADDRESS=The Environmental Center 16 NW Kansas Avenue Bend OR 97703;X-APPLE-RADIUS=500;X-TITLE=16 NW Kansas Avenue:geo:-121.3143083,44.055562
END:VEVENT
END:VCALENDAR