BEGIN:VCALENDAR
VERSION:2.0
PRODID:-//The Environmental Center - ECPv6.15.20//NONSGML v1.0//EN
CALSCALE:GREGORIAN
METHOD:PUBLISH
X-ORIGINAL-URL:https://envirocenter.org
X-WR-CALDESC:Events for The Environmental Center
REFRESH-INTERVAL;VALUE=DURATION:PT1H
X-Robots-Tag:noindex
X-PUBLISHED-TTL:PT1H
BEGIN:VTIMEZONE
TZID:America/Los_Angeles
BEGIN:DAYLIGHT
TZOFFSETFROM:-0800
TZOFFSETTO:-0700
TZNAME:PDT
DTSTART:20150308T100000
END:DAYLIGHT
BEGIN:STANDARD
TZOFFSETFROM:-0700
TZOFFSETTO:-0800
TZNAME:PST
DTSTART:20151101T090000
END:STANDARD
BEGIN:DAYLIGHT
TZOFFSETFROM:-0800
TZOFFSETTO:-0700
TZNAME:PDT
DTSTART:20160313T100000
END:DAYLIGHT
BEGIN:STANDARD
TZOFFSETFROM:-0700
TZOFFSETTO:-0800
TZNAME:PST
DTSTART:20161106T090000
END:STANDARD
BEGIN:DAYLIGHT
TZOFFSETFROM:-0800
TZOFFSETTO:-0700
TZNAME:PDT
DTSTART:20170312T100000
END:DAYLIGHT
BEGIN:STANDARD
TZOFFSETFROM:-0700
TZOFFSETTO:-0800
TZNAME:PST
DTSTART:20171105T090000
END:STANDARD
END:VTIMEZONE
BEGIN:VEVENT
DTSTART;VALUE=DATE:20161119
DTEND;VALUE=DATE:20161120
DTSTAMP:20260425T034623
CREATED:20181006T020727Z
LAST-MODIFIED:20230503T200754Z
UID:10000956-1479549600-1479567600@envirocenter.org
SUMMARY:Fill Your Pantry
DESCRIPTION:Fill Your Pantry is a community bulk buying event created so YOU can fill up your pantry\, freezer\, and root cellar full of great local products for the winter. Say bye-bye to busy holiday lines and produce that has traveled farther than you during holiday vacations\, and say hello to a cupboard full of local meat\, grains\, vegetables\, ferments\, and more. \nThe Central Oregon Fill Your Pantry will allow you to stock up on items like potatoes\, onions\, leeks\, beets\, winter squash\, garlic\, honey\, flours\, apples\, pears\, dried beans\, krauts\, baked goods\, and more. \nThis is a bulk buying event\, so bring your muscles! Farmers\, ranchers\, orchardists\, and producers will be selling large quantities of items. For example\, 20lb bags of onions\, 50lb bags of potatoes\, 25lb ground beef boxes\, etc. This is a great opportunity for vendors to move product before the harsh Central Oregon winter and a great opportunity for YOU to save money and eat well all winter long. \nProceeds from this event and its sponsors benefit Central Oregon Locavore Non Profit. Central Oregon Locavore promotes local food and farmers for the health of our community.
URL:https://envirocenter.org/event/fill-your-pantry-2/
LOCATION:Deschutes Brewery Public House\, 1044 NW Bond St\, Bend\, OR\, 97701\, United States
CATEGORIES:Food
GEO:44.0593984;-121.3113079
X-APPLE-STRUCTURED-LOCATION;VALUE=URI;X-ADDRESS=Deschutes Brewery Public House 1044 NW Bond St Bend OR 97701 United States;X-APPLE-RADIUS=500;X-TITLE=1044 NW Bond St:geo:-121.3113079,44.0593984
END:VEVENT
END:VCALENDAR