BEGIN:VCALENDAR
VERSION:2.0
PRODID:-//The Environmental Center - ECPv6.15.20//NONSGML v1.0//EN
CALSCALE:GREGORIAN
METHOD:PUBLISH
X-ORIGINAL-URL:https://envirocenter.org
X-WR-CALDESC:Events for The Environmental Center
REFRESH-INTERVAL;VALUE=DURATION:PT1H
X-Robots-Tag:noindex
X-PUBLISHED-TTL:PT1H
BEGIN:VTIMEZONE
TZID:America/Los_Angeles
BEGIN:DAYLIGHT
TZOFFSETFROM:-0800
TZOFFSETTO:-0700
TZNAME:PDT
DTSTART:20230312T100000
END:DAYLIGHT
BEGIN:STANDARD
TZOFFSETFROM:-0700
TZOFFSETTO:-0800
TZNAME:PST
DTSTART:20231105T090000
END:STANDARD
BEGIN:DAYLIGHT
TZOFFSETFROM:-0800
TZOFFSETTO:-0700
TZNAME:PDT
DTSTART:20240310T100000
END:DAYLIGHT
BEGIN:STANDARD
TZOFFSETFROM:-0700
TZOFFSETTO:-0800
TZNAME:PST
DTSTART:20241103T090000
END:STANDARD
BEGIN:DAYLIGHT
TZOFFSETFROM:-0800
TZOFFSETTO:-0700
TZNAME:PDT
DTSTART:20250309T100000
END:DAYLIGHT
BEGIN:STANDARD
TZOFFSETFROM:-0700
TZOFFSETTO:-0800
TZNAME:PST
DTSTART:20251102T090000
END:STANDARD
END:VTIMEZONE
BEGIN:VEVENT
DTSTART;TZID=America/Los_Angeles:20240806T160000
DTEND;TZID=America/Los_Angeles:20240806T180000
DTSTAMP:20260424T085334
CREATED:20240304T185211Z
LAST-MODIFIED:20240304T185211Z
UID:10004186-1722960000-1722967200@envirocenter.org
SUMMARY:Happy Hour in the Garden
DESCRIPTION:Join us in our Kansas Avenue Learning Garden for our ongoing volunteer work party series. In 2022\, volunteers contributed over 200 hours to help keep our learning garden maintained over the growing season. We couldn’t do it without you! \nThis event is open to all ages and gardening abilities! No experience or tools required. Beer and non-alcoholic beverages are provided for all who volunteer. Each event includes seasonal ongoing tasks as well as special projects as needed throughout the growing season. Volunteers are welcome to pop in for an hour or stay the whole time. No need to RSVP or commit ahead of time. (Pro tip – put the following dates in your phone calendar now – then when it pops up you can decide if it works out for you or not!) \nIn 2024\, Happy Hour in the Garden will once again run twice a month from March through October on the 1st and 3rd Tuesdays from 4-6pm. This schedule throughout the extent of the growing season offers meaningful volunteer experiences for all who come\, and deeper care for the garden when it needs it.
URL:https://envirocenter.org/event/happy-hour-in-the-garden-4/2024-08-06/
LOCATION:The Environmental Center\, 16 NW Kansas Avenue\, Bend\, OR\, 97703
CATEGORIES:Food,Garden,Sustainability,Volunteer
ATTACH;FMTTYPE=image/jpeg:https://envirocenter.org/wp-content/uploads/2023/04/happy-hour-in-the-garden.jpeg
ORGANIZER;CN="Denise Rowcroft%2C The Environmental Center":MAILTO:denise@envirocenter.org
GEO:44.055562;-121.3143083
X-APPLE-STRUCTURED-LOCATION;VALUE=URI;X-ADDRESS=The Environmental Center 16 NW Kansas Avenue Bend OR 97703;X-APPLE-RADIUS=500;X-TITLE=16 NW Kansas Avenue:geo:-121.3143083,44.055562
END:VEVENT
BEGIN:VEVENT
DTSTART;TZID=America/Los_Angeles:20240815T160000
DTEND;TZID=America/Los_Angeles:20240815T190000
DTSTAMP:20260424T085334
CREATED:20240722T224521Z
LAST-MODIFIED:20240722T224906Z
UID:10004464-1723737600-1723748400@envirocenter.org
SUMMARY:CityFest 2024
DESCRIPTION:Join Bend Mayor Melanie Kebler and the City of Bend for CityFest community gathering on Thursday\, August 15 from 4 p.m. to 7 p.m. at 9th Street Village\, 911 SE Armour Road. \nCityFest creates an opportunity for City departments\, staff\, and Bend City Councilors to meet the community in a dynamic\, family-friendly space! Bevel Craft Brewing\, the awesome food trucks hosted on their property (Tacos el Nava\, IndoDaddy\, Nosh Street Food\, Little Red Kitchen)\, and local ice cream extraordinaire Bonta will be onsite as our food (yes\, ice cream is food!) and beverage partners. Food and drinks will be available for purchase. We’ll also have music by the talented DJ Jah Yogi! \nThe event will feature a short message from Mayor Kebler regarding the “State of the City” (touching on goals and priorities for Bend’s future)\, live music from DJ Jah Yogi\, family-friendly activities\, police\, fire\, and streets vehicles\, plus information and staff from various City departments regarding their programs and services. \nBring the whole family and meet the folks who work for your City of Bend! \n\nÚnase a la alcaldesa de Bend\, Melanie Kebler\, y la Ciudad de Bend para la fiesta comunitaria CityFest el jueves 15 de agosto\, de 4 p.m. a 7 p.m. en 9th Street Village\, 911 SE Armour Road. \nCityFest es una oportunidad para que los departamentos de la ciudad\, el personal y los concejales de Bend se reúnan con la comunidad en un espacio dinámico y familiar. Bevel Craft Brewing\, los increíbles camiones de comida ubicados en su local (Tacos el Nava\, IndoDaddy\, Nosh Street Food\, Little Red Kitchen)\, y el extraordinario helado local Bonta serán nuestros socios de comida (¡sí\, el helado es comida!) y bebida. Habrá comida y bebida a la venta. ¡También tendremos música en vivo por el talentoso DJ Jah Yogi! \nEl evento contará con un breve mensaje de la alcaldesa Kebler sobre el “Estado de la Ciudad” (compartiendo las metas y prioridades para el futuro de Bend)\, música en vivo\, actividades para toda la familia\, la policía\, y los vehículos de bomberos y calles\, además de información y personal de diversos departamentos de la ciudad con información sobre sus programas y servicios. \n¡Traiga toda la familia y conozca a la gente que trabaja para su Ciudad de Bend! \n 
URL:https://envirocenter.org/event/cityfest-2024/
LOCATION:9th Street Village\, 911 SE Armour Road\, Bend\, OR\, 97702\, United States
CATEGORIES:Food,Music
ATTACH;FMTTYPE=image/jpeg:https://envirocenter.org/wp-content/uploads/2024/07/CityFest.jpg
ORGANIZER;CN="City of Bend":MAILTO:brankin@bendoregon.gov
GEO:44.0464793;-121.2918058
X-APPLE-STRUCTURED-LOCATION;VALUE=URI;X-ADDRESS=9th Street Village 911 SE Armour Road Bend OR 97702 United States;X-APPLE-RADIUS=500;X-TITLE=911 SE Armour Road:geo:-121.2918058,44.0464793
END:VEVENT
BEGIN:VEVENT
DTSTART;TZID=America/Los_Angeles:20240820T160000
DTEND;TZID=America/Los_Angeles:20240820T180000
DTSTAMP:20260424T085334
CREATED:20240304T185211Z
LAST-MODIFIED:20240304T185211Z
UID:10004187-1724169600-1724176800@envirocenter.org
SUMMARY:Happy Hour in the Garden
DESCRIPTION:Join us in our Kansas Avenue Learning Garden for our ongoing volunteer work party series. In 2022\, volunteers contributed over 200 hours to help keep our learning garden maintained over the growing season. We couldn’t do it without you! \nThis event is open to all ages and gardening abilities! No experience or tools required. Beer and non-alcoholic beverages are provided for all who volunteer. Each event includes seasonal ongoing tasks as well as special projects as needed throughout the growing season. Volunteers are welcome to pop in for an hour or stay the whole time. No need to RSVP or commit ahead of time. (Pro tip – put the following dates in your phone calendar now – then when it pops up you can decide if it works out for you or not!) \nIn 2024\, Happy Hour in the Garden will once again run twice a month from March through October on the 1st and 3rd Tuesdays from 4-6pm. This schedule throughout the extent of the growing season offers meaningful volunteer experiences for all who come\, and deeper care for the garden when it needs it.
URL:https://envirocenter.org/event/happy-hour-in-the-garden-4/2024-08-20/
LOCATION:The Environmental Center\, 16 NW Kansas Avenue\, Bend\, OR\, 97703
CATEGORIES:Food,Garden,Sustainability,Volunteer
ATTACH;FMTTYPE=image/jpeg:https://envirocenter.org/wp-content/uploads/2023/04/happy-hour-in-the-garden.jpeg
ORGANIZER;CN="Denise Rowcroft%2C The Environmental Center":MAILTO:denise@envirocenter.org
GEO:44.055562;-121.3143083
X-APPLE-STRUCTURED-LOCATION;VALUE=URI;X-ADDRESS=The Environmental Center 16 NW Kansas Avenue Bend OR 97703;X-APPLE-RADIUS=500;X-TITLE=16 NW Kansas Avenue:geo:-121.3143083,44.055562
END:VEVENT
END:VCALENDAR