BEGIN:VCALENDAR
VERSION:2.0
PRODID:-//The Environmental Center - ECPv6.15.20//NONSGML v1.0//EN
CALSCALE:GREGORIAN
METHOD:PUBLISH
X-ORIGINAL-URL:https://envirocenter.org
X-WR-CALDESC:Events for The Environmental Center
REFRESH-INTERVAL;VALUE=DURATION:PT1H
X-Robots-Tag:noindex
X-PUBLISHED-TTL:PT1H
BEGIN:VTIMEZONE
TZID:America/Los_Angeles
BEGIN:DAYLIGHT
TZOFFSETFROM:-0800
TZOFFSETTO:-0700
TZNAME:PDT
DTSTART:20220313T100000
END:DAYLIGHT
BEGIN:STANDARD
TZOFFSETFROM:-0700
TZOFFSETTO:-0800
TZNAME:PST
DTSTART:20221106T090000
END:STANDARD
BEGIN:DAYLIGHT
TZOFFSETFROM:-0800
TZOFFSETTO:-0700
TZNAME:PDT
DTSTART:20230312T100000
END:DAYLIGHT
BEGIN:STANDARD
TZOFFSETFROM:-0700
TZOFFSETTO:-0800
TZNAME:PST
DTSTART:20231105T090000
END:STANDARD
BEGIN:DAYLIGHT
TZOFFSETFROM:-0800
TZOFFSETTO:-0700
TZNAME:PDT
DTSTART:20240310T100000
END:DAYLIGHT
BEGIN:STANDARD
TZOFFSETFROM:-0700
TZOFFSETTO:-0800
TZNAME:PST
DTSTART:20241103T090000
END:STANDARD
END:VTIMEZONE
BEGIN:VEVENT
DTSTART;TZID=America/Los_Angeles:20231007T100000
DTEND;TZID=America/Los_Angeles:20231007T150000
DTSTAMP:20260425T165936
CREATED:20230912T212318Z
LAST-MODIFIED:20230912T212318Z
UID:10004065-1696672800-1696690800@envirocenter.org
SUMMARY:Sunriver Fungi Fest & Mushroom Show
DESCRIPTION:Celebrate the fantastic world of fungi\nwith the Sunriver Nature Center & Observatory and the Central Oregon Mushroom Club \nSunriver Nature Center & Observatory\nSaturday\, October 7\, 2023 – 10am-3pm \nComing October 7th from 10 am 3 pm join us as we celebrate our 7th annual Fungi Fest and Mushroom Show! \nThis incredible event takes place at the Sunriver Nature Center & Observatory and features Central Oregon’s only Mushroom Show\, with hundreds of species on display. Tickets will be on sale at the event and the price of admission also includes access to a full schedule of lectures\, mushroom workshops\, activities and more! \nSpecialty vendors featuring fungi-themed products will be on-site selling everything from t-shirts to grow-your-own kits and fresh forest mushrooms. \nBe sure and check out our webpage\, which will continue to be updated as we add new information! \nhttps://fungifest.snco.org/ \nTickets \n\nPurchase your tickets at the event.\nAdmission \nAdult: $15\nChild (ages 4-12): $10\nChild (under 4): Free\nSNCO Member: $9\nSROA Member: Free \nCOMC Member: $7
URL:https://envirocenter.org/event/sunriver-fungi-fest-mushroom-show/
LOCATION:Sunriver Nature Center & Oregon Observatory\, 57245 River Rd\, Sunriver\, OR\, 97707\, United States
CATEGORIES:Food,Science
ATTACH;FMTTYPE=image/jpeg:https://envirocenter.org/wp-content/uploads/2023/09/SNC_fungi_fest_horizontal-2.jpg
ORGANIZER;CN="Sunriver Nature Center & Oregon Observatory":MAILTO:office@sunrivernaturecenter.org
GEO:43.8853258;-121.4479251
X-APPLE-STRUCTURED-LOCATION;VALUE=URI;X-ADDRESS=Sunriver Nature Center & Oregon Observatory 57245 River Rd Sunriver OR 97707 United States;X-APPLE-RADIUS=500;X-TITLE=57245 River Rd:geo:-121.4479251,43.8853258
END:VEVENT
BEGIN:VEVENT
DTSTART;TZID=America/Los_Angeles:20231018T163000
DTEND;TZID=America/Los_Angeles:20231018T180000
DTSTAMP:20260425T165936
CREATED:20231010T205247Z
LAST-MODIFIED:20231011T162618Z
UID:10004096-1697646600-1697652000@envirocenter.org
SUMMARY:Garden Educator Network School Garden Tour
DESCRIPTION:Let’s get together! We’ll get a tour of the school garden at MA Lynch Elementary School in Redmond from new FoodCorps Service Member Kat Rains\, and you’ll hear from Redmond School District’s own FoodCorps School Nutrition Service Member\, Somer Eckhert. We’ll wrap up with a group share out of one thing that you did in the garden this fall that went really well that you’d love to share with the group! There will be opportunity to discuss ideas and plans for our garden grants as well as the ODE Farm to School Education Grant\,  so come with your questions! Food & beverages will be provided\, as well as an educator stipend and mileage reimbursement. \nPlease RSVP! Email denise@envirocenter.org to RSVP.
URL:https://envirocenter.org/event/garden-educator-network-school-garden-tour/
LOCATION:M. A. Lynch Elementary School\, 1314 SW Kalama \, Redmond\, OR\, 97756\, United States
CATEGORIES:Food,Garden,Youth Education
ATTACH;FMTTYPE=image/jpeg:https://envirocenter.org/wp-content/uploads/2023/10/B5242353-CD33-43D0-A04B-2F2BB3845408_1_105_c.jpeg
ORGANIZER;CN="Denise Rowcroft%2C The Environmental Center":MAILTO:denise@envirocenter.org
GEO:44.26609;-121.182416
X-APPLE-STRUCTURED-LOCATION;VALUE=URI;X-ADDRESS=M. A. Lynch Elementary School 1314 SW Kalama  Redmond OR 97756 United States;X-APPLE-RADIUS=500;X-TITLE=1314 SW Kalama:geo:-121.182416,44.26609
END:VEVENT
BEGIN:VEVENT
DTSTART;TZID=America/Los_Angeles:20231020T180000
DTEND;TZID=America/Los_Angeles:20231020T210000
DTSTAMP:20260425T165936
CREATED:20231011T162516Z
LAST-MODIFIED:20231011T162537Z
UID:10004097-1697824800-1697835600@envirocenter.org
SUMMARY:Locavore Fall Harvest Feast & Celebration
DESCRIPTION:Please join us for the 5th Annual Fall Harvest Feast & Celebration which will tickle your palate and delight your senses. We are throwing in a little extra sizzle this year and curating a Halloween bash with all the fixin’s to go down in history. \nGET TICKETS HERE \nExtroverts: This is your moment to shine. Bring on those costumes and accessories. \nGuests will enjoy: \n\nStunning Cascade Range views\n6-course gourmet farm-to-table feast\nCurated bar\, featuring local cocktails\, mocktails\, beer\, and wine\nSpeak easy hidden bar\nGroovy Tunes by up and coming electronic music star Rhone\nBest of costume prizes\nWitches Brew tea lounge by Herbal Goddess Holly Hutton\nTelescope star gazing with the Little Astronomer\n\nMenu: by Chef Brian Garza of FireFare \n\nKing Turkey Grazing Table (you will see what we mean by this)\nHaunted Herbed Salad\nSparrow Baguette with Honey Cinnamon Butter\nWicked Whole Chicken by Home Farm Foods (GF)\nSuper Spooky Roasts and Ribs from DD Ranch\, Pioneer and Mt Shasta Wild (GF)\nRoasty Toasty Potatoes and Rooty Root Vegetable by Fibonacci\, Boundless\, and Well Rooted (V\, Veg\, GF)\nScary Well Rooted Pumpkin Tureen Soup (V\, Veg\, GF)\nApple Crumble with Eyeball flavor Eyescreem by Grey Duck (just kidding\, it’s vanilla)\nSurprise custom Eyescreem flavor…\n\nCOST: $105 member/ $115 non-member \n*Discounts for tables and groups \nGet your tickets early please so chef can plan accordingly! \nAll proceeds benefit Central Oregon Locavore Non Profit
URL:https://envirocenter.org/event/locavore-fall-harvest-feast-celebration/
LOCATION:Cascade View Retreat Center\, 14427 Alfalfa Rd\, Powell Butte\, OR\, 97753\, United States
CATEGORIES:Food,Garden
ATTACH;FMTTYPE=image/jpeg:https://envirocenter.org/wp-content/uploads/2023/10/unnamed-1.jpg
ORGANIZER;CN="Central Oregon Locavore":MAILTO:info@centraloregonlocavore.org
GEO:44.1777553;-121.0678084
X-APPLE-STRUCTURED-LOCATION;VALUE=URI;X-ADDRESS=Cascade View Retreat Center 14427 Alfalfa Rd Powell Butte OR 97753 United States;X-APPLE-RADIUS=500;X-TITLE=14427 Alfalfa Rd:geo:-121.0678084,44.1777553
END:VEVENT
END:VCALENDAR