BEGIN:VCALENDAR
VERSION:2.0
PRODID:-//The Environmental Center - ECPv6.15.20//NONSGML v1.0//EN
CALSCALE:GREGORIAN
METHOD:PUBLISH
X-ORIGINAL-URL:https://envirocenter.org
X-WR-CALDESC:Events for The Environmental Center
REFRESH-INTERVAL;VALUE=DURATION:PT1H
X-Robots-Tag:noindex
X-PUBLISHED-TTL:PT1H
BEGIN:VTIMEZONE
TZID:America/Los_Angeles
BEGIN:DAYLIGHT
TZOFFSETFROM:-0800
TZOFFSETTO:-0700
TZNAME:PDT
DTSTART:20220313T100000
END:DAYLIGHT
BEGIN:STANDARD
TZOFFSETFROM:-0700
TZOFFSETTO:-0800
TZNAME:PST
DTSTART:20221106T090000
END:STANDARD
BEGIN:DAYLIGHT
TZOFFSETFROM:-0800
TZOFFSETTO:-0700
TZNAME:PDT
DTSTART:20230312T100000
END:DAYLIGHT
BEGIN:STANDARD
TZOFFSETFROM:-0700
TZOFFSETTO:-0800
TZNAME:PST
DTSTART:20231105T090000
END:STANDARD
BEGIN:DAYLIGHT
TZOFFSETFROM:-0800
TZOFFSETTO:-0700
TZNAME:PDT
DTSTART:20240310T100000
END:DAYLIGHT
BEGIN:STANDARD
TZOFFSETFROM:-0700
TZOFFSETTO:-0800
TZNAME:PST
DTSTART:20241103T090000
END:STANDARD
END:VTIMEZONE
BEGIN:VEVENT
DTSTART;TZID=America/Los_Angeles:20230912T183000
DTEND;TZID=America/Los_Angeles:20230912T210000
DTSTAMP:20260425T183844
CREATED:20230828T200653Z
LAST-MODIFIED:20230828T200653Z
UID:10004053-1694543400-1694552400@envirocenter.org
SUMMARY:Regenerative Food & Farming; Documentary and Discussion
DESCRIPTION:Regenerative Food & Farming; Documentary and Discussion \nJoin us for an exciting evening of exploring the world of regenerative food and farming at Worthy Brewing Company in Bend\, Oregon. Get ready to dive into a thought-provoking documentary\, Kiss the Ground\, that sheds light on the importance of regenerative practices in our food system. We will screen a 45 minute educational version of the film\, followed by a lively discussion with a local panel: \n\nKlaus Mager\, Citizen Climate Lobby – Moderator\nCate Havstad-Casad of Casad Family Farm;\nEllen Hammond\, Jefferson County Soil and Water Conservation District;\nKatrina Wiest from Bend La Pine Schools;\nKatrina Van Dis\, Ensoterra\nMike Bakouris\, NeighborImpact\n\nCome share your thoughts and ideas with like-minded individuals passionate about creating a better future for our planet. \nIntroduced and hosted by Bend Citizen Climate Lobby in partnership with Worthy Brewing. Tickets include one drink token. The event will have a limited food menu. \nIf you would like to attend but need assistance with the fee\, please contact info@citizensclimatebend.org \nDoors open at 6:30. Film starts at 7. Please arrive before the film to order food and drinks. \nGet tickets here!
URL:https://envirocenter.org/event/regenerative-food-documentary-and-discussion/
LOCATION:Worthy Brewing\, 495 Northeast Bellevue Drive\, Bend\, OR\, 97701\, United States
CATEGORIES:Agriculture,Climate,Film,Food
ATTACH;FMTTYPE=image/jpeg:https://envirocenter.org/wp-content/uploads/2023/08/https___cdn.evbuc_.com_images_577890809_1706239359963_1_original.jpg
ORGANIZER;CN="Bend Citizen Climate Lobby":MAILTO:info@citizensclimatebend.org
GEO:44.0553359;-121.2604571
X-APPLE-STRUCTURED-LOCATION;VALUE=URI;X-ADDRESS=Worthy Brewing 495 Northeast Bellevue Drive Bend OR 97701 United States;X-APPLE-RADIUS=500;X-TITLE=495 Northeast Bellevue Drive:geo:-121.2604571,44.0553359
END:VEVENT
BEGIN:VEVENT
DTSTART;TZID=America/Los_Angeles:20230913T173000
DTEND;TZID=America/Los_Angeles:20230913T203000
DTSTAMP:20260425T183844
CREATED:20230907T174313Z
LAST-MODIFIED:20230907T174313Z
UID:10004062-1694626200-1694637000@envirocenter.org
SUMMARY:Fermentation Workshop With Worthy Environmental
DESCRIPTION:Fermenting is Fun and Easy\nLearn fermentation to make delicious food cheaply and easily! Fermented food is full of beneficial live cultures. Take this workshop and you’ll be able to turn vegetables from the bottom of your fridge and garden into mustard\, kimchi\, sour pickles and more. Led by a Master Food Preserver\, this workshop will stretch your budget but not your waistline! You’ll try fermented goodies at the workshop\, go home with a batch of fermented cucumbers that you make\, and with a special fermenting lid. \nCost: $40 per ticket \nSept. 13th in Redmond and Sept. 18th in Bend \nRegister Here!
URL:https://envirocenter.org/event/fermentation-workshop-with-worthy-environmental/2023-09-13/
CATEGORIES:Food
ATTACH;FMTTYPE=image/jpeg:https://envirocenter.org/wp-content/uploads/2023/09/pickles.jpeg
END:VEVENT
BEGIN:VEVENT
DTSTART;TZID=America/Los_Angeles:20230916T100000
DTEND;TZID=America/Los_Angeles:20230916T113000
DTSTAMP:20260425T183844
CREATED:20230901T223335Z
LAST-MODIFIED:20230901T223335Z
UID:10004058-1694858400-1694863800@envirocenter.org
SUMMARY:Putting Your Garden to Bed
DESCRIPTION:This class will cover how to harvest vegetables at the end of the season\, including how to ripen tomatoes indoors; how to winterize your vegetable garden to save time next spring; how to divide and cut back perennials; and how to prepare your landscape for winter. \nRegister here!
URL:https://envirocenter.org/event/putting-your-garden-to-bed/
LOCATION:OSU Extension Office\, 3800 SW Airport Way\, Redmond\, OR\, 97756\, United States
CATEGORIES:Food,Garden
ATTACH;FMTTYPE=image/jpeg:https://envirocenter.org/wp-content/uploads/2023/09/https___cdn.evbuc_.com_images_588064989_1338473041013_1_original.jpg
ORGANIZER;CN="OSU Master Gardeners":MAILTO:gocomga@gmail.com
GEO:44.2381174;-121.1853418
X-APPLE-STRUCTURED-LOCATION;VALUE=URI;X-ADDRESS=OSU Extension Office 3800 SW Airport Way Redmond OR 97756 United States;X-APPLE-RADIUS=500;X-TITLE=3800 SW Airport Way:geo:-121.1853418,44.2381174
END:VEVENT
BEGIN:VEVENT
DTSTART;TZID=America/Los_Angeles:20230918T173000
DTEND;TZID=America/Los_Angeles:20230918T203000
DTSTAMP:20260425T183844
CREATED:20230907T174313Z
LAST-MODIFIED:20230907T174313Z
UID:10004063-1695058200-1695069000@envirocenter.org
SUMMARY:Fermentation Workshop With Worthy Environmental
DESCRIPTION:Fermenting is Fun and Easy\nLearn fermentation to make delicious food cheaply and easily! Fermented food is full of beneficial live cultures. Take this workshop and you’ll be able to turn vegetables from the bottom of your fridge and garden into mustard\, kimchi\, sour pickles and more. Led by a Master Food Preserver\, this workshop will stretch your budget but not your waistline! You’ll try fermented goodies at the workshop\, go home with a batch of fermented cucumbers that you make\, and with a special fermenting lid. \nCost: $40 per ticket \nSept. 13th in Redmond and Sept. 18th in Bend \nRegister Here!
URL:https://envirocenter.org/event/fermentation-workshop-with-worthy-environmental/2023-09-18/
CATEGORIES:Food
ATTACH;FMTTYPE=image/jpeg:https://envirocenter.org/wp-content/uploads/2023/09/pickles.jpeg
END:VEVENT
BEGIN:VEVENT
DTSTART;TZID=America/Los_Angeles:20230921T160000
DTEND;TZID=America/Los_Angeles:20230921T170000
DTSTAMP:20260425T183844
CREATED:20230918T195746Z
LAST-MODIFIED:20230918T195746Z
UID:10004070-1695312000-1695315600@envirocenter.org
SUMMARY:Seed to Table Fall Farm Tours
DESCRIPTION:Seed to Table Farm invites our community onto the farm for a free fall tour. This once-a-year opportunity is a chance for you to explore tomatoes in the greenhouses\, get a taste of what students experience on field trips\, and ask questions to the farmers who steward the land to grow nearly 85\,000 pounds of produce on just a few acres. Feel free to bring a friend! You must pre-register for tours. \nThursday 9/21 4pm-5pm \nSaturday 9/23 10am-11am \nMonday 9/25 4pm-5pm \nWednesday 9/27 11am-12pm \nFriday 9/29 3pm-4pm \nSaturday 9/30 10am -11am \nREGISTER FOR FALL FARM TOURS!
URL:https://envirocenter.org/event/seed-to-table-fall-farm-tours/2023-09-21/
LOCATION:Seed to Table\, 998 E. Black Butte Avenue\, Sisters\, OR\, 97759\, United States
CATEGORIES:Food,Garden
ATTACH;FMTTYPE=image/jpeg:https://envirocenter.org/wp-content/uploads/2023/09/unnamed-3.jpg
GEO:44.294769;-121.536768
X-APPLE-STRUCTURED-LOCATION;VALUE=URI;X-ADDRESS=Seed to Table 998 E. Black Butte Avenue Sisters OR 97759 United States;X-APPLE-RADIUS=500;X-TITLE=998 E. Black Butte Avenue:geo:-121.536768,44.294769
END:VEVENT
BEGIN:VEVENT
DTSTART;TZID=America/Los_Angeles:20230923T100000
DTEND;TZID=America/Los_Angeles:20230923T110000
DTSTAMP:20260425T183844
CREATED:20230918T195746Z
LAST-MODIFIED:20230918T195746Z
UID:10004071-1695463200-1695466800@envirocenter.org
SUMMARY:Seed to Table Fall Farm Tours
DESCRIPTION:Seed to Table Farm invites our community onto the farm for a free fall tour. This once-a-year opportunity is a chance for you to explore tomatoes in the greenhouses\, get a taste of what students experience on field trips\, and ask questions to the farmers who steward the land to grow nearly 85\,000 pounds of produce on just a few acres. Feel free to bring a friend! You must pre-register for tours. \nThursday 9/21 4pm-5pm \nSaturday 9/23 10am-11am \nMonday 9/25 4pm-5pm \nWednesday 9/27 11am-12pm \nFriday 9/29 3pm-4pm \nSaturday 9/30 10am -11am \nREGISTER FOR FALL FARM TOURS!
URL:https://envirocenter.org/event/seed-to-table-fall-farm-tours/2023-09-23/
LOCATION:Seed to Table\, 998 E. Black Butte Avenue\, Sisters\, OR\, 97759\, United States
CATEGORIES:Food,Garden
ATTACH;FMTTYPE=image/jpeg:https://envirocenter.org/wp-content/uploads/2023/09/unnamed-3.jpg
GEO:44.294769;-121.536768
X-APPLE-STRUCTURED-LOCATION;VALUE=URI;X-ADDRESS=Seed to Table 998 E. Black Butte Avenue Sisters OR 97759 United States;X-APPLE-RADIUS=500;X-TITLE=998 E. Black Butte Avenue:geo:-121.536768,44.294769
END:VEVENT
BEGIN:VEVENT
DTSTART;TZID=America/Los_Angeles:20230925T160000
DTEND;TZID=America/Los_Angeles:20230925T170000
DTSTAMP:20260425T183844
CREATED:20230918T195746Z
LAST-MODIFIED:20230918T195746Z
UID:10004072-1695657600-1695661200@envirocenter.org
SUMMARY:Seed to Table Fall Farm Tours
DESCRIPTION:Seed to Table Farm invites our community onto the farm for a free fall tour. This once-a-year opportunity is a chance for you to explore tomatoes in the greenhouses\, get a taste of what students experience on field trips\, and ask questions to the farmers who steward the land to grow nearly 85\,000 pounds of produce on just a few acres. Feel free to bring a friend! You must pre-register for tours. \nThursday 9/21 4pm-5pm \nSaturday 9/23 10am-11am \nMonday 9/25 4pm-5pm \nWednesday 9/27 11am-12pm \nFriday 9/29 3pm-4pm \nSaturday 9/30 10am -11am \nREGISTER FOR FALL FARM TOURS!
URL:https://envirocenter.org/event/seed-to-table-fall-farm-tours/2023-09-25/
LOCATION:Seed to Table\, 998 E. Black Butte Avenue\, Sisters\, OR\, 97759\, United States
CATEGORIES:Food,Garden
ATTACH;FMTTYPE=image/jpeg:https://envirocenter.org/wp-content/uploads/2023/09/unnamed-3.jpg
GEO:44.294769;-121.536768
X-APPLE-STRUCTURED-LOCATION;VALUE=URI;X-ADDRESS=Seed to Table 998 E. Black Butte Avenue Sisters OR 97759 United States;X-APPLE-RADIUS=500;X-TITLE=998 E. Black Butte Avenue:geo:-121.536768,44.294769
END:VEVENT
BEGIN:VEVENT
DTSTART;TZID=America/Los_Angeles:20230927T110000
DTEND;TZID=America/Los_Angeles:20230927T120000
DTSTAMP:20260425T183844
CREATED:20230918T195746Z
LAST-MODIFIED:20230918T195746Z
UID:10004073-1695812400-1695816000@envirocenter.org
SUMMARY:Seed to Table Fall Farm Tours
DESCRIPTION:Seed to Table Farm invites our community onto the farm for a free fall tour. This once-a-year opportunity is a chance for you to explore tomatoes in the greenhouses\, get a taste of what students experience on field trips\, and ask questions to the farmers who steward the land to grow nearly 85\,000 pounds of produce on just a few acres. Feel free to bring a friend! You must pre-register for tours. \nThursday 9/21 4pm-5pm \nSaturday 9/23 10am-11am \nMonday 9/25 4pm-5pm \nWednesday 9/27 11am-12pm \nFriday 9/29 3pm-4pm \nSaturday 9/30 10am -11am \nREGISTER FOR FALL FARM TOURS!
URL:https://envirocenter.org/event/seed-to-table-fall-farm-tours/2023-09-27/
LOCATION:Seed to Table\, 998 E. Black Butte Avenue\, Sisters\, OR\, 97759\, United States
CATEGORIES:Food,Garden
ATTACH;FMTTYPE=image/jpeg:https://envirocenter.org/wp-content/uploads/2023/09/unnamed-3.jpg
GEO:44.294769;-121.536768
X-APPLE-STRUCTURED-LOCATION;VALUE=URI;X-ADDRESS=Seed to Table 998 E. Black Butte Avenue Sisters OR 97759 United States;X-APPLE-RADIUS=500;X-TITLE=998 E. Black Butte Avenue:geo:-121.536768,44.294769
END:VEVENT
BEGIN:VEVENT
DTSTART;TZID=America/Los_Angeles:20230927T183000
DTEND;TZID=America/Los_Angeles:20230927T200000
DTSTAMP:20260425T183844
CREATED:20230920T231923Z
LAST-MODIFIED:20230920T231923Z
UID:10004080-1695839400-1695844800@envirocenter.org
SUMMARY:Ethnobotany of the Klamath Basin
DESCRIPTION:Native cultures have called the Klamath Basin home for millennium and have developed a long and intimate relationship with the native plants of the Basin for food\, medicine\, tools\, and clothing.  In this talk\,  Erin Rentz\, Botanist with Six Rivers National Forest\, will discuss a selection of culturally significant plants and the importance of management of these resources. Erin studied Botany and Ecology at San Francisco State University and has worked as a botanist for the Forest Service for the past 15 years in southern Oregon and northern California. \nSeptember 27\, 2023\n6:30 pm\nWorthy Brewing\n495 NE Bellevue Dr.\, Bend OR 97701 \nRegister HERE
URL:https://envirocenter.org/event/ethnobotany-of-the-klamath-basin/
LOCATION:Worthy Brewing\, 495 Northeast Bellevue Drive\, Bend\, OR\, 97701\, United States
CATEGORIES:Food,Inclusion,Racial Justice,Science,Sustainability
ATTACH;FMTTYPE=image/png:https://envirocenter.org/wp-content/uploads/2023/09/unnamed-4.png
GEO:44.0553359;-121.2604571
X-APPLE-STRUCTURED-LOCATION;VALUE=URI;X-ADDRESS=Worthy Brewing 495 Northeast Bellevue Drive Bend OR 97701 United States;X-APPLE-RADIUS=500;X-TITLE=495 Northeast Bellevue Drive:geo:-121.2604571,44.0553359
END:VEVENT
BEGIN:VEVENT
DTSTART;TZID=America/Los_Angeles:20230929T150000
DTEND;TZID=America/Los_Angeles:20230929T160000
DTSTAMP:20260425T183844
CREATED:20230918T195746Z
LAST-MODIFIED:20230918T195746Z
UID:10004074-1695999600-1696003200@envirocenter.org
SUMMARY:Seed to Table Fall Farm Tours
DESCRIPTION:Seed to Table Farm invites our community onto the farm for a free fall tour. This once-a-year opportunity is a chance for you to explore tomatoes in the greenhouses\, get a taste of what students experience on field trips\, and ask questions to the farmers who steward the land to grow nearly 85\,000 pounds of produce on just a few acres. Feel free to bring a friend! You must pre-register for tours. \nThursday 9/21 4pm-5pm \nSaturday 9/23 10am-11am \nMonday 9/25 4pm-5pm \nWednesday 9/27 11am-12pm \nFriday 9/29 3pm-4pm \nSaturday 9/30 10am -11am \nREGISTER FOR FALL FARM TOURS!
URL:https://envirocenter.org/event/seed-to-table-fall-farm-tours/2023-09-29/
LOCATION:Seed to Table\, 998 E. Black Butte Avenue\, Sisters\, OR\, 97759\, United States
CATEGORIES:Food,Garden
ATTACH;FMTTYPE=image/jpeg:https://envirocenter.org/wp-content/uploads/2023/09/unnamed-3.jpg
GEO:44.294769;-121.536768
X-APPLE-STRUCTURED-LOCATION;VALUE=URI;X-ADDRESS=Seed to Table 998 E. Black Butte Avenue Sisters OR 97759 United States;X-APPLE-RADIUS=500;X-TITLE=998 E. Black Butte Avenue:geo:-121.536768,44.294769
END:VEVENT
BEGIN:VEVENT
DTSTART;TZID=America/Los_Angeles:20230930T100000
DTEND;TZID=America/Los_Angeles:20230930T110000
DTSTAMP:20260425T183844
CREATED:20230918T195746Z
LAST-MODIFIED:20230918T195746Z
UID:10004075-1696068000-1696071600@envirocenter.org
SUMMARY:Seed to Table Fall Farm Tours
DESCRIPTION:Seed to Table Farm invites our community onto the farm for a free fall tour. This once-a-year opportunity is a chance for you to explore tomatoes in the greenhouses\, get a taste of what students experience on field trips\, and ask questions to the farmers who steward the land to grow nearly 85\,000 pounds of produce on just a few acres. Feel free to bring a friend! You must pre-register for tours. \nThursday 9/21 4pm-5pm \nSaturday 9/23 10am-11am \nMonday 9/25 4pm-5pm \nWednesday 9/27 11am-12pm \nFriday 9/29 3pm-4pm \nSaturday 9/30 10am -11am \nREGISTER FOR FALL FARM TOURS!
URL:https://envirocenter.org/event/seed-to-table-fall-farm-tours/2023-09-30/
LOCATION:Seed to Table\, 998 E. Black Butte Avenue\, Sisters\, OR\, 97759\, United States
CATEGORIES:Food,Garden
ATTACH;FMTTYPE=image/jpeg:https://envirocenter.org/wp-content/uploads/2023/09/unnamed-3.jpg
GEO:44.294769;-121.536768
X-APPLE-STRUCTURED-LOCATION;VALUE=URI;X-ADDRESS=Seed to Table 998 E. Black Butte Avenue Sisters OR 97759 United States;X-APPLE-RADIUS=500;X-TITLE=998 E. Black Butte Avenue:geo:-121.536768,44.294769
END:VEVENT
BEGIN:VEVENT
DTSTART;TZID=America/Los_Angeles:20230930T180000
DTEND;TZID=America/Los_Angeles:20230930T210000
DTSTAMP:20260425T183844
CREATED:20230915T012211Z
LAST-MODIFIED:20230915T012211Z
UID:10004068-1696096800-1696107600@envirocenter.org
SUMMARY:Meet Your Farmer at Worthy Brewing Company featuring Beef Barn
DESCRIPTION:Locavore presents: \nA unique dining experience crafted to connect you with the hard working men and women of Central Oregon who grow the food that nourishes and sustains us. Featured Rancher: Stephanie and Jack Samples of Beef Barn\, Bend + Organically grown produce by Worthy Garden Club \n495 NE Bellevue Dr\, Bend\, OR 97701 \n*All proceeds benefit Central Oregon Locavore Non 501(c)3 Profit\, a portion of your ticket price is deductible to the extent of tax law \n\n\n\nMeet Your Farmer at Worthy Brewing Company featuring Beef Barn \nSaturday\, September 30\, 2023 6pm \n\n  \nMenu \nShepherd’s Pie – Beef Barn ground\, peas\, carrots parsnip mash \nPanzanella Salad – Sparrow bakery baguette\, Worthy Garden tomatoes\, Field Farm greens\, basil\, Classic vinaigrette \nSalisbury Steak – Roasted purple potato\, Worthy Garden beets and carrots\, mushroom demi-glaze \nPeach Bourbon B.B.Q. Brisket – Green beans and truffled mac and cheese \nDessert Surprise
URL:https://envirocenter.org/event/meet-your-farmer-at-worthy-brewing-company-featuring-beef-barn/
LOCATION:Worthy Brewing\, 495 Northeast Bellevue Drive\, Bend\, OR\, 97701\, United States
CATEGORIES:Agriculture,Food
ATTACH;FMTTYPE=image/jpeg:https://envirocenter.org/wp-content/uploads/2023/09/2D228275-744C-492B-9B9F-558F2AF58CE5.jpg
ORGANIZER;CN="Central Oregon Locavore":MAILTO:info@centraloregonlocavore.org
GEO:44.0553359;-121.2604571
X-APPLE-STRUCTURED-LOCATION;VALUE=URI;X-ADDRESS=Worthy Brewing 495 Northeast Bellevue Drive Bend OR 97701 United States;X-APPLE-RADIUS=500;X-TITLE=495 Northeast Bellevue Drive:geo:-121.2604571,44.0553359
END:VEVENT
END:VCALENDAR