BEGIN:VCALENDAR
VERSION:2.0
PRODID:-//The Environmental Center - ECPv6.15.20//NONSGML v1.0//EN
CALSCALE:GREGORIAN
METHOD:PUBLISH
X-WR-CALNAME:The Environmental Center
X-ORIGINAL-URL:https://envirocenter.org
X-WR-CALDESC:Events for The Environmental Center
REFRESH-INTERVAL;VALUE=DURATION:PT1H
X-Robots-Tag:noindex
X-PUBLISHED-TTL:PT1H
BEGIN:VTIMEZONE
TZID:America/Los_Angeles
BEGIN:DAYLIGHT
TZOFFSETFROM:-0800
TZOFFSETTO:-0700
TZNAME:PDT
DTSTART:20210314T100000
END:DAYLIGHT
BEGIN:STANDARD
TZOFFSETFROM:-0700
TZOFFSETTO:-0800
TZNAME:PST
DTSTART:20211107T090000
END:STANDARD
BEGIN:DAYLIGHT
TZOFFSETFROM:-0800
TZOFFSETTO:-0700
TZNAME:PDT
DTSTART:20220313T100000
END:DAYLIGHT
BEGIN:STANDARD
TZOFFSETFROM:-0700
TZOFFSETTO:-0800
TZNAME:PST
DTSTART:20221106T090000
END:STANDARD
BEGIN:DAYLIGHT
TZOFFSETFROM:-0800
TZOFFSETTO:-0700
TZNAME:PDT
DTSTART:20230312T100000
END:DAYLIGHT
BEGIN:STANDARD
TZOFFSETFROM:-0700
TZOFFSETTO:-0800
TZNAME:PST
DTSTART:20231105T090000
END:STANDARD
BEGIN:DAYLIGHT
TZOFFSETFROM:-0800
TZOFFSETTO:-0700
TZNAME:PDT
DTSTART:20240310T100000
END:DAYLIGHT
BEGIN:STANDARD
TZOFFSETFROM:-0700
TZOFFSETTO:-0800
TZNAME:PST
DTSTART:20241103T090000
END:STANDARD
BEGIN:DAYLIGHT
TZOFFSETFROM:-0800
TZOFFSETTO:-0700
TZNAME:PDT
DTSTART:20250309T100000
END:DAYLIGHT
BEGIN:STANDARD
TZOFFSETFROM:-0700
TZOFFSETTO:-0800
TZNAME:PST
DTSTART:20251102T090000
END:STANDARD
END:VTIMEZONE
BEGIN:VEVENT
DTSTART;VALUE=DATE:20220218
DTEND;VALUE=DATE:20220219
DTSTAMP:20260425T050846
CREATED:20220209T005836Z
LAST-MODIFIED:20230503T201412Z
UID:10003751-1645205400-1645218000@envirocenter.org
SUMMARY:The Father's Group Film Series Presents: Whose Streets?
DESCRIPTION:In recognition of Black History Month during February 2022\, COCC is honored to welcome speakers and programs that highlight Black triumph. Celebrate the past and present triumphs of the Black community while continuing our efforts to challenge oppressive systems and strive toward a more equitable future.
URL:https://envirocenter.org/event/the-fathers-group-film-series-presents-whose-streets/
LOCATION:Deschutes Brewery Public House\, 1044 NW Bond St\, Bend\, OR\, 97701\, United States
CATEGORIES:Film|Inclusion|Social Justice
GEO:44.0593984;-121.3113079
X-APPLE-STRUCTURED-LOCATION;VALUE=URI;X-ADDRESS=Deschutes Brewery Public House 1044 NW Bond St Bend OR 97701 United States;X-APPLE-RADIUS=500;X-TITLE=1044 NW Bond St:geo:-121.3113079,44.0593984
END:VEVENT
BEGIN:VEVENT
DTSTART;TZID=America/Los_Angeles:20241212T120000
DTEND;TZID=America/Los_Angeles:20241212T130000
DTSTAMP:20260425T050846
CREATED:20241121T201920Z
LAST-MODIFIED:20241121T201920Z
UID:10004536-1734004800-1734008400@envirocenter.org
SUMMARY:A Sense of Place Webinar Series: Indigenous Perspectives of Earth\, Water and Sky - Featuring David G. Lewis\, PhD
DESCRIPTION:A Sense of Place Webinar Series: Indigenous Perspectives of Earth\, Water and Sky – Featuring David G. Lewis\, PhD. – Assistant Professor\, Anthropology & Indigenous Studies\, Oregon State University.
URL:https://envirocenter.org/event/a-sense-of-place-webinar-series-indigenous-perspectives-of-earth-water-and-sky-featuring-david-g-lewis-phd/
LOCATION:375 SW Powerhouse Dr Suite 100\, Bend\, OR\, 97701\, United States
CATEGORIES:Advocacy|Equity|Online event|Social Justice,Climate|Environmental Justice|Inclusion|Online event,Climate|Food|Garden,Diversity|Inclusion|Music,Energy|Online event|Sustainability,Film|Inclusion|Social Justice,Food|Garden|Youth Education,Food|Music,Inclusion|Online event,Inclusion|Online event|Social Justice,Inclusion|Social Justice,Water
ATTACH;FMTTYPE=image/png:https://envirocenter.org/wp-content/uploads/2024/11/Dec-12-event.png
ORGANIZER;CN="Indigenous Education Institute":MAILTO:info@indigenousedu.org
END:VEVENT
END:VCALENDAR