BEGIN:VCALENDAR
VERSION:2.0
PRODID:-//The Environmental Center - ECPv6.15.20//NONSGML v1.0//EN
CALSCALE:GREGORIAN
METHOD:PUBLISH
X-ORIGINAL-URL:https://envirocenter.org
X-WR-CALDESC:Events for The Environmental Center
REFRESH-INTERVAL;VALUE=DURATION:PT1H
X-Robots-Tag:noindex
X-PUBLISHED-TTL:PT1H
BEGIN:VTIMEZONE
TZID:America/Los_Angeles
BEGIN:DAYLIGHT
TZOFFSETFROM:-0800
TZOFFSETTO:-0700
TZNAME:PDT
DTSTART:20140309T100000
END:DAYLIGHT
BEGIN:STANDARD
TZOFFSETFROM:-0700
TZOFFSETTO:-0800
TZNAME:PST
DTSTART:20141102T090000
END:STANDARD
BEGIN:DAYLIGHT
TZOFFSETFROM:-0800
TZOFFSETTO:-0700
TZNAME:PDT
DTSTART:20150308T100000
END:DAYLIGHT
BEGIN:STANDARD
TZOFFSETFROM:-0700
TZOFFSETTO:-0800
TZNAME:PST
DTSTART:20151101T090000
END:STANDARD
BEGIN:DAYLIGHT
TZOFFSETFROM:-0800
TZOFFSETTO:-0700
TZNAME:PDT
DTSTART:20160313T100000
END:DAYLIGHT
BEGIN:STANDARD
TZOFFSETFROM:-0700
TZOFFSETTO:-0800
TZNAME:PST
DTSTART:20161106T090000
END:STANDARD
END:VTIMEZONE
BEGIN:VEVENT
DTSTART;VALUE=DATE:20151002
DTEND;VALUE=DATE:20151003
DTSTAMP:20260422T042919
CREATED:20190917T230825Z
LAST-MODIFIED:20230503T200921Z
UID:10000378-1443801600-1443819600@envirocenter.org
SUMMARY:Wild & Scenic Film Festival
DESCRIPTION:Come see where epic adventure and environmental advocacy meet at the Oregon Natural Desert Association’s 12th annual Wild & Scenic Film Festival. An evening of short films showcasing our earth’s natural wonders\, feats of courage and athleticism\, and the amazing stories of activists working to protect our environment. \nCatch one of two screenings–buy your tickets by clicking either showtime below:\n\nMatinee: Doors 3:30pm | Show 4:30pm | $15 general admission | $11* students\nEvening: Doors 7pm | Show 8pm | $17 general admission | $11* students\n\n*Valid with student ID upon entry.\nAll prices listed here include the $3 Historic Theatre Preservation fee. \nCome for the films\, stay for the amazing raffle loaded with gear for your next adventure. Plus\, ticket holders are invited to a complimentary happy hour between screenings next door at OutsideIN. All proceeds benefit the Oregon Natural Desert Association’s efforts to protect\, defend\, and restore Oregon’s high desert.
URL:https://envirocenter.org/event/wild-scenic-film-festival-6-2019-10-04/
LOCATION:Deschutes Brewery Public House\, 1044 NW Bond St\, Bend\, OR\, 97701\, United States
CATEGORIES:Film
GEO:44.0593984;-121.3113079
X-APPLE-STRUCTURED-LOCATION;VALUE=URI;X-ADDRESS=Deschutes Brewery Public House 1044 NW Bond St Bend OR 97701 United States;X-APPLE-RADIUS=500;X-TITLE=1044 NW Bond St:geo:-121.3113079,44.0593984
END:VEVENT
END:VCALENDAR