BEGIN:VCALENDAR
VERSION:2.0
PRODID:-//The Environmental Center - ECPv6.15.20//NONSGML v1.0//EN
CALSCALE:GREGORIAN
METHOD:PUBLISH
X-WR-CALNAME:The Environmental Center
X-ORIGINAL-URL:https://envirocenter.org
X-WR-CALDESC:Events for The Environmental Center
REFRESH-INTERVAL;VALUE=DURATION:PT1H
X-Robots-Tag:noindex
X-PUBLISHED-TTL:PT1H
BEGIN:VTIMEZONE
TZID:America/Los_Angeles
BEGIN:DAYLIGHT
TZOFFSETFROM:-0800
TZOFFSETTO:-0700
TZNAME:PDT
DTSTART:20240310T100000
END:DAYLIGHT
BEGIN:STANDARD
TZOFFSETFROM:-0700
TZOFFSETTO:-0800
TZNAME:PST
DTSTART:20241103T090000
END:STANDARD
BEGIN:DAYLIGHT
TZOFFSETFROM:-0800
TZOFFSETTO:-0700
TZNAME:PDT
DTSTART:20250309T100000
END:DAYLIGHT
BEGIN:STANDARD
TZOFFSETFROM:-0700
TZOFFSETTO:-0800
TZNAME:PST
DTSTART:20251102T090000
END:STANDARD
BEGIN:DAYLIGHT
TZOFFSETFROM:-0800
TZOFFSETTO:-0700
TZNAME:PDT
DTSTART:20260308T100000
END:DAYLIGHT
BEGIN:STANDARD
TZOFFSETFROM:-0700
TZOFFSETTO:-0800
TZNAME:PST
DTSTART:20261101T090000
END:STANDARD
END:VTIMEZONE
BEGIN:VEVENT
DTSTART;TZID=America/Los_Angeles:20250116T170000
DTEND;TZID=America/Los_Angeles:20250116T190000
DTSTAMP:20260422T191433
CREATED:20250103T044349Z
LAST-MODIFIED:20250103T044349Z
UID:10004549-1737046800-1737054000@envirocenter.org
SUMMARY:January 2025 Green Drinks Film Screening
DESCRIPTION:The Environmental Center is thrilled to be kicking off the 2025 Green Drinks series with the screening of Footprints on Katmai. For this event\, we will be showing a thought-provoking film that focuses on Ocean plastic and marine debris in Alaska. We will wrap up with a Q&A with Current and former staff and High School students who will share their own experiences on their ocean plastic cleanup expeditions in Alaska. \n\nThursday\, January 16\, 5-7pm.\nThe Environmental Center: 16 NW Kansas Ave.\nLight snacks and refreshments will be provided.\nFree event\, but limited seating\, so RSVP today.\nAccessibility: The Environmental Center has two gender-neutral restrooms and one accessible/family restroom inside its facility. It also has one accessible parking space behind its facility. For those needing ramp access\, there is a ramp behind its facility.\nThis film will be captioned in English.\nPlease let us know in advance if there is something our team can do or provide to support you in participating in our event.
URL:https://envirocenter.org/event/january-2025-green-drinks-film-screening/
LOCATION:The Environmental Center\, 16 NW Kansas Avenue\, Bend\, OR\, 97703
CATEGORIES:Film,Green Drinks
ATTACH;FMTTYPE=image/png:https://envirocenter.org/wp-content/uploads/2023/05/Copy-of-October-Green-Drinks-IG-Post-1-e1664224217448.png
ORGANIZER;CN="The Environmental Center":MAILTO:info@envirocenter.org
GEO:44.055562;-121.3143083
X-APPLE-STRUCTURED-LOCATION;VALUE=URI;X-ADDRESS=The Environmental Center 16 NW Kansas Avenue Bend OR 97703;X-APPLE-RADIUS=500;X-TITLE=16 NW Kansas Avenue:geo:-121.3143083,44.055562
END:VEVENT
BEGIN:VEVENT
DTSTART;TZID=America/Los_Angeles:20250124T150000
DTEND;TZID=America/Los_Angeles:20250124T210000
DTSTAMP:20260422T191433
CREATED:20241223T170839Z
LAST-MODIFIED:20241223T170839Z
UID:10004545-1737730800-1737752400@envirocenter.org
SUMMARY:Backcountry Film Festival - Bend\, Oregon
DESCRIPTION:Join for the 20th annual Backcountry Film Festival presented by Winter Wildlands Alliance and Discover Your Forest! The Backcountry Film Festival celebrates the power and spirit of humans in winter with a diverse\, thought-provoking and artistic lineup of films. \nALL funds from this event go directly towards helping Discover Your Forest maintain free\, outstanding hands-on conservation education for thousands of Central Oregon’s youth\, and will help them grow their reach to underserved communities by purchasing adaptive equipment and support to ensure that all people\, regardless of their ability or identity can experience the thrill of the outdoors. \nThis year there will be 2 Bend showings at the Volcanic Theatre Pub on Friday\, January 24th: \n-3pm\, doors at 2:30pm \n-7pm\, doors at 6:30pm \nBoth shows will run 2 hours with a half hour intermission. \nThere are some awesome raffle prizes from local partners to give away during the event. Raffle tickets will be available for purchase at the door. \n 
URL:https://envirocenter.org/event/backcountry-film-festival-bend-oregon/
LOCATION:Volcanic Theater & Pub\, 70 SW Century Drive\, Bend\, OR\, 97701\, United States
CATEGORIES:Film,Film|Public Lands
ATTACH;FMTTYPE=image/png:https://envirocenter.org/wp-content/uploads/2024/12/unnamed-1.png
GEO:44.0510361;-121.3301301
X-APPLE-STRUCTURED-LOCATION;VALUE=URI;X-ADDRESS=Volcanic Theater & Pub 70 SW Century Drive Bend OR 97701 United States;X-APPLE-RADIUS=500;X-TITLE=70 SW Century Drive:geo:-121.3301301,44.0510361
END:VEVENT
END:VCALENDAR