BEGIN:VCALENDAR
VERSION:2.0
PRODID:-//The Environmental Center - ECPv6.15.20//NONSGML v1.0//EN
CALSCALE:GREGORIAN
METHOD:PUBLISH
X-ORIGINAL-URL:https://envirocenter.org
X-WR-CALDESC:Events for The Environmental Center
REFRESH-INTERVAL;VALUE=DURATION:PT1H
X-Robots-Tag:noindex
X-PUBLISHED-TTL:PT1H
BEGIN:VTIMEZONE
TZID:America/Los_Angeles
BEGIN:DAYLIGHT
TZOFFSETFROM:-0800
TZOFFSETTO:-0700
TZNAME:PDT
DTSTART:20230312T100000
END:DAYLIGHT
BEGIN:STANDARD
TZOFFSETFROM:-0700
TZOFFSETTO:-0800
TZNAME:PST
DTSTART:20231105T090000
END:STANDARD
BEGIN:DAYLIGHT
TZOFFSETFROM:-0800
TZOFFSETTO:-0700
TZNAME:PDT
DTSTART:20240310T100000
END:DAYLIGHT
BEGIN:STANDARD
TZOFFSETFROM:-0700
TZOFFSETTO:-0800
TZNAME:PST
DTSTART:20241103T090000
END:STANDARD
BEGIN:DAYLIGHT
TZOFFSETFROM:-0800
TZOFFSETTO:-0700
TZNAME:PDT
DTSTART:20250309T100000
END:DAYLIGHT
BEGIN:STANDARD
TZOFFSETFROM:-0700
TZOFFSETTO:-0800
TZNAME:PST
DTSTART:20251102T090000
END:STANDARD
END:VTIMEZONE
BEGIN:VEVENT
DTSTART;TZID=America/Los_Angeles:20240507T180000
DTEND;TZID=America/Los_Angeles:20240507T200000
DTSTAMP:20260423T200250
CREATED:20240418T170548Z
LAST-MODIFIED:20240429T175957Z
UID:10004212-1715104800-1715112000@envirocenter.org
SUMMARY:Gaining Ground: The Fight for Black Land Film Screening Followed by a Panel Discussion
DESCRIPTION:In partnership\, Central Oregon Community College\, The Environmental Center\, Central Oregon BIPOC\, and High Desert Food and Farm Alliance are proudly presenting  a screening of the documentary Gaining Ground: The Fight for Black Land followed by a panel discussion on Tuesday\, May 7\, 2024 at 6 pm in Central Oregon Community College’s Hitchcock Auditorium. \nThis exclusive screening will mark the Central Oregon debut of Gaining Ground: The Fight for Black Land from Executive Producer Al Roker. Gaining Ground explores why Black ownership of farmland has dwindled to alarmingly low numbers and examines the causes\, effects\, and solutions to the issues affecting Black land loss. \nAfter the screening\, audiences are invited to stay for a discussion moderated by Marcus LeGrand\, COCC’s Afrocentric Program Coordinator that will include. Dr. Dalton Miller-Jones\, retired Professor and member Restorative Justice and Equity Group. \nFree admission and reservations are not required.
URL:https://envirocenter.org/event/gaining-ground-the-fight-for-black-land-film-screening-followed-by-a-panel-discussion/
LOCATION:Hitchcock Building\, Pioneer Building 201\, COCC\, 2600 NW College Way\, Bend\, OR\, 97701\, United States
CATEGORIES:Agriculture,Climate,Film
ATTACH;FMTTYPE=image/jpeg:https://envirocenter.org/wp-content/uploads/2024/04/ABFF_Gaining-Ground-Final-UHD-4444-.mov.00_59_58_19.Still178-copy.jpg
ORGANIZER;CN="High Desert Food and Farm Alliance":MAILTO:info@hdffa.org
GEO:44.0713603;-121.3485532
X-APPLE-STRUCTURED-LOCATION;VALUE=URI;X-ADDRESS=Hitchcock Building Pioneer Building 201 COCC 2600 NW College Way Bend OR 97701 United States;X-APPLE-RADIUS=500;X-TITLE=2600 NW College Way:geo:-121.3485532,44.0713603
END:VEVENT
BEGIN:VEVENT
DTSTART;TZID=America/Los_Angeles:20240523T173000
DTEND;TZID=America/Los_Angeles:20240523T193000
DTSTAMP:20260423T200250
CREATED:20240502T185805Z
LAST-MODIFIED:20240502T185805Z
UID:10004407-1716485400-1716492600@envirocenter.org
SUMMARY:DREAM BOLDLY: The Grand AdvenChair at The Belfry
DESCRIPTION:Local Bend adventurer Geoff Babb\, a survivor of two strokes\, takes years to perfect an all-terrain human-powered wheelchair\, culminating in a rigorous 4-day expedition down and back out of the Grand Canyon\, with a ripple effect on others from its creation—access to nature previously out of reach. Sometimes one bold dream can change the world for many. \nCurrently in review by film festivals across the country and in Cannes\, France\, DREAM BOLDLY The Grand AdvenChair will leave you inspired by human resilience\, moved by first-hand accounts of an amazing adventure\, and believing in the power of dreams to make the world a better place. \nDOORS OPEN AT 5:00 PM\nRun time: 48 minutes\, followed by a Q&A with the AdvenChair visionary\, Geoff Babb\, other members of the Grand AdvenChair\, and Director Marcia Volk. \nThe Belfry will be hosting their bar. After the show and Q&A\, you can hang out with Geoff and the gang until 7:30 pm. \nGET TICKETS HERE!
URL:https://envirocenter.org/event/dream-boldly-the-grand-advenchair-at-the-belfry/
LOCATION:The Belfry\, 302 E Main Avenue\, Sisters\, 97759\, United States
CATEGORIES:Film,Outdoors & Adventure,Public Lands,Social Justice
ATTACH;FMTTYPE=image/jpeg:https://envirocenter.org/wp-content/uploads/2024/02/DreamBoldly1.jpg
GEO:44.2924085;-121.5471577
X-APPLE-STRUCTURED-LOCATION;VALUE=URI;X-ADDRESS=The Belfry 302 E Main Avenue Sisters 97759 United States;X-APPLE-RADIUS=500;X-TITLE=302 E Main Avenue:geo:-121.5471577,44.2924085
END:VEVENT
BEGIN:VEVENT
DTSTART;TZID=America/Los_Angeles:20240528T173000
DTEND;TZID=America/Los_Angeles:20240528T193000
DTSTAMP:20260423T200250
CREATED:20240502T185944Z
LAST-MODIFIED:20240502T185944Z
UID:10004408-1716917400-1716924600@envirocenter.org
SUMMARY:DREAM BOLDLY: The Grand AdvenChair at Open Space
DESCRIPTION:Local Bend adventurer Geoff Babb\, a survivor of two strokes\, takes years to perfect an all-terrain human-powered wheelchair\, culminating in a rigorous 4-day expedition down and back out of the Grand Canyon\, with a ripple effect on others from its creation—access to nature previously out of reach. Sometimes one bold dream can change the world for many. \nCurrently in review by film festivals across the country and in Cannes\, France\, DREAM BOLDLY The Grand AdvenChair will leave you inspired by human resilience\, moved by first-hand accounts of an amazing adventure\, and believing in the power of dreams to make the world a better place. \nDOORS OPEN AT 5:00 PM\nRun time: 48 minutes\, followed by a Q&A with the AdvenChair visionary\, Geoff Babb\, other members of the Grand AdvenChair\, and Director Marcia Volk. \nOpen Space Event Studios will be hosting their bar. After the show and Q&A\, you can hang out with Geoff and the gang until 7:30 pm.
URL:https://envirocenter.org/event/dream-boldly-the-grand-advenchair-at-open-space/
LOCATION:Open Space Event Studios\, 220 NE Lafayette Ave\, Bend\, OR\, 97701\, United States
CATEGORIES:Film,Outdoors & Adventure,Public Lands,Social Justice
ATTACH;FMTTYPE=image/jpeg:https://envirocenter.org/wp-content/uploads/2024/02/DreamBoldly1.jpg
GEO:44.0622509;-121.3034125
X-APPLE-STRUCTURED-LOCATION;VALUE=URI;X-ADDRESS=Open Space Event Studios 220 NE Lafayette Ave Bend OR 97701 United States;X-APPLE-RADIUS=500;X-TITLE=220 NE Lafayette Ave:geo:-121.3034125,44.0622509
END:VEVENT
END:VCALENDAR