BEGIN:VCALENDAR
VERSION:2.0
PRODID:-//The Environmental Center - ECPv6.15.20//NONSGML v1.0//EN
CALSCALE:GREGORIAN
METHOD:PUBLISH
X-WR-CALNAME:The Environmental Center
X-ORIGINAL-URL:https://envirocenter.org
X-WR-CALDESC:Events for The Environmental Center
REFRESH-INTERVAL;VALUE=DURATION:PT1H
X-Robots-Tag:noindex
X-PUBLISHED-TTL:PT1H
BEGIN:VTIMEZONE
TZID:America/Los_Angeles
BEGIN:DAYLIGHT
TZOFFSETFROM:-0800
TZOFFSETTO:-0700
TZNAME:PDT
DTSTART:20190310T100000
END:DAYLIGHT
BEGIN:STANDARD
TZOFFSETFROM:-0700
TZOFFSETTO:-0800
TZNAME:PST
DTSTART:20191103T090000
END:STANDARD
BEGIN:DAYLIGHT
TZOFFSETFROM:-0800
TZOFFSETTO:-0700
TZNAME:PDT
DTSTART:20200308T100000
END:DAYLIGHT
BEGIN:STANDARD
TZOFFSETFROM:-0700
TZOFFSETTO:-0800
TZNAME:PST
DTSTART:20201101T090000
END:STANDARD
BEGIN:DAYLIGHT
TZOFFSETFROM:-0800
TZOFFSETTO:-0700
TZNAME:PDT
DTSTART:20210314T100000
END:DAYLIGHT
BEGIN:STANDARD
TZOFFSETFROM:-0700
TZOFFSETTO:-0800
TZNAME:PST
DTSTART:20211107T090000
END:STANDARD
BEGIN:DAYLIGHT
TZOFFSETFROM:-0800
TZOFFSETTO:-0700
TZNAME:PDT
DTSTART:20220313T100000
END:DAYLIGHT
BEGIN:STANDARD
TZOFFSETFROM:-0700
TZOFFSETTO:-0800
TZNAME:PST
DTSTART:20221106T090000
END:STANDARD
BEGIN:DAYLIGHT
TZOFFSETFROM:-0800
TZOFFSETTO:-0700
TZNAME:PDT
DTSTART:20230312T100000
END:DAYLIGHT
BEGIN:STANDARD
TZOFFSETFROM:-0700
TZOFFSETTO:-0800
TZNAME:PST
DTSTART:20231105T090000
END:STANDARD
END:VTIMEZONE
BEGIN:VEVENT
DTSTART;VALUE=DATE:20220225
DTEND;VALUE=DATE:20220226
DTSTAMP:20260420T211232
CREATED:20220209T011038Z
LAST-MODIFIED:20230503T201412Z
UID:10003753-1645790400-1645795800@envirocenter.org
SUMMARY:Zero Energy ADU Site Visit
DESCRIPTION:Gain a behind-the-walls look at features and benefits of ‘Zero Energy’ ADUs \nHear the “why” and the “how” behind building Zero Energy Accessory Dwelling Units (ADUs) from two nationally-recognized industry leaders\, SHP Instructor Josh Salinger of Birdsmouth Design-Build and ADU Specialist Instructor Kol Peterson of Accessory Dwelling Strategies LLC.
URL:https://envirocenter.org/event/zero-energy-adu-site-visit/
LOCATION:Deschutes Brewery Public House\, 1044 NW Bond St\, Bend\, OR\, 97701\, United States
CATEGORIES:Energy|Online event
GEO:44.0593984;-121.3113079
X-APPLE-STRUCTURED-LOCATION;VALUE=URI;X-ADDRESS=Deschutes Brewery Public House 1044 NW Bond St Bend OR 97701 United States;X-APPLE-RADIUS=500;X-TITLE=1044 NW Bond St:geo:-121.3113079,44.0593984
END:VEVENT
BEGIN:VEVENT
DTSTART;VALUE=DATE:20220211
DTEND;VALUE=DATE:20220212
DTSTAMP:20260420T211232
CREATED:20220207T081415Z
LAST-MODIFIED:20230503T201406Z
UID:10003746-1644580800-1644584400@envirocenter.org
SUMMARY:Zero Energy Homes: Updates & Cost Effective Approaches
DESCRIPTION:Join Earth Advantage for this no cost 1-hour webinar and gain valuable info on the latest developments and construction approaches to Zero Energy (ZE) & Zero Energy Ready (ZER) construction in the NW region.
URL:https://envirocenter.org/event/zero-energy-homes-updates-cost-effective-approaches/
LOCATION:Deschutes Brewery Public House\, 1044 NW Bond St\, Bend\, OR\, 97701\, United States
CATEGORIES:Energy|Online event
GEO:44.0593984;-121.3113079
X-APPLE-STRUCTURED-LOCATION;VALUE=URI;X-ADDRESS=Deschutes Brewery Public House 1044 NW Bond St Bend OR 97701 United States;X-APPLE-RADIUS=500;X-TITLE=1044 NW Bond St:geo:-121.3113079,44.0593984
END:VEVENT
BEGIN:VEVENT
DTSTART;VALUE=DATE:20211208
DTEND;VALUE=DATE:20211209
DTSTAMP:20260420T211232
CREATED:20220208T074500Z
LAST-MODIFIED:20230503T201411Z
UID:10003711-1638990000-1638993600@envirocenter.org
SUMMARY:How to Go Solar
DESCRIPTION:In these free webinars\, Solar Oregon will answer your questions about how solar energy systems work\, share information about incentives available\, and help you take the first step to add solar to your home or business. In addition\, at each workshop\, you will discuss one of three special topics: solar + storage\, community solar\, and the Solar Within Reach incentive.
URL:https://envirocenter.org/event/how-to-go-solar-5/
LOCATION:Deschutes Brewery Public House\, 1044 NW Bond St\, Bend\, OR\, 97701\, United States
CATEGORIES:Energy|Online event
GEO:44.0593984;-121.3113079
X-APPLE-STRUCTURED-LOCATION;VALUE=URI;X-ADDRESS=Deschutes Brewery Public House 1044 NW Bond St Bend OR 97701 United States;X-APPLE-RADIUS=500;X-TITLE=1044 NW Bond St:geo:-121.3113079,44.0593984
END:VEVENT
BEGIN:VEVENT
DTSTART;VALUE=DATE:20211011
DTEND;VALUE=DATE:20211017
DTSTAMP:20260420T211232
CREATED:20211009T080816Z
LAST-MODIFIED:20230503T201333Z
UID:10001833-1633910400-1634428799@envirocenter.org
SUMMARY:SUSTAINABLE BUILDING WEEK 2021!
DESCRIPTION:October 11\, 2021 kicks off the fourth annual Sustainable Building Week (SBW)\, an event-filled week from a cross section of Portland’s design professional organizations. The week will bring the best and brightest building professional organizations together to educate\, connect and foster opportunities for future collaboration to Keep Portland Green. Whether its combating climate change\, protecting our natural resources or investigating the increasing number of dangerous chemicals in our indoor spaces\, the multitude of issues that need to be addressed require more attention by all of us. \n 
URL:https://envirocenter.org/event/sustainable-building-week-2021/
LOCATION:Deschutes Brewery Public House\, 1044 NW Bond St\, Bend\, OR\, 97701\, United States
CATEGORIES:Energy|Online event
GEO:44.0593984;-121.3113079
X-APPLE-STRUCTURED-LOCATION;VALUE=URI;X-ADDRESS=Deschutes Brewery Public House 1044 NW Bond St Bend OR 97701 United States;X-APPLE-RADIUS=500;X-TITLE=1044 NW Bond St:geo:-121.3113079,44.0593984
END:VEVENT
BEGIN:VEVENT
DTSTART;VALUE=DATE:20210818
DTEND;VALUE=DATE:20210819
DTSTAMP:20260420T211232
CREATED:20210615T064510Z
LAST-MODIFIED:20230503T201300Z
UID:10003619-1629288000-1629291600@envirocenter.org
SUMMARY:Home Backup Power
DESCRIPTION:Join the Electrify! Coalition as we explore the options available to us for making our homes more energy resilient. They will provide information on back-up batteries\, generators and air filtration – solutions that can make our homes safer and more comfortable during power outages form winter storms or summer wildfires. \nHow do back-up battery systems work?\nDo I have to have solar panels for battery systems to work?\nWho is making good battery systems?\nHow do they compare in cost and effectiveness to backup generators?\nWhat systems in our homes should be connected to back-up power?\nWhat are the typical costs for a good back-up power system?\nHow do I choose a contractor to install these systems?\nWhat are good options for effective air filtration for wildfire smoke?\nHow do I set up an air filtration system that will work if the power goes out?
URL:https://envirocenter.org/event/home-backup-power/
LOCATION:Deschutes Brewery Public House\, 1044 NW Bond St\, Bend\, OR\, 97701\, United States
CATEGORIES:Energy|Online event
GEO:44.0593984;-121.3113079
X-APPLE-STRUCTURED-LOCATION;VALUE=URI;X-ADDRESS=Deschutes Brewery Public House 1044 NW Bond St Bend OR 97701 United States;X-APPLE-RADIUS=500;X-TITLE=1044 NW Bond St:geo:-121.3113079,44.0593984
END:VEVENT
BEGIN:VEVENT
DTSTART;VALUE=DATE:20210728
DTEND;VALUE=DATE:20210729
DTSTAMP:20260420T211232
CREATED:20210713T055632Z
LAST-MODIFIED:20230503T201308Z
UID:10001792-1627491600-1627495200@envirocenter.org
SUMMARY:OLCV Youth & State Legislator Round Table 2021
DESCRIPTION:Join OLCV’s virtual Youth Round Table to meet legislators\, learn more about state politics\, and discuss recent climate action. \nThere will be opportunities to ask questions about what it’s like to be a state legislator\, what it takes to become a state legislator\, and opportunities for YOU to respond to questions from legislators. \nThe event will also feature a special discussion on the passage and future of 100% Clean Energy for All (HB 2021). \nThis event is geared toward ages 13-24. \nIf you have questions about the event\, please contact OLCV’s Engagement Organizer Tia Hatton at tia@olcv.org. \n 
URL:https://envirocenter.org/event/olcv-youth-state-legislator-round-table-2021/
LOCATION:Deschutes Brewery Public House\, 1044 NW Bond St\, Bend\, OR\, 97701\, United States
CATEGORIES:Energy|Online event
GEO:44.0593984;-121.3113079
X-APPLE-STRUCTURED-LOCATION;VALUE=URI;X-ADDRESS=Deschutes Brewery Public House 1044 NW Bond St Bend OR 97701 United States;X-APPLE-RADIUS=500;X-TITLE=1044 NW Bond St:geo:-121.3113079,44.0593984
END:VEVENT
BEGIN:VEVENT
DTSTART;VALUE=DATE:20210714
DTEND;VALUE=DATE:20210715
DTSTAMP:20260420T211232
CREATED:20210615T062207Z
LAST-MODIFIED:20230503T201300Z
UID:10001783-1626264000-1626267600@envirocenter.org
SUMMARY:Ductless Heat Pumps - The most efficient heating solution
DESCRIPTION:Join the Electrify! Coalition as we do a deep dive on ductless heat pumps – the most efficient systems available for home heating and cooling. They’ll interview some of the leading experts on this all-important heating and cooling technology and answer questions like: \nWhat is the best application for ductless heat pumps?\nDo heat pumps work in my climate zone?\nWill a ductless heat pump lower my carbon footprint?\nHow do I choose a contractor?\nHow do I choose a brand or model of heat pump?\nWhat is a SEER rating and why should I care?\nCan ductless augment my current heating system so I use less gas?\nWhat are the costs and incentives to purchase a ductless heat pump?\nCan ductless heat pumps provide air conditioning?\nWhat are the options for multiple room heating and cooling?
URL:https://envirocenter.org/event/ductless-heat-pumps-the-most-efficient-heating-solution/
LOCATION:Deschutes Brewery Public House\, 1044 NW Bond St\, Bend\, OR\, 97701\, United States
CATEGORIES:Energy|Online event
GEO:44.0593984;-121.3113079
X-APPLE-STRUCTURED-LOCATION;VALUE=URI;X-ADDRESS=Deschutes Brewery Public House 1044 NW Bond St Bend OR 97701 United States;X-APPLE-RADIUS=500;X-TITLE=1044 NW Bond St:geo:-121.3113079,44.0593984
END:VEVENT
BEGIN:VEVENT
DTSTART;VALUE=DATE:20210623
DTEND;VALUE=DATE:20210624
DTSTAMP:20260420T211232
CREATED:20210615T061650Z
LAST-MODIFIED:20230503T201259Z
UID:10001782-1624449600-1624453200@envirocenter.org
SUMMARY:All Electric Yard Care - Ditch the gas
DESCRIPTION:Join the Electrify! Coalition for an informative webinar on electric outdoor power tools. They’ll be talking with some of the leading experts on the electrification of the landscape maintenance industry and the manufacturers of outdoor landscape equipment about why this is important\, and the state of the transition away from gas powered tools. They will provide tips on how you can make this transition in your home or community\, and discuss: \n• How much air pollution and toxic solid waste is produced by gas powered tools\n• Why the noise and emissions from these tools is not just a nuisance\n• How battery powered tools deliver performance and productivity that rivals gas\n• The advantages of electric: low operation and maintenance costs\, ease of use\n• Tips for homeowners wanting to make the switch\n• The transition happening in the commercial landscape maintenance industry\n• How cities\, schools and communities can electrify their fleets\n• The concept of certified Green Zones – fossil fuel free public outdoor spaces
URL:https://envirocenter.org/event/all-electric-yard-care-ditch-the-gas/
LOCATION:Deschutes Brewery Public House\, 1044 NW Bond St\, Bend\, OR\, 97701\, United States
CATEGORIES:Energy|Online event
GEO:44.0593984;-121.3113079
X-APPLE-STRUCTURED-LOCATION;VALUE=URI;X-ADDRESS=Deschutes Brewery Public House 1044 NW Bond St Bend OR 97701 United States;X-APPLE-RADIUS=500;X-TITLE=1044 NW Bond St:geo:-121.3113079,44.0593984
END:VEVENT
BEGIN:VEVENT
DTSTART;VALUE=DATE:20210316
DTEND;VALUE=DATE:20210317
DTSTAMP:20260420T211232
CREATED:20210622T054408Z
LAST-MODIFIED:20230503T201301Z
UID:10003538-1615903200-1615906800@envirocenter.org
SUMMARY:How to Go Solar webinar
DESCRIPTION:As we enjoy some extra warm and sunny weather here in Oregon\, learn more about how to start your journey towards solar energy! \nAt the How to Go Solar workshop\, you’ll learn everything you need to know to feel confident adding solar to your home or business. \nLauren Williamsenviro \n 
URL:https://envirocenter.org/event/how-to-go-solar-webinar-2/
LOCATION:Deschutes Brewery Public House\, 1044 NW Bond St\, Bend\, OR\, 97701\, United States
CATEGORIES:Energy|Online event
GEO:44.0593984;-121.3113079
X-APPLE-STRUCTURED-LOCATION;VALUE=URI;X-ADDRESS=Deschutes Brewery Public House 1044 NW Bond St Bend OR 97701 United States;X-APPLE-RADIUS=500;X-TITLE=1044 NW Bond St:geo:-121.3113079,44.0593984
END:VEVENT
BEGIN:VEVENT
DTSTART;VALUE=DATE:20210127
DTEND;VALUE=DATE:20210128
DTSTAMP:20260420T211232
CREATED:20220208T074037Z
LAST-MODIFIED:20230503T201410Z
UID:10001657-1611766800-1611770400@envirocenter.org
SUMMARY:How to Go Solar
DESCRIPTION:In these free webinars\, Solar Oregon will answer your questions about how solar energy systems work\, share information about incentives available\, and help you take the first step to add solar to your home or business. In addition\, at each workshop\, you will discuss one of three special topics: solar + storage\, community solar\, and the Solar Within Reach incentive.
URL:https://envirocenter.org/event/how-to-go-solar-4/
LOCATION:Deschutes Brewery Public House\, 1044 NW Bond St\, Bend\, OR\, 97701\, United States
CATEGORIES:Energy|Online event
GEO:44.0593984;-121.3113079
X-APPLE-STRUCTURED-LOCATION;VALUE=URI;X-ADDRESS=Deschutes Brewery Public House 1044 NW Bond St Bend OR 97701 United States;X-APPLE-RADIUS=500;X-TITLE=1044 NW Bond St:geo:-121.3113079,44.0593984
END:VEVENT
BEGIN:VEVENT
DTSTART;VALUE=DATE:20210121
DTEND;VALUE=DATE:20210122
DTSTAMP:20260420T211232
CREATED:20220208T074725Z
LAST-MODIFIED:20230503T201411Z
UID:10001656-1611244800-1611248400@envirocenter.org
SUMMARY:How to Go Solar
DESCRIPTION:In these free webinars\, Solar Oregon will answer your questions about how solar energy systems work\, share information about incentives available\, and help you take the first step to add solar to your home or business. In addition\, at each workshop\, you will discuss one of three special topics: solar + storage\, community solar\, and the Solar Within Reach incentive.
URL:https://envirocenter.org/event/how-to-go-solar-6/
LOCATION:Deschutes Brewery Public House\, 1044 NW Bond St\, Bend\, OR\, 97701\, United States
CATEGORIES:Energy|Online event
GEO:44.0593984;-121.3113079
X-APPLE-STRUCTURED-LOCATION;VALUE=URI;X-ADDRESS=Deschutes Brewery Public House 1044 NW Bond St Bend OR 97701 United States;X-APPLE-RADIUS=500;X-TITLE=1044 NW Bond St:geo:-121.3113079,44.0593984
END:VEVENT
BEGIN:VEVENT
DTSTART;VALUE=DATE:20210113
DTEND;VALUE=DATE:20210114
DTSTAMP:20260420T211232
CREATED:20210109T062009Z
LAST-MODIFIED:20230503T201138Z
UID:10001648-1610539200-1610542800@envirocenter.org
SUMMARY:Electric Fireplace Inserts - Warm\, cozy\, clean flames
DESCRIPTION:Electric fireplaces are an efficient and cozy option for virtually any home. \nJoin Electrify Now as they debunk one of the last arguments for natural gas – the fireplace. They will explore how modern electric fireplaces are an efficient and cozy option for virtually any home. From their “see it to believe it” realistic flames\, color options\, heat free fires for summer ambiance to their easy installation\, increased safety and indoor emissions reductions\, electric fireplaces are an important part of the all-electric home of the future.
URL:https://envirocenter.org/event/electric-fireplace-inserts-warm-cozy-clean-flames/
LOCATION:Deschutes Brewery Public House\, 1044 NW Bond St\, Bend\, OR\, 97701\, United States
CATEGORIES:Energy|Online event
GEO:44.0593984;-121.3113079
X-APPLE-STRUCTURED-LOCATION;VALUE=URI;X-ADDRESS=Deschutes Brewery Public House 1044 NW Bond St Bend OR 97701 United States;X-APPLE-RADIUS=500;X-TITLE=1044 NW Bond St:geo:-121.3113079,44.0593984
END:VEVENT
BEGIN:VEVENT
DTSTART;VALUE=DATE:20201113
DTEND;VALUE=DATE:20201114
DTSTAMP:20260420T211232
CREATED:20201029T022531Z
LAST-MODIFIED:20230503T201120Z
UID:10003453-1605268800-1605279600@envirocenter.org
SUMMARY:How to Cost-Effectively Build Zero Energy Homes
DESCRIPTION:Zero Energy (ZE) homes are a big part of the future of homebuilding business. While the materials and equipment to reach zero energy are available\, designers and builders must create a bundle of energy-efficiency features that matches their climate\, customers\, and business constraints. There is no one-size-fits-all solution. This training will will lay out numerous elements of zero energy homebuilding so professionals can formulate a unique package appropriate for their situation: \n\nFriday\, November 13 @ 12PM – 3PM (PDT) – Windows\, Mechanical Ventilation\, Heating & Cooling\, Water Heating\, Lights & Appliances\, Renewable Energy\n\nGuest speaker: Mike Ardeljan\, Dream Home Building and Design LLC\n\n\nOptional Extended Q&A @ 3PM – 3:30PM (PDT) – Offered both days. Will be recorded and provided to participants. 
URL:https://envirocenter.org/event/how-to-cost-effectively-build-zero-energy-homes-3/
LOCATION:Deschutes Brewery Public House\, 1044 NW Bond St\, Bend\, OR\, 97701\, United States
CATEGORIES:Energy|Online event
GEO:44.0593984;-121.3113079
X-APPLE-STRUCTURED-LOCATION;VALUE=URI;X-ADDRESS=Deschutes Brewery Public House 1044 NW Bond St Bend OR 97701 United States;X-APPLE-RADIUS=500;X-TITLE=1044 NW Bond St:geo:-121.3113079,44.0593984
END:VEVENT
BEGIN:VEVENT
DTSTART;VALUE=DATE:20201106
DTEND;VALUE=DATE:20201107
DTSTAMP:20260420T211232
CREATED:20201029T022127Z
LAST-MODIFIED:20230503T201120Z
UID:10003452-1604664000-1604674800@envirocenter.org
SUMMARY:How to Cost-Effectively Build Zero Energy Homes
DESCRIPTION:Zero Energy (ZE) homes are a big part of the future of homebuilding business. While the materials and equipment to reach zero energy are available\, designers and builders must create a bundle of energy-efficiency features that matches their climate\, customers\, and business constraints. There is no one-size-fits-all solution. This training will will lay out numerous elements of zero energy homebuilding so professionals can formulate a unique package appropriate for their situation: \n\nFriday\, November 6 @ 12PM – 3PM (PDT) – Intro to ZE\, Affordability\, Design\, Site Orientation\, Energy Modeling\, Air Sealing\, Insulation\, Certification Programs\, Oregon Case Studies\, Local Market & Policy Development\, & Incentive Programs\n\nGuest speakers: Matt Douglas\, Earth Advantage & Matthew Mills\, Energy Trust of Oregon\n\n\nFriday\, November 13 @ 12PM – 3PM (PDT) – Windows\, Mechanical Ventilation\, Heating & Cooling\, Water Heating\, Lights & Appliances\, Renewable Energy\n\nGuest speaker: Mike Ardeljan\, Dream Home Building and Design LLC\n\n\nOptional Extended Q&A @ 3PM – 3:30PM (PDT) – Offered both days. Will be recorded and provided to participants. 
URL:https://envirocenter.org/event/how-to-cost-effectively-build-zero-energy-homes-2/
LOCATION:Deschutes Brewery Public House\, 1044 NW Bond St\, Bend\, OR\, 97701\, United States
CATEGORIES:Energy|Online event
GEO:44.0593984;-121.3113079
X-APPLE-STRUCTURED-LOCATION;VALUE=URI;X-ADDRESS=Deschutes Brewery Public House 1044 NW Bond St Bend OR 97701 United States;X-APPLE-RADIUS=500;X-TITLE=1044 NW Bond St:geo:-121.3113079,44.0593984
END:VEVENT
BEGIN:VEVENT
DTSTART;VALUE=DATE:20200929
DTEND;VALUE=DATE:20200930
DTSTAMP:20260420T211232
CREATED:20200923T071358Z
LAST-MODIFIED:20230503T201103Z
UID:10001587-1601400600-1601406000@envirocenter.org
SUMMARY:Basics of Solar Webinar
DESCRIPTION:Solar Oregon is hosting this special webinar on the basics of solar. \nSolar Oregon will answer your questions about how solar works\, share information about incentives available\, and help you take the first step to adding solar on your home or business. In addition\, you get the chance to briefly talk about how the combination of solar + storage (batteries) can provide critical home energy resilience in the context of the Cascadia earthquake and other hazards. \nThis webinar is free and open to everyone. RSVP for a link to join. \nThis workshop is made possible with support from Energy Trust of Oregon
URL:https://envirocenter.org/event/basics-of-solar-webinar/
LOCATION:Deschutes Brewery Public House\, 1044 NW Bond St\, Bend\, OR\, 97701\, United States
CATEGORIES:Energy|Online event
GEO:44.0593984;-121.3113079
X-APPLE-STRUCTURED-LOCATION;VALUE=URI;X-ADDRESS=Deschutes Brewery Public House 1044 NW Bond St Bend OR 97701 United States;X-APPLE-RADIUS=500;X-TITLE=1044 NW Bond St:geo:-121.3113079,44.0593984
END:VEVENT
END:VCALENDAR