BEGIN:VCALENDAR
VERSION:2.0
PRODID:-//The Environmental Center - ECPv6.15.20//NONSGML v1.0//EN
CALSCALE:GREGORIAN
METHOD:PUBLISH
X-WR-CALNAME:The Environmental Center
X-ORIGINAL-URL:https://envirocenter.org
X-WR-CALDESC:Events for The Environmental Center
REFRESH-INTERVAL;VALUE=DURATION:PT1H
X-Robots-Tag:noindex
X-PUBLISHED-TTL:PT1H
BEGIN:VTIMEZONE
TZID:America/Los_Angeles
BEGIN:DAYLIGHT
TZOFFSETFROM:-0800
TZOFFSETTO:-0700
TZNAME:PDT
DTSTART:20230312T100000
END:DAYLIGHT
BEGIN:STANDARD
TZOFFSETFROM:-0700
TZOFFSETTO:-0800
TZNAME:PST
DTSTART:20231105T090000
END:STANDARD
BEGIN:DAYLIGHT
TZOFFSETFROM:-0800
TZOFFSETTO:-0700
TZNAME:PDT
DTSTART:20240310T100000
END:DAYLIGHT
BEGIN:STANDARD
TZOFFSETFROM:-0700
TZOFFSETTO:-0800
TZNAME:PST
DTSTART:20241103T090000
END:STANDARD
BEGIN:DAYLIGHT
TZOFFSETFROM:-0800
TZOFFSETTO:-0700
TZNAME:PDT
DTSTART:20250309T100000
END:DAYLIGHT
BEGIN:STANDARD
TZOFFSETFROM:-0700
TZOFFSETTO:-0800
TZNAME:PST
DTSTART:20251102T090000
END:STANDARD
BEGIN:DAYLIGHT
TZOFFSETFROM:-0800
TZOFFSETTO:-0700
TZNAME:PDT
DTSTART:20260308T100000
END:DAYLIGHT
BEGIN:STANDARD
TZOFFSETFROM:-0700
TZOFFSETTO:-0800
TZNAME:PST
DTSTART:20261101T090000
END:STANDARD
END:VTIMEZONE
BEGIN:VEVENT
DTSTART;TZID=America/Los_Angeles:20241028T160000
DTEND;TZID=America/Los_Angeles:20241028T180000
DTSTAMP:20260421T174643
CREATED:20241025T165731Z
LAST-MODIFIED:20241025T165731Z
UID:10004522-1730131200-1730138400@envirocenter.org
SUMMARY:Sunsetting Solarize: Your Last Chance to Go Solar with Solarize Deschutes
DESCRIPTION:Don’t miss out on this final opportunity to explore solar energy for your home through the Solarize Deschutes campaign before it ends on October 31st! Whether you’re just starting your solar journey or have already received a quote\, this event is your chance to get expert advice\, learn about current tax credits and incentives\, and connect with other homeowners making the switch. \nWhat to Expect: \n\nExpert Guidance: Have your solar questions answered by professionals and get tailored advice based on your needs.\nBring Your Proposal: If you’ve already received a quote\, bring it along for additional insights and guidance.\nLearn About Solar: If you’re new to the process\, we’ll walk you through how solar works\, the benefits\, and how you can join the campaign before the deadline.\nExclusive Discounts: Sign up for a no-obligation solar assessment by October 31st to lock in discounted pricing and see if your home qualifies.\nFun for All: Kids’ activities\, light snacks\, and beverages provided\, making it easy to drop in anytime from 4:00–6:00 PM.\nBonus Resources: If solar isn’t the right fit for your home\, learn about additional energy-saving options\n\nAbout Solarize Deschutes: Solarize Deschutes is a community-powered initiative aimed at making solar energy more accessible and affordable in Deschutes County. Led by The Environmental Center\, Energize Bend\, and community members\, this campaign has helped local residents discover their solar potential through discounted rates and community support. \nIf you need to request custom analysis of your home and a bid\, make sure to do so before October 31st. If you have any questions\, please connect with us at solarize@envirocenter.org.  \nThis is your final chance to get involved before the sun sets on this campaign\, so don’t wait—join us and see how easy it can be to go solar! \nREGISTER HERE \n 
URL:https://envirocenter.org/event/sunsetting-solarize-your-last-chance-to-go-solar-with-solarize-deschutes/
LOCATION:The Environmental Center\, 16 NW Kansas Avenue\, Bend\, OR\, 97703
CATEGORIES:Climate,Energy
ATTACH;FMTTYPE=image/jpeg:https://envirocenter.org/wp-content/uploads/2024/10/Insta-sunsetting-1.jpg
ORGANIZER;CN="The Environmental Center":MAILTO:info@envirocenter.org
GEO:44.055562;-121.3143083
X-APPLE-STRUCTURED-LOCATION;VALUE=URI;X-ADDRESS=The Environmental Center 16 NW Kansas Avenue Bend OR 97703;X-APPLE-RADIUS=500;X-TITLE=16 NW Kansas Avenue:geo:-121.3143083,44.055562
END:VEVENT
BEGIN:VEVENT
DTSTART;TZID=America/Los_Angeles:20241029T120000
DTEND;TZID=America/Los_Angeles:20241029T130000
DTSTAMP:20260421T174643
CREATED:20241008T235820Z
LAST-MODIFIED:20241015T180459Z
UID:10004516-1730203200-1730206800@envirocenter.org
SUMMARY:Climate Resilience in Housing Panel
DESCRIPTION:RSVP HERE!
URL:https://envirocenter.org/event/climate-resilience-in-housing-panel/
LOCATION:The Environmental Center\, 16 NW Kansas Avenue\, Bend\, OR\, 97703
CATEGORIES:Advocacy,Climate,Energy,Social Justice,solar,Sustainability
ATTACH;FMTTYPE=image/jpeg:https://envirocenter.org/wp-content/uploads/2024/10/Flyer-Climate-Resilience-in-Housing-copy.jpeg
GEO:44.055562;-121.3143083
X-APPLE-STRUCTURED-LOCATION;VALUE=URI;X-ADDRESS=The Environmental Center 16 NW Kansas Avenue Bend OR 97703;X-APPLE-RADIUS=500;X-TITLE=16 NW Kansas Avenue:geo:-121.3143083,44.055562
END:VEVENT
BEGIN:VEVENT
DTSTART;TZID=America/Los_Angeles:20241029T160000
DTEND;TZID=America/Los_Angeles:20241029T173000
DTSTAMP:20260421T174643
CREATED:20241025T193010Z
LAST-MODIFIED:20241025T193010Z
UID:10004523-1730217600-1730223000@envirocenter.org
SUMMARY:How to Make Decisions About Energy Investments for Affordable Housing
DESCRIPTION:Guidance on How to Make Decisions About Energy Investments for Affordable Housing\nJoin us on October 29 at the Azimuth 315 Apartments in Bend for a thoughtful discussion with local leader and Energy Trust Net Zero Fellow Rob Roy\, who will share replicable strategies for analyzing and making decisions about energy investments in commercial construction. Research is based on comparisons of modeled and operating performance of three Pacific Crest Affordable Housing projects in Bend. The event space\, Azimuth 315\, is one of the case studies featured in his research. \nThrough his research\, Rob evaluated the efficacy and replicability of Pacific Crest’s financial model\, which considers the long-term monetary impact of implementing various energy efficiency measures and renewable energy systems. Rob also developed a tool that other affordable housing developers and design teams can use to evaluate the impacts of energy efficiency measures and renewable energy systems over the lifespan of their projects. \nRob Roy has established himself as an industry leader by building some of the most energy-efficient affordable multifamily buildings in the nation. Rob led the research with funding from Energy Trust of Oregon’s Net Zero Fellowship. Don’t miss this opportunity to engage with Rob about the research and its applicability to your own work. \nAbout Net Zero Fellow Rob Roy \nRob Roy is a founding partner and co-manager of Pacific Crest Affordable Housing and has extensive experience with all facets of building and development\, from financing and construction to planning and land use. His 32 years of experience navigating complex public-private partnerships\, alongside his work as a three-time Olympic snowboarding coach\, have refined his collaboration\, negotiation and business skills.
URL:https://envirocenter.org/event/how-to-make-decisions-about-energy-investments-for-affordable-housing/
LOCATION:Azimuth 315\, Northwest Labiche Lane 2155\, Bend\, Oregon\, 97701\, United States
CATEGORIES:Climate,Energy
ATTACH;FMTTYPE=image/jpeg:https://envirocenter.org/wp-content/uploads/2024/10/https___cdn.evbuc_.com_images_871050999_168932256657_1_original.jpg
ORGANIZER;CN="Energy Trust of Oregon":MAILTO:info@energytrust.org
GEO:44.0624826;-121.3449975
X-APPLE-STRUCTURED-LOCATION;VALUE=URI;X-ADDRESS=Azimuth 315 Northwest Labiche Lane 2155 Bend Oregon 97701 United States;X-APPLE-RADIUS=500;X-TITLE=Northwest Labiche Lane 2155:geo:-121.3449975,44.0624826
END:VEVENT
BEGIN:VEVENT
DTSTART;TZID=America/Los_Angeles:20241210T120000
DTEND;TZID=America/Los_Angeles:20241210T130000
DTSTAMP:20260421T174643
CREATED:20241126T185345Z
LAST-MODIFIED:20241126T185345Z
UID:10004539-1733832000-1733835600@envirocenter.org
SUMMARY:Electric fireplaces—cozy and clean
DESCRIPTION:Electric fireplaces offer realistic flames and smart technology for a cozy vibe free of smoke and fossil-fuels.
URL:https://envirocenter.org/event/electric-fireplaces-cozy-and-clean/
CATEGORIES:Energy,Energy|Online event
ATTACH;FMTTYPE=image/png:https://envirocenter.org/wp-content/uploads/2024/11/electric-fire-places.png
END:VEVENT
BEGIN:VEVENT
DTSTART;TZID=America/Los_Angeles:20250115T140000
DTEND;TZID=America/Los_Angeles:20250115T150000
DTSTAMP:20260421T174643
CREATED:20241101T181713Z
LAST-MODIFIED:20241112T200410Z
UID:10004527-1736949600-1736953200@envirocenter.org
SUMMARY:Home Energy Assessment: Empower Your Home
DESCRIPTION:Do you qualify for upgrades to lower home energy costs? \n\n\n\n\n\n\nThis event will be recorded.  A link will be available here later. \nJoin The Environmental Center (TEC) for a hands-on session on improving comfort and reducing energy costs for your home! TECs mission is to weave sustainability into the everyday lives of Central Oregon residents\, and we’re committed to helping underserved communities access resources for a healthier\, greener future. \nThe Environmental Center and Energy Trust of Oregon are collaborating to provide energy-saving solutions to communities that have often been overlooked\, including low- to moderate-income households\, people of color\, Indigenous communities\, individuals with disabilities\, and rural residents. Through our free energy assessments\, you’ll be connected to incentives and resources that make home upgrades like insulation\, efficient heating\, hybrid water heaters\, and new windows more affordable\, comfortable\, and accessible. \nIn addition to sharing resources for TEC’s free program\, resources for standard incentives beyond the program will be shared\, so there’s something for everyone trying to have more sustainable\, low-cost upgrades for your home.  Find out more about the Home Energy Assessment program at https://envirocenter.org/programs/the-energy-challenge/hea/ \nEvent Highlights: \n\nLearn how the Home Energy Assessment program works and whether you qualify for assistance.\nGet guidance on signing up and accessing free or low-cost energy upgrades.\nConnect with Environmental Center staff ready to answer your questions about sustainability upgrades.\n\nQuestions? Contact laurelw@deschuteslibrary.org
URL:https://envirocenter.org/event/home-energy-assessment-empower-your-home/
LOCATION:Becky Johnson Community Center\, 412 SW 8th St\, Redmond\, OR 97756\, Redmond\, OR\, 97756\, United States
CATEGORIES:Climate,Energy,Sustainability
ATTACH;FMTTYPE=image/jpeg:https://envirocenter.org/wp-content/uploads/2024/11/HEA-Program-Image.jpg
ORGANIZER;CN="Deschutes Public Library":MAILTO:laurelw@deschuteslibrary.org
GEO:44.2732608;-121.1760057
X-APPLE-STRUCTURED-LOCATION;VALUE=URI;X-ADDRESS=Becky Johnson Community Center 412 SW 8th St Redmond OR 97756 Redmond OR 97756 United States;X-APPLE-RADIUS=500;X-TITLE=412 SW 8th St\, Redmond\, OR 97756:geo:-121.1760057,44.2732608
END:VEVENT
BEGIN:VEVENT
DTSTART;TZID=America/Los_Angeles:20250201T100000
DTEND;TZID=America/Los_Angeles:20250201T110000
DTSTAMP:20260421T174643
CREATED:20250113T210028Z
LAST-MODIFIED:20250113T210028Z
UID:10004568-1738404000-1738407600@envirocenter.org
SUMMARY:Green Energy Series #24: Electrical Panel Upgrades
DESCRIPTION:The free\, monthly Green Energy Series takes a closer look at topics related to energy\, solar + storage\, and green technology. \n\n\n\n\n\n\n\n\n\n\n\n\n\n\n\n\nRegister Here!
URL:https://envirocenter.org/event/green-energy-series-24-electrical-panel-upgrades/
CATEGORIES:Climate,Energy,Online event
ATTACH;FMTTYPE=image/jpeg:https://envirocenter.org/wp-content/uploads/2025/01/Feb-1.jpeg
ORGANIZER;CN="Solar Oregon":MAILTO:info@solaroregon.org
END:VEVENT
END:VCALENDAR