BEGIN:VCALENDAR
VERSION:2.0
PRODID:-//The Environmental Center - ECPv6.15.20//NONSGML v1.0//EN
CALSCALE:GREGORIAN
METHOD:PUBLISH
X-WR-CALNAME:The Environmental Center
X-ORIGINAL-URL:https://envirocenter.org
X-WR-CALDESC:Events for The Environmental Center
REFRESH-INTERVAL;VALUE=DURATION:PT1H
X-Robots-Tag:noindex
X-PUBLISHED-TTL:PT1H
BEGIN:VTIMEZONE
TZID:America/Los_Angeles
BEGIN:DAYLIGHT
TZOFFSETFROM:-0800
TZOFFSETTO:-0700
TZNAME:PDT
DTSTART:20230312T100000
END:DAYLIGHT
BEGIN:STANDARD
TZOFFSETFROM:-0700
TZOFFSETTO:-0800
TZNAME:PST
DTSTART:20231105T090000
END:STANDARD
BEGIN:DAYLIGHT
TZOFFSETFROM:-0800
TZOFFSETTO:-0700
TZNAME:PDT
DTSTART:20240310T100000
END:DAYLIGHT
BEGIN:STANDARD
TZOFFSETFROM:-0700
TZOFFSETTO:-0800
TZNAME:PST
DTSTART:20241103T090000
END:STANDARD
BEGIN:DAYLIGHT
TZOFFSETFROM:-0800
TZOFFSETTO:-0700
TZNAME:PDT
DTSTART:20250309T100000
END:DAYLIGHT
BEGIN:STANDARD
TZOFFSETFROM:-0700
TZOFFSETTO:-0800
TZNAME:PST
DTSTART:20251102T090000
END:STANDARD
END:VTIMEZONE
BEGIN:VEVENT
DTSTART;TZID=America/Los_Angeles:20241002T083000
DTEND;TZID=America/Los_Angeles:20241002T163000
DTSTAMP:20260421T100015
CREATED:20240917T223233Z
LAST-MODIFIED:20240917T223233Z
UID:10004511-1727857800-1727886600@envirocenter.org
SUMMARY:2024 Go Clean Energy Conference
DESCRIPTION:Discover opportunities and solutions in building\, clean energy\, efficiency\, sustainability\, EV charging and electric vehicles. For individuals\, businesses\, & government. \nREGISTER HERE!
URL:https://envirocenter.org/event/2024-go-clean-energy-conference/
LOCATION:COCC\, 2600 NW Collge Way\, Bend\, OR\, 97701\, United States
CATEGORIES:Climate,Energy
ATTACH;FMTTYPE=image/jpeg:https://envirocenter.org/wp-content/uploads/2024/09/2024-gce-header.jpg-2024-gce-header.jpg
ORGANIZER;CN="350 Deschutes":MAILTO:info@350deschutes.org
GEO:44.0713603;-121.3485532
X-APPLE-STRUCTURED-LOCATION;VALUE=URI;X-ADDRESS=COCC 2600 NW Collge Way Bend OR 97701 United States;X-APPLE-RADIUS=500;X-TITLE=2600 NW Collge Way:geo:-121.3485532,44.0713603
END:VEVENT
END:VCALENDAR