BEGIN:VCALENDAR
VERSION:2.0
PRODID:-//The Environmental Center - ECPv6.15.20//NONSGML v1.0//EN
CALSCALE:GREGORIAN
METHOD:PUBLISH
X-ORIGINAL-URL:https://envirocenter.org
X-WR-CALDESC:Events for The Environmental Center
REFRESH-INTERVAL;VALUE=DURATION:PT1H
X-Robots-Tag:noindex
X-PUBLISHED-TTL:PT1H
BEGIN:VTIMEZONE
TZID:America/Los_Angeles
BEGIN:DAYLIGHT
TZOFFSETFROM:-0800
TZOFFSETTO:-0700
TZNAME:PDT
DTSTART:20230312T100000
END:DAYLIGHT
BEGIN:STANDARD
TZOFFSETFROM:-0700
TZOFFSETTO:-0800
TZNAME:PST
DTSTART:20231105T090000
END:STANDARD
BEGIN:DAYLIGHT
TZOFFSETFROM:-0800
TZOFFSETTO:-0700
TZNAME:PDT
DTSTART:20240310T100000
END:DAYLIGHT
BEGIN:STANDARD
TZOFFSETFROM:-0700
TZOFFSETTO:-0800
TZNAME:PST
DTSTART:20241103T090000
END:STANDARD
BEGIN:DAYLIGHT
TZOFFSETFROM:-0800
TZOFFSETTO:-0700
TZNAME:PDT
DTSTART:20250309T100000
END:DAYLIGHT
BEGIN:STANDARD
TZOFFSETFROM:-0700
TZOFFSETTO:-0800
TZNAME:PST
DTSTART:20251102T090000
END:STANDARD
END:VTIMEZONE
BEGIN:VEVENT
DTSTART;TZID=America/Los_Angeles:20240904T120000
DTEND;TZID=America/Los_Angeles:20240904T130000
DTSTAMP:20260421T095931
CREATED:20240815T211430Z
LAST-MODIFIED:20240815T211430Z
UID:10004475-1725451200-1725454800@envirocenter.org
SUMMARY:Solarize Deschutes Campaign Online Workshop
DESCRIPTION:If you live in Deschutes County\, register now to join us at 12:00 PM\, September 4\, to learn how you can benefit from installing solar panels and battery storage on your home. This free\, one-hour presentation will be held online. You will learn about the Solarize campaign in your community\, how solar energy works and how it can be stored with battery storage for backup power. We will talk about limited-time discount pricing\, tax credits and Energy Trust cash incentives\, including special increased incentives for income-qualified homes. We will also spend time answering your questions. \nSolarize Deschutes runs August 15 – October 31. To lock in your Solarize discounts\, go to the website and request a custom analysis and bid from a pre-qualified Energy Trust trade ally during this period to lock in Solarize discounts (your solar installation can be completed any time through June 30\, 2025). \nREGISTER HERE! \nThis campaign is brought to you by: \n\nThe Environmental Center\nEnergize Bend\nEnvision Bend\nCity of Bend\nSolar Oregon\nEnergy Trust of Oregon
URL:https://envirocenter.org/event/solarize-deschutes-campaign-online-workshop/
LOCATION:Online Event
CATEGORIES:Energy,Online event
ATTACH;FMTTYPE=image/jpeg:https://envirocenter.org/wp-content/uploads/2024/08/Solarize_Deschutes_banner_2160x1080_partner72ppi-1.jpg
ORGANIZER;CN="The Environmental Center":MAILTO:info@envirocenter.org
END:VEVENT
BEGIN:VEVENT
DTSTART;TZID=America/Los_Angeles:20240904T170000
DTEND;TZID=America/Los_Angeles:20240904T180000
DTSTAMP:20260421T095931
CREATED:20240821T164150Z
LAST-MODIFIED:20240821T164150Z
UID:10004490-1725469200-1725472800@envirocenter.org
SUMMARY:Energize Bend Happy Hour
DESCRIPTION:Let’s build a cleaner\, safer Bend! \nGrab a refreshment and hear from Energize Bend and Solarize Deschutes on how we can help decarbonize Bend.
URL:https://envirocenter.org/event/energize-bend-happy-hour/
LOCATION:Broken Top Bottle Shop\, 1740 NW Pence Ln #1\, Bend\, OR\, 97701\, United States
CATEGORIES:Advocacy,Climate,Energy
ATTACH;FMTTYPE=image/jpeg:https://envirocenter.org/wp-content/uploads/2024/08/3.jpg
ORGANIZER;CN="Energize Bend":MAILTO:kristi@energizebend.org
GEO:44.0633684;-121.3389538
X-APPLE-STRUCTURED-LOCATION;VALUE=URI;X-ADDRESS=Broken Top Bottle Shop 1740 NW Pence Ln #1 Bend OR 97701 United States;X-APPLE-RADIUS=500;X-TITLE=1740 NW Pence Ln #1:geo:-121.3389538,44.0633684
END:VEVENT
BEGIN:VEVENT
DTSTART;TZID=America/Los_Angeles:20240909T170000
DTEND;TZID=America/Los_Angeles:20240909T180000
DTSTAMP:20260421T095931
CREATED:20240815T211726Z
LAST-MODIFIED:20240815T211726Z
UID:10004476-1725901200-1725904800@envirocenter.org
SUMMARY:Solarize Deschutes Campaign In-Person Workshop - Bend
DESCRIPTION:If you live in Deschutes County\, register now to join us at 5:00 PM\, September 9\, to learn how you can benefit from installing solar panels and battery storage on your home. This free\, one-hour presentation will be held in person at The Environmental Center\, 16 NW Kansas Ave\, Bend\, OR 97703. You will learn about the Solarize campaign in your community\, how solar energy works and how it can be stored with battery storage for backup power. We will talk about limited-time discount pricing\, tax credits and Energy Trust cash incentives\, including special increased incentives for income-qualified homes. We will also spend time answering your questions. \nSolarize Deschutes runs August 15 – October 31. To lock in your Solarize discounts\, go to the website and request a custom analysis and bid from a pre-qualified Energy Trust trade ally during this period to lock in Solarize discounts (your solar installation can be completed any time through June 30\, 2025). \nREGISTER HERE! \nThis campaign is brought to you by: \n\nThe Environmental Center\nEnergize Bend\nEnvision Bend\nCity of Bend\nSolar Oregon\nEnergy Trust of Oregon
URL:https://envirocenter.org/event/solarize-deschutes-campaign-in-person-workshop-bend/
LOCATION:The Environmental Center\, 16 NW Kansas Avenue\, Bend\, OR\, 97703
CATEGORIES:Energy
ATTACH;FMTTYPE=image/jpeg:https://envirocenter.org/wp-content/uploads/2024/08/Solarize_Deschutes_banner_2160x1080_partner72ppi-1.jpg
ORGANIZER;CN="The Environmental Center":MAILTO:info@envirocenter.org
GEO:44.055562;-121.3143083
X-APPLE-STRUCTURED-LOCATION;VALUE=URI;X-ADDRESS=The Environmental Center 16 NW Kansas Avenue Bend OR 97703;X-APPLE-RADIUS=500;X-TITLE=16 NW Kansas Avenue:geo:-121.3143083,44.055562
END:VEVENT
BEGIN:VEVENT
DTSTART;TZID=America/Los_Angeles:20240910T170000
DTEND;TZID=America/Los_Angeles:20240910T180000
DTSTAMP:20260421T095931
CREATED:20240815T211856Z
LAST-MODIFIED:20240815T211856Z
UID:10004477-1725987600-1725991200@envirocenter.org
SUMMARY:Solarize Deschutes Campaign In-Person Workshop - Redmond
DESCRIPTION:If you live in Deschutes County\, register now to join us at 5:00 PM\, September 10\, to learn how you can benefit from installing solar panels and battery storage on your home. This free\, one-hour presentation will be held in person at SCP Redmond Hotel\, 521 SW 6th St Ste 100\, Redmond\, OR 97756. You will learn about the Solarize campaign in your community\, how solar energy works and how it can be stored with battery storage for backup power. We will talk about limited-time discount pricing\, tax credits and Energy Trust cash incentives\, including special increased incentives for income-qualified homes. We will also spend time answering your questions. \nSolarize Deschutes runs August 15 – October 31. To lock in your Solarize discounts\, go to the website and request a custom analysis and bid from a pre-qualified Energy Trust trade ally during this period to lock in Solarize discounts (your solar installation can be completed any time through June 30\, 2025). \nREGISTER HERE! \nThis campaign is brought to you by: \n\nThe Environmental Center\nEnergize Bend\nEnvision Bend\nCity of Bend\nSolar Oregon\nEnergy Trust of Oregon
URL:https://envirocenter.org/event/solarize-deschutes-campaign-in-person-workshop-redmond/
LOCATION:SCP Redmond\, 521 Southwest 6th Street\, Redmond\, OR\, 97756\, United States
CATEGORIES:Energy
ATTACH;FMTTYPE=image/jpeg:https://envirocenter.org/wp-content/uploads/2024/08/Solarize_Deschutes_banner_2160x1080_partner72ppi-1.jpg
ORGANIZER;CN="The Environmental Center":MAILTO:info@envirocenter.org
GEO:44.2722779;-121.1745485
X-APPLE-STRUCTURED-LOCATION;VALUE=URI;X-ADDRESS=SCP Redmond 521 Southwest 6th Street Redmond OR 97756 United States;X-APPLE-RADIUS=500;X-TITLE=521 Southwest 6th Street:geo:-121.1745485,44.2722779
END:VEVENT
BEGIN:VEVENT
DTSTART;TZID=America/Los_Angeles:20240923T180000
DTEND;TZID=America/Los_Angeles:20240923T190000
DTSTAMP:20260421T095931
CREATED:20240815T212039Z
LAST-MODIFIED:20240815T212039Z
UID:10004478-1727114400-1727118000@envirocenter.org
SUMMARY:Taller presencial sobre la campaña Solarizando Deschutes
DESCRIPTION:Si vives en el Condado de Deschutes\, inscríbete y acompáñanos el 23 de septiembre a las 6:00 p.m. para aprender cómo puedes beneficiarte instalando paneles solares y almacenamiento en batería en tu hogar. Esta presentación gratis de una hora se ofrece de forma presencial en español en SCP Hotel Redmond. Obtendrás información sobre la campaña Solarizando en tu ciudad\, la forma en que la energía solar funciona y cómo puedes almacenarla en batería para tener electricidad de respaldo. Te informaremos de los descuentos ofrecidos por tiempo limitado\, créditos en los impuestos\, y los incentivos en efectivo de Energy Trust\, incluyendo mayores incentivos para propietarios que califiquen según sus ingresos. También habrá tiempo para responder tus preguntas. \nLa campaña Solarizando Deschutes dura del 15 de agosto al 31 de octubre. Para garantizar que recibas los descuentos de la campaña Solarizando\, visita la página web y pide un análisis y cotización personalizados de un contratista precalificado de la red de aliados comerciales de Energy Trust durante este plazo de tiempo (puedes finalizar la instalación del sistema de energía solar en cualquier momento hasta el 30 de junio de 2025). \nRESERVAR UN LUGAR \nEsta campaña es patrocinada por: \n\nThe Environmental Center\nEnergize Bend\nEnvision Bend\nCiudad de Bend\nSolar Oregon\nEnergy Trust of Oregon
URL:https://envirocenter.org/event/taller-presencial-sobre-la-campana-solarizando-deschutes/
LOCATION:SCP Redmond\, 521 Southwest 6th Street\, Redmond\, OR\, 97756\, United States
CATEGORIES:Energy
ATTACH;FMTTYPE=image/jpeg:https://envirocenter.org/wp-content/uploads/2024/08/Solarize_Deschutes_banner_2160x1080_partner72ppi-1.jpg
ORGANIZER;CN="The Environmental Center":MAILTO:info@envirocenter.org
GEO:44.2722779;-121.1745485
X-APPLE-STRUCTURED-LOCATION;VALUE=URI;X-ADDRESS=SCP Redmond 521 Southwest 6th Street Redmond OR 97756 United States;X-APPLE-RADIUS=500;X-TITLE=521 Southwest 6th Street:geo:-121.1745485,44.2722779
END:VEVENT
BEGIN:VEVENT
DTSTART;TZID=America/Los_Angeles:20240928T090000
DTEND;TZID=America/Los_Angeles:20240928T180000
DTSTAMP:20260421T095931
CREATED:20240731T204541Z
LAST-MODIFIED:20240828T231503Z
UID:10004467-1727514000-1727546400@envirocenter.org
SUMMARY:Green Building Tour 2024
DESCRIPTION:REGISTER HERE! \nThe Green Building Tour is a showcase for real-world solutions that address the climate impact of buildings in Central Oregon. From architects and contractors to DIYers\, the tour’s sites illuminate how high performance structures can be healthy\, cost effective\, and impactful options for all. Green buildings’ benefits are often invisible to both consumers in addition to building sector professionals. The Green Building Tour addresses this by connecting attendees with the tools and know-how that break down barriers to building more sustainably. This highly anticipated event brings building better enthusiasts into conversation with one another about paths to climate-resilient living. \nFor the 22nd year of the Green Building Tour we are excited to try a slightly different structure. Themes include Building Dense Livable Cities\, Electrification\, Water Resiliency in the High Desert\, and Healthy Materials Life Cycle Analysis (LCA). The Environmental Center will host participants for a full day of theme-based activities on September 28th. Part I: Summit – From 9:00 to 1:00 community members gather at OSU Cascades\, Tykeson Hall for featured speakers\, community workshops\, and educational booths. Part II: Tour – From 1:00-5:00 pm\, we’ll see themes demonstrated in the field with a tour of four community sites that highlight local energy-saving solutions that connect to our themes. The Green Building Tour will inspire attendees to take action wherever they are on their journey to living more sustainably. \n \nREGISTER HERE
URL:https://envirocenter.org/event/green-building-tour-2024/
LOCATION:OSU Cascades\, 2600 Northwest College Way\, Bend\, OR\, 97701\, United States
CATEGORIES:Climate,Energy,Sustainability
ATTACH;FMTTYPE=image/png:https://envirocenter.org/wp-content/uploads/2024/07/GBT-2024-banner-1-1.png
ORGANIZER;CN="The Environmental Center":MAILTO:info@envirocenter.org
GEO:44.0713603;-121.3485532
X-APPLE-STRUCTURED-LOCATION;VALUE=URI;X-ADDRESS=OSU Cascades 2600 Northwest College Way Bend OR 97701 United States;X-APPLE-RADIUS=500;X-TITLE=2600 Northwest College Way:geo:-121.3485532,44.0713603
END:VEVENT
END:VCALENDAR