BEGIN:VCALENDAR
VERSION:2.0
PRODID:-//The Environmental Center - ECPv6.15.20//NONSGML v1.0//EN
CALSCALE:GREGORIAN
METHOD:PUBLISH
X-WR-CALNAME:The Environmental Center
X-ORIGINAL-URL:https://envirocenter.org
X-WR-CALDESC:Events for The Environmental Center
REFRESH-INTERVAL;VALUE=DURATION:PT1H
X-Robots-Tag:noindex
X-PUBLISHED-TTL:PT1H
BEGIN:VTIMEZONE
TZID:America/Los_Angeles
BEGIN:DAYLIGHT
TZOFFSETFROM:-0800
TZOFFSETTO:-0700
TZNAME:PDT
DTSTART:20230312T100000
END:DAYLIGHT
BEGIN:STANDARD
TZOFFSETFROM:-0700
TZOFFSETTO:-0800
TZNAME:PST
DTSTART:20231105T090000
END:STANDARD
BEGIN:DAYLIGHT
TZOFFSETFROM:-0800
TZOFFSETTO:-0700
TZNAME:PDT
DTSTART:20240310T100000
END:DAYLIGHT
BEGIN:STANDARD
TZOFFSETFROM:-0700
TZOFFSETTO:-0800
TZNAME:PST
DTSTART:20241103T090000
END:STANDARD
BEGIN:DAYLIGHT
TZOFFSETFROM:-0800
TZOFFSETTO:-0700
TZNAME:PDT
DTSTART:20250309T100000
END:DAYLIGHT
BEGIN:STANDARD
TZOFFSETFROM:-0700
TZOFFSETTO:-0800
TZNAME:PST
DTSTART:20251102T090000
END:STANDARD
END:VTIMEZONE
BEGIN:VEVENT
DTSTART;TZID=America/Los_Angeles:20240418T153000
DTEND;TZID=America/Los_Angeles:20240418T173000
DTSTAMP:20260422T040124
CREATED:20240401T165138Z
LAST-MODIFIED:20240412T204748Z
UID:10004202-1713454200-1713461400@envirocenter.org
SUMMARY:Induction Stove Power Hour with Johnson Brothers Appliances
DESCRIPTION:Join us for this interactive event to learn about induction stoves–everything from what pans to use\, myth-busting\, and the incentives available to install one in your home!  \nWe’ll do a live demonstration so you can see the magic of induction in action–yes\, you’ll get to and brew up some local tea to see how fast we can boil the water–you won’t believe it until you see it!. If you are looking into options for your home\, we’ll talk about the current incentives that are available and things to think about whether you are swapping out a gas or electric stove.  \nWhen we wrap up\, you’ll be able to check out many different models in the Johnson Brothers Appliances showroom to see what the options are to meet your kitchen’s needs and ask any questions of their team. \nLet us now you’re coming! \n  \n \nThe Johnson Brothers Team has arranged exclusive deals for this event. To access these offers\, you simply need to attend the event and grab a coupon or mention the TEC Induction Event Special when shopping in the store (some deals end as soon as June so get down there quickly!). \nThey will be offering eight different product deals\, a few of which are mentioned below. Don’t miss out on this opportunity to save big! \n\n 30” induction cooktop\, regularly $2049\, offered for $849 through 6/4\n\n\n30” induction range\, regularly $1799\, offered for $1049 through 6/4\n\n\n36” induction cooktop\, regularly $2549\, offered for $1749 through 12/31\n\n 
URL:https://envirocenter.org/event/induction-stove-power-hour-with-johnson-brothers-appliances/
LOCATION:Johnson Brothers Appliances\, 571 NE Azure Dr\, Bend\, 97701\, United States
CATEGORIES:Advocacy|Climate,Advocacy|Climate|Energy,Climate,Energy
ATTACH;FMTTYPE=image/jpeg:https://envirocenter.org/wp-content/uploads/2024/04/Induction-Stove-Eventbrite-Header-2160-×-1080-px.jpg
GEO:44.0560833;-121.275552
X-APPLE-STRUCTURED-LOCATION;VALUE=URI;X-ADDRESS=Johnson Brothers Appliances 571 NE Azure Dr Bend 97701 United States;X-APPLE-RADIUS=500;X-TITLE=571 NE Azure Dr:geo:-121.275552,44.0560833
END:VEVENT
BEGIN:VEVENT
DTSTART;TZID=America/Los_Angeles:20240430T120000
DTEND;TZID=America/Los_Angeles:20240430T130000
DTSTAMP:20260422T040124
CREATED:20240403T172349Z
LAST-MODIFIED:20240403T172349Z
UID:10004206-1714478400-1714482000@envirocenter.org
SUMMARY:Go Electric! - The Benefits of Home Electrification (Webinar)
DESCRIPTION:Adopting modern high-efficiency electric appliances in our homes improves indoor air quality\, lowers utility bills\, provides greater safety and comfort\, and more climate resilience. You can greatly lower your home’s carbon emissions by installing efficient electric systems like heat pumps and heat pump water heaters. And thanks to improved technologies and new state and federal incentives\, making your home efficient and all-electric is more affordable than ever! In this first episode of Electrify Now’s “Go-Electric!” webinar series\, you’ll learn about the many advantages of electrifying your home—all in 30 minutes. We’ll share insights and practical tips\, including: Why all-electric homes are much healthier\, with better indoor air quality and lower risk of asthma\, fire\, or carbon monoxide poisoning. How to upgrade your home’s heating\, cooling and appliances\, get year-round comfort and save on your energy bills. How electrification increases the value of your home. Why all-electric homes reduce air pollution in the communities where we live How electric transportation saves money\, reduces emissions and is a ton of fun. How each of us has the power to phase out fossil fuels and lower our carbon emissions towards zero by powering our homes with renewable energy. \nHosts: Brian Stewart and Joe Wachunas \n  \nREGISTER HERE
URL:https://envirocenter.org/event/go-electric-the-benefits-of-home-electrification-webinar/
LOCATION:Zoom
CATEGORIES:Climate,Energy,Online event
ATTACH;FMTTYPE=image/png:https://envirocenter.org/wp-content/uploads/2024/04/unnamed-1.png
END:VEVENT
END:VCALENDAR