BEGIN:VCALENDAR
VERSION:2.0
PRODID:-//The Environmental Center - ECPv6.15.20//NONSGML v1.0//EN
CALSCALE:GREGORIAN
METHOD:PUBLISH
X-ORIGINAL-URL:https://envirocenter.org
X-WR-CALDESC:Events for The Environmental Center
REFRESH-INTERVAL;VALUE=DURATION:PT1H
X-Robots-Tag:noindex
X-PUBLISHED-TTL:PT1H
BEGIN:VTIMEZONE
TZID:America/Los_Angeles
BEGIN:DAYLIGHT
TZOFFSETFROM:-0800
TZOFFSETTO:-0700
TZNAME:PDT
DTSTART:20230312T100000
END:DAYLIGHT
BEGIN:STANDARD
TZOFFSETFROM:-0700
TZOFFSETTO:-0800
TZNAME:PST
DTSTART:20231105T090000
END:STANDARD
BEGIN:DAYLIGHT
TZOFFSETFROM:-0800
TZOFFSETTO:-0700
TZNAME:PDT
DTSTART:20240310T100000
END:DAYLIGHT
BEGIN:STANDARD
TZOFFSETFROM:-0700
TZOFFSETTO:-0800
TZNAME:PST
DTSTART:20241103T090000
END:STANDARD
BEGIN:DAYLIGHT
TZOFFSETFROM:-0800
TZOFFSETTO:-0700
TZNAME:PDT
DTSTART:20250309T100000
END:DAYLIGHT
BEGIN:STANDARD
TZOFFSETFROM:-0700
TZOFFSETTO:-0800
TZNAME:PST
DTSTART:20251102T090000
END:STANDARD
END:VTIMEZONE
BEGIN:VEVENT
DTSTART;TZID=America/Los_Angeles:20240304T171500
DTEND;TZID=America/Los_Angeles:20240304T180000
DTSTAMP:20260422T073722
CREATED:20240201T175652Z
LAST-MODIFIED:20240201T175652Z
UID:10004157-1709572500-1709575200@envirocenter.org
SUMMARY:Upgrading your Water Heater for efficiency\, savings and pollution reduction
DESCRIPTION:Upgrading your Water Heater for efficiency\, savings and pollution reduction \nJoin us for an exciting online event where local experts will share their knowledge on options for upgrading your home water heater for maximum efficiency\, cost savings\, and pollution reduction. Learn about the latest ultra-efficient heat pump water heater technology\, the performance and benefits\, and the pricing\, rebates and incentives available to help you save while you upgrade your home energy equipment. Don’t miss out on this opportunity to learn from our local experts in home energy efficiency at GreenSavers. \nThanks to The Environmental Center and GreenSavers for co-hosting this event with us! \nREGISTER HERE
URL:https://envirocenter.org/event/upgrading-your-water-heater-for-efficiency-savings-and-pollution-reduction/
LOCATION:Online Event
CATEGORIES:Climate,Energy,Online event
ATTACH;FMTTYPE=image/jpeg:https://envirocenter.org/wp-content/uploads/2024/02/https___cdn.evbuc_.com_images_685578259_38267647452_1_original.jpeg
ORGANIZER;CN="Energize Bend":MAILTO:kristi@energizebend.org
END:VEVENT
BEGIN:VEVENT
DTSTART;TZID=America/Los_Angeles:20240312T080000
DTEND;TZID=America/Los_Angeles:20240312T120000
DTSTAMP:20260422T073722
CREATED:20240122T174042Z
LAST-MODIFIED:20240122T174042Z
UID:10004153-1710230400-1710244800@envirocenter.org
SUMMARY:The BuildRight Roadshow
DESCRIPTION:Join us for a morning of learning – Earn 4 hours of CCB CE Credits \nPresented by: Builders FirstSource – READY-FRAME \nPresenters: \nRON NUTTALL Advanced Framing\nAs energy codes become stricter\, builders and designers are seeking options for energy-efficient construction that maintain strength\, durability\, sustainability\, and costeffectiveness. One effective solution is advanced framing\, a system of construction framing techniques that optimize material use and increase energy efficiency. Join APA’s Ron Nuttall as he discusses common advanced framing techniques\, the benefits of the system and typical challenges that builders encounter during the conversion from traditional framing to advanced framing. \nCAROL EISENLOHR 5 Easy Steps for Implementing Best Practices in the Field\n1. How a Quality Assurance and Best Practices Program can positively impact warranty and customer experience. 2. Identifying and gathering information for easy access to those who need it. 3. Creating and using simple checklists for each task during the building process. 4. Setting unified expectations between Trades\, Warranty and Construction Managers. 5. Efficiency and Accountability tips: The key to making the program work.\n \nGREG LASHER What does the Oregon Energy Code Require Now & Where is it Going?\nThe latest Oregon Energy Code (ORSC 2021) introduced balanced ventilation and the complex choices where a builder can locate the HVAC system in a new home. Furthermore\, the proposed ORSC 2023 takes these requirements further. Greg will explain the current choices that builders have to comply with the current code and suggest changes that will prepare for the future code changes. The Energy Trust of Oregon offers builders free consultation and training for code preparations and cash incentives to build above code in the EPS for New Construction offering—not a bad way to prepare for the future!\n \nBonus tour of the Ready-Frame Facility on-site at Noon
URL:https://envirocenter.org/event/the-buildright-roadshow/
LOCATION:20545 Murray Rd\, 20545 Murray Rd\, Bend\, OR\, 97701\, United States
CATEGORIES:Energy
ATTACH;FMTTYPE=image/png:https://envirocenter.org/wp-content/uploads/2024/01/builders.png
END:VEVENT
END:VCALENDAR