BEGIN:VCALENDAR
VERSION:2.0
PRODID:-//The Environmental Center - ECPv6.15.20//NONSGML v1.0//EN
CALSCALE:GREGORIAN
METHOD:PUBLISH
X-WR-CALNAME:The Environmental Center
X-ORIGINAL-URL:https://envirocenter.org
X-WR-CALDESC:Events for The Environmental Center
REFRESH-INTERVAL;VALUE=DURATION:PT1H
X-Robots-Tag:noindex
X-PUBLISHED-TTL:PT1H
BEGIN:VTIMEZONE
TZID:America/Los_Angeles
BEGIN:DAYLIGHT
TZOFFSETFROM:-0800
TZOFFSETTO:-0700
TZNAME:PDT
DTSTART:20240310T100000
END:DAYLIGHT
BEGIN:STANDARD
TZOFFSETFROM:-0700
TZOFFSETTO:-0800
TZNAME:PST
DTSTART:20241103T090000
END:STANDARD
BEGIN:DAYLIGHT
TZOFFSETFROM:-0800
TZOFFSETTO:-0700
TZNAME:PDT
DTSTART:20250309T100000
END:DAYLIGHT
BEGIN:STANDARD
TZOFFSETFROM:-0700
TZOFFSETTO:-0800
TZNAME:PST
DTSTART:20251102T090000
END:STANDARD
BEGIN:DAYLIGHT
TZOFFSETFROM:-0800
TZOFFSETTO:-0700
TZNAME:PDT
DTSTART:20260308T100000
END:DAYLIGHT
BEGIN:STANDARD
TZOFFSETFROM:-0700
TZOFFSETTO:-0800
TZNAME:PST
DTSTART:20261101T090000
END:STANDARD
END:VTIMEZONE
BEGIN:VEVENT
DTSTART;TZID=America/Los_Angeles:20250121T080000
DTEND;TZID=America/Los_Angeles:20250121T090000
DTSTAMP:20260425T100707
CREATED:20241212T220108Z
LAST-MODIFIED:20241212T220108Z
UID:10004542-1737446400-1737450000@envirocenter.org
SUMMARY:Electric Vehicle Adoption Leadership (EVAL)
DESCRIPTION:Are you an employer interested in bringing EV charging to your organization? \nJoin the Electric Vehicle Adoption Leadership (EVAL) Information Session to learn about Forth’s workplace charging certification program. The program provides recognition and technical assistance to organizations supporting the adoption of clean transportation. FORTH will provide an overview of the EVAL certification program\, share resources and allocate time for a Q&A session.
URL:https://envirocenter.org/event/electric-vehicle-adoption-leadership-eval/
LOCATION:375 SW Powerhouse Dr Suite 100\, Bend\, OR\, 97701\, United States
CATEGORIES:Electric Vehicles|Online event
ATTACH;FMTTYPE=image/png:https://envirocenter.org/wp-content/uploads/2022/12/1adfb156-ceea-4880-a604-9281e3b3f593.png
END:VEVENT
END:VCALENDAR