BEGIN:VCALENDAR
VERSION:2.0
PRODID:-//The Environmental Center - ECPv6.15.20//NONSGML v1.0//EN
CALSCALE:GREGORIAN
METHOD:PUBLISH
X-WR-CALNAME:The Environmental Center
X-ORIGINAL-URL:https://envirocenter.org
X-WR-CALDESC:Events for The Environmental Center
REFRESH-INTERVAL;VALUE=DURATION:PT1H
X-Robots-Tag:noindex
X-PUBLISHED-TTL:PT1H
BEGIN:VTIMEZONE
TZID:America/Los_Angeles
BEGIN:DAYLIGHT
TZOFFSETFROM:-0800
TZOFFSETTO:-0700
TZNAME:PDT
DTSTART:20230312T100000
END:DAYLIGHT
BEGIN:STANDARD
TZOFFSETFROM:-0700
TZOFFSETTO:-0800
TZNAME:PST
DTSTART:20231105T090000
END:STANDARD
BEGIN:DAYLIGHT
TZOFFSETFROM:-0800
TZOFFSETTO:-0700
TZNAME:PDT
DTSTART:20240310T100000
END:DAYLIGHT
BEGIN:STANDARD
TZOFFSETFROM:-0700
TZOFFSETTO:-0800
TZNAME:PST
DTSTART:20241103T090000
END:STANDARD
BEGIN:DAYLIGHT
TZOFFSETFROM:-0800
TZOFFSETTO:-0700
TZNAME:PDT
DTSTART:20250309T100000
END:DAYLIGHT
BEGIN:STANDARD
TZOFFSETFROM:-0700
TZOFFSETTO:-0800
TZNAME:PST
DTSTART:20251102T090000
END:STANDARD
BEGIN:DAYLIGHT
TZOFFSETFROM:-0800
TZOFFSETTO:-0700
TZNAME:PDT
DTSTART:20260308T100000
END:DAYLIGHT
BEGIN:STANDARD
TZOFFSETFROM:-0700
TZOFFSETTO:-0800
TZNAME:PST
DTSTART:20261101T090000
END:STANDARD
END:VTIMEZONE
BEGIN:VEVENT
DTSTART;TZID=America/Los_Angeles:20240514T100000
DTEND;TZID=America/Los_Angeles:20240514T110000
DTSTAMP:20260425T094112
CREATED:20240131T180815Z
LAST-MODIFIED:20240131T180815Z
UID:10004156-1715680800-1715684400@envirocenter.org
SUMMARY:Bridging the Gap: Rural EV Charging Programs
DESCRIPTION:In this webinar\, our speakers will highlight strategies and programs aiming to address rural EV charging challenges.
URL:https://envirocenter.org/event/bridging-the-gap-rural-ev-charging-programs/
LOCATION:375 SW Powerhouse Dr Suite 100\, Bend\, OR\, 97701\, United States
CATEGORIES:Electric Vehicles|Online event
ATTACH;FMTTYPE=image/png:https://envirocenter.org/wp-content/uploads/2022/12/1adfb156-ceea-4880-a604-9281e3b3f593.png
END:VEVENT
BEGIN:VEVENT
DTSTART;TZID=America/Los_Angeles:20240611T100000
DTEND;TZID=America/Los_Angeles:20240611T110000
DTSTAMP:20260425T094112
CREATED:20240131T180514Z
LAST-MODIFIED:20240131T180514Z
UID:10004155-1718100000-1718103600@envirocenter.org
SUMMARY:Addressing The Challenges of Charging at Multi-Family Housing
DESCRIPTION:This webinar will focus on identifying the best practices to address the challenges of equitable distribution\, site selection\, permits and policy considerations for EV charging at Multi-Family Housing.
URL:https://envirocenter.org/event/addressing-the-challenges-of-charging-at-multi-family-housing/
LOCATION:375 SW Powerhouse Dr Suite 100\, Bend\, OR\, 97701\, United States
CATEGORIES:Electric Vehicles|Online event
ATTACH;FMTTYPE=image/png:https://envirocenter.org/wp-content/uploads/2022/12/1adfb156-ceea-4880-a604-9281e3b3f593.png
END:VEVENT
BEGIN:VEVENT
DTSTART;TZID=America/Los_Angeles:20241120T120000
DTEND;TZID=America/Los_Angeles:20241120T130000
DTSTAMP:20260425T094112
CREATED:20241114T205959Z
LAST-MODIFIED:20241114T210327Z
UID:10004533-1732104000-1732107600@envirocenter.org
SUMMARY:Electric Vehicle Adoption Leadership (EVAL) Information Session
DESCRIPTION:Are you an employer interested in bringing workplace charging to your organization? \nJoin the Electric Vehicle Adoption Leadership (EVAL) Information Session to learn more about Forth’s workplace charging certification program. The program provides recognition and technical assistance to organizations supporting the adoption of clean transportation. Forth will provide an overview of the EVAL Certification Program\, share resources and allocate time for a Q&A session.
URL:https://envirocenter.org/event/electric-vehicle-adoption-leadership-eval-information-session/
LOCATION:375 SW Powerhouse Dr Suite 100\, Bend\, OR\, 97701\, United States
CATEGORIES:Electric Vehicles|Online event
ATTACH;FMTTYPE=image/png:https://envirocenter.org/wp-content/uploads/2022/12/1adfb156-ceea-4880-a604-9281e3b3f593.png
END:VEVENT
BEGIN:VEVENT
DTSTART;TZID=America/Los_Angeles:20241217T100000
DTEND;TZID=America/Los_Angeles:20241217T110000
DTSTAMP:20260425T094112
CREATED:20241114T210648Z
LAST-MODIFIED:20241114T210813Z
UID:10004534-1734429600-1734433200@envirocenter.org
SUMMARY:Year-End Review and Outlook for Transportation Electrification
DESCRIPTION:This webinar will provide a recap of the key achievements\, challenges and milestones from 2024. Highlights will include the Charging and Fueling Infrastructure (CFI) Grant Program\, policy and program development successes and valuable lessons learned. In the second half of the webinar\, Forth will reflect on the impact of the 2024 election and look ahead to the upcoming year. Forth will share key insights into the emerging trends and developments in our industry.
URL:https://envirocenter.org/event/year-end-review-and-outlook-for-transportation-electrification/
LOCATION:375 SW Powerhouse Dr Suite 100\, Bend\, OR\, 97701\, United States
CATEGORIES:Electric Vehicles|Online event
ATTACH;FMTTYPE=image/png:https://envirocenter.org/wp-content/uploads/2022/12/1adfb156-ceea-4880-a604-9281e3b3f593.png
END:VEVENT
BEGIN:VEVENT
DTSTART;TZID=America/Los_Angeles:20250121T080000
DTEND;TZID=America/Los_Angeles:20250121T090000
DTSTAMP:20260425T094112
CREATED:20241212T220108Z
LAST-MODIFIED:20241212T220108Z
UID:10004542-1737446400-1737450000@envirocenter.org
SUMMARY:Electric Vehicle Adoption Leadership (EVAL)
DESCRIPTION:Are you an employer interested in bringing EV charging to your organization? \nJoin the Electric Vehicle Adoption Leadership (EVAL) Information Session to learn about Forth’s workplace charging certification program. The program provides recognition and technical assistance to organizations supporting the adoption of clean transportation. FORTH will provide an overview of the EVAL certification program\, share resources and allocate time for a Q&A session.
URL:https://envirocenter.org/event/electric-vehicle-adoption-leadership-eval/
LOCATION:375 SW Powerhouse Dr Suite 100\, Bend\, OR\, 97701\, United States
CATEGORIES:Electric Vehicles|Online event
ATTACH;FMTTYPE=image/png:https://envirocenter.org/wp-content/uploads/2022/12/1adfb156-ceea-4880-a604-9281e3b3f593.png
END:VEVENT
END:VCALENDAR