BEGIN:VCALENDAR
VERSION:2.0
PRODID:-//The Environmental Center - ECPv6.15.20//NONSGML v1.0//EN
CALSCALE:GREGORIAN
METHOD:PUBLISH
X-WR-CALNAME:The Environmental Center
X-ORIGINAL-URL:https://envirocenter.org
X-WR-CALDESC:Events for The Environmental Center
REFRESH-INTERVAL;VALUE=DURATION:PT1H
X-Robots-Tag:noindex
X-PUBLISHED-TTL:PT1H
BEGIN:VTIMEZONE
TZID:America/Los_Angeles
BEGIN:DAYLIGHT
TZOFFSETFROM:-0800
TZOFFSETTO:-0700
TZNAME:PDT
DTSTART:20190310T100000
END:DAYLIGHT
BEGIN:STANDARD
TZOFFSETFROM:-0700
TZOFFSETTO:-0800
TZNAME:PST
DTSTART:20191103T090000
END:STANDARD
BEGIN:DAYLIGHT
TZOFFSETFROM:-0800
TZOFFSETTO:-0700
TZNAME:PDT
DTSTART:20200308T100000
END:DAYLIGHT
BEGIN:STANDARD
TZOFFSETFROM:-0700
TZOFFSETTO:-0800
TZNAME:PST
DTSTART:20201101T090000
END:STANDARD
BEGIN:DAYLIGHT
TZOFFSETFROM:-0800
TZOFFSETTO:-0700
TZNAME:PDT
DTSTART:20210314T100000
END:DAYLIGHT
BEGIN:STANDARD
TZOFFSETFROM:-0700
TZOFFSETTO:-0800
TZNAME:PST
DTSTART:20211107T090000
END:STANDARD
BEGIN:DAYLIGHT
TZOFFSETFROM:-0800
TZOFFSETTO:-0700
TZNAME:PDT
DTSTART:20220313T100000
END:DAYLIGHT
BEGIN:STANDARD
TZOFFSETFROM:-0700
TZOFFSETTO:-0800
TZNAME:PST
DTSTART:20221106T090000
END:STANDARD
BEGIN:DAYLIGHT
TZOFFSETFROM:-0800
TZOFFSETTO:-0700
TZNAME:PDT
DTSTART:20230312T100000
END:DAYLIGHT
BEGIN:STANDARD
TZOFFSETFROM:-0700
TZOFFSETTO:-0800
TZNAME:PST
DTSTART:20231105T090000
END:STANDARD
BEGIN:DAYLIGHT
TZOFFSETFROM:-0800
TZOFFSETTO:-0700
TZNAME:PDT
DTSTART:20240310T100000
END:DAYLIGHT
BEGIN:STANDARD
TZOFFSETFROM:-0700
TZOFFSETTO:-0800
TZNAME:PST
DTSTART:20241103T090000
END:STANDARD
BEGIN:DAYLIGHT
TZOFFSETFROM:-0800
TZOFFSETTO:-0700
TZNAME:PDT
DTSTART:20250309T100000
END:DAYLIGHT
BEGIN:STANDARD
TZOFFSETFROM:-0700
TZOFFSETTO:-0800
TZNAME:PST
DTSTART:20251102T090000
END:STANDARD
BEGIN:DAYLIGHT
TZOFFSETFROM:-0800
TZOFFSETTO:-0700
TZNAME:PDT
DTSTART:20260308T100000
END:DAYLIGHT
BEGIN:STANDARD
TZOFFSETFROM:-0700
TZOFFSETTO:-0800
TZNAME:PST
DTSTART:20261101T090000
END:STANDARD
END:VTIMEZONE
BEGIN:VEVENT
DTSTART;VALUE=DATE:20200910
DTEND;VALUE=DATE:20200913
DTSTAMP:20260421T155304
CREATED:20200620T002030Z
LAST-MODIFIED:20230503T201016Z
UID:10002089-1599739200-1599930000@envirocenter.org
SUMMARY:High Desert Pride 2020 (Central Oregon Pride)
DESCRIPTION:OUT Central Oregon is happy to announce High Desert Pride 2020 – a celebration of Pride in the diversity of our LGBTQ+ community and allies. \nExpanding on 15 years of celebrating Central Oregon Pride\, presented by Human Dignity Coalition\, OUT Central Oregon brings High Desert Pride 2020 to Bend with new energy\, focus\, and commitment. \nThe schedule of events for High Desert Pride 2020 is evolving\, check out Out Central Oregon website for up to date schedule of events. \n***Thursday evening\, September 10***\nOh Yess! Pride Edition. Join the community at monthly Dogwood Cocktail Cabin gathering for an evening of meeting and greeting. \n***Thursday evening\, September 11***\nHigh Desert Pride kick-off party at Crater Lake Spirits downtown tasting room. \n***Saturday\, September 12***\nBend Pride 5k Fun Run & Walk.\nJoin us for the 2nd annual fun run & walk\, starting in Drake Park as an out and back through the Old Mill District along the Deschutes River. 9:30 am – 10:30 am \nDrag Dash. A fun and colorful XXX 10:30 am – 10:45 am in Drake Park \nHigh Desert Pride Festival. Vendor booths\, food trucks\, and all-day music and entertainment fill the afternoon in beautiful Drake Park. 12:00 pm – 5:00 pm \nHey Honey Dance Party. 9:00 pm – 2:00 am
URL:https://envirocenter.org/event/https-envirocenter-org-post_typetribe_eventsp23693/
LOCATION:Deschutes Brewery Public House\, 1044 NW Bond St\, Bend\, OR\, 97701\, United States
CATEGORIES:Diversity|Equity
GEO:44.0593984;-121.3113079
X-APPLE-STRUCTURED-LOCATION;VALUE=URI;X-ADDRESS=Deschutes Brewery Public House 1044 NW Bond St Bend OR 97701 United States;X-APPLE-RADIUS=500;X-TITLE=1044 NW Bond St:geo:-121.3113079,44.0593984
END:VEVENT
BEGIN:VEVENT
DTSTART;TZID=America/Los_Angeles:20250219T173000
DTEND;TZID=America/Los_Angeles:20250219T190000
DTSTAMP:20260421T155304
CREATED:20241211T212106Z
LAST-MODIFIED:20241211T212203Z
UID:10004541-1739986200-1739991600@envirocenter.org
SUMMARY:Turtle Wisdom: Personal\, Political\, Playful
DESCRIPTION:Artist Talk by Betty LaDuke\n\nWednesday\, February 19\, 5:30 p.m.\, West Wing Reading Room\, Barber Library\, COCC Bend Campus \nFor more than 60 years\, LaDuke has traveled the globe as an artist and activist. In 2021\, she began an artistic journey with her Turtle Wisdom pieces. Turtles became her symbolic storytellers\, offering observations on current events. Each colorful\, wood Turtle tells a story and has been created to invite conversation rather than provide answers. \nLaDuke’s Turtle Wisdom exhibit will be on display at COCC’s Barber Library Rotunda from January 6 to March 25. \nBarber Library is hosting an artist reception at 4:30 p.m. the same day in the Rotunda. \nASL interpretation will be provided. \nFREE and OPEN to the public. Please register here to reserve a seat.
URL:https://envirocenter.org/event/turtle-wisdom-personal-political-playful/
LOCATION:COCC\, 2600 NW Collge Way\, Bend\, OR\, 97701\, United States
CATEGORIES:Diversity,Diversity|Equity,Social Justice
ATTACH;FMTTYPE=image/jpeg:https://envirocenter.org/wp-content/uploads/2024/12/ladukeheadshotresize.jpg
ORGANIZER;CN="Central Oregon Communuty College (COCC) Nancy R. Chandler Visiting Scholar Program (VSP)":MAILTO:cgilbride@cocc.edu
GEO:44.0713603;-121.3485532
X-APPLE-STRUCTURED-LOCATION;VALUE=URI;X-ADDRESS=COCC 2600 NW Collge Way Bend OR 97701 United States;X-APPLE-RADIUS=500;X-TITLE=2600 NW Collge Way:geo:-121.3485532,44.0713603
END:VEVENT
END:VCALENDAR