BEGIN:VCALENDAR
VERSION:2.0
PRODID:-//The Environmental Center - ECPv6.15.20//NONSGML v1.0//EN
CALSCALE:GREGORIAN
METHOD:PUBLISH
X-WR-CALNAME:The Environmental Center
X-ORIGINAL-URL:https://envirocenter.org
X-WR-CALDESC:Events for The Environmental Center
REFRESH-INTERVAL;VALUE=DURATION:PT1H
X-Robots-Tag:noindex
X-PUBLISHED-TTL:PT1H
BEGIN:VTIMEZONE
TZID:America/Los_Angeles
BEGIN:DAYLIGHT
TZOFFSETFROM:-0800
TZOFFSETTO:-0700
TZNAME:PDT
DTSTART:20180311T100000
END:DAYLIGHT
BEGIN:STANDARD
TZOFFSETFROM:-0700
TZOFFSETTO:-0800
TZNAME:PST
DTSTART:20181104T090000
END:STANDARD
BEGIN:DAYLIGHT
TZOFFSETFROM:-0800
TZOFFSETTO:-0700
TZNAME:PDT
DTSTART:20190310T100000
END:DAYLIGHT
BEGIN:STANDARD
TZOFFSETFROM:-0700
TZOFFSETTO:-0800
TZNAME:PST
DTSTART:20191103T090000
END:STANDARD
BEGIN:DAYLIGHT
TZOFFSETFROM:-0800
TZOFFSETTO:-0700
TZNAME:PDT
DTSTART:20200308T100000
END:DAYLIGHT
BEGIN:STANDARD
TZOFFSETFROM:-0700
TZOFFSETTO:-0800
TZNAME:PST
DTSTART:20201101T090000
END:STANDARD
BEGIN:DAYLIGHT
TZOFFSETFROM:-0800
TZOFFSETTO:-0700
TZNAME:PDT
DTSTART:20210314T100000
END:DAYLIGHT
BEGIN:STANDARD
TZOFFSETFROM:-0700
TZOFFSETTO:-0800
TZNAME:PST
DTSTART:20211107T090000
END:STANDARD
BEGIN:DAYLIGHT
TZOFFSETFROM:-0800
TZOFFSETTO:-0700
TZNAME:PDT
DTSTART:20220313T100000
END:DAYLIGHT
BEGIN:STANDARD
TZOFFSETFROM:-0700
TZOFFSETTO:-0800
TZNAME:PST
DTSTART:20221106T090000
END:STANDARD
BEGIN:DAYLIGHT
TZOFFSETFROM:-0800
TZOFFSETTO:-0700
TZNAME:PDT
DTSTART:20230312T100000
END:DAYLIGHT
BEGIN:STANDARD
TZOFFSETFROM:-0700
TZOFFSETTO:-0800
TZNAME:PST
DTSTART:20231105T090000
END:STANDARD
BEGIN:DAYLIGHT
TZOFFSETFROM:-0800
TZOFFSETTO:-0700
TZNAME:PDT
DTSTART:20240310T100000
END:DAYLIGHT
BEGIN:STANDARD
TZOFFSETFROM:-0700
TZOFFSETTO:-0800
TZNAME:PST
DTSTART:20241103T090000
END:STANDARD
BEGIN:DAYLIGHT
TZOFFSETFROM:-0800
TZOFFSETTO:-0700
TZNAME:PDT
DTSTART:20250309T100000
END:DAYLIGHT
BEGIN:STANDARD
TZOFFSETFROM:-0700
TZOFFSETTO:-0800
TZNAME:PST
DTSTART:20251102T090000
END:STANDARD
END:VTIMEZONE
BEGIN:VEVENT
DTSTART;VALUE=DATE:20190515
DTEND;VALUE=DATE:20190516
DTSTAMP:20260419T115915
CREATED:20190503T224712Z
LAST-MODIFIED:20230503T200848Z
UID:10003175-1557945000-1557950400@envirocenter.org
SUMMARY:Soil: Nature's Solution to the Climate Crisis?
DESCRIPTION:The way we grow and raise our food has a profound impact on soil health\, as well as on our own well-being. The chemical intensive form of agriculture that became common after WWII has become a major contributor to Climate Change\, and is causing massive damage in the environment. But there is hope in soil. \nWe’ll take a closer look\, and discuss how we can shift this complex system back to health. Soil is the second largest carbon sink after the oceans\, and restoring carbon back into the soil via photosynthesis has the capacity to sequester billions of tons of carbon out of the atmosphere\, buying us time to reinvent the economy. It will require an informed and engaged public to achieve that.
URL:https://envirocenter.org/event/soil-natures-solution-to-the-climate-crisis/
LOCATION:Deschutes Brewery Public House\, 1044 NW Bond St\, Bend\, OR\, 97701\, United States
CATEGORIES:Climate|Food
GEO:44.0593984;-121.3113079
X-APPLE-STRUCTURED-LOCATION;VALUE=URI;X-ADDRESS=Deschutes Brewery Public House 1044 NW Bond St Bend OR 97701 United States;X-APPLE-RADIUS=500;X-TITLE=1044 NW Bond St:geo:-121.3113079,44.0593984
END:VEVENT
BEGIN:VEVENT
DTSTART;VALUE=DATE:20211215
DTEND;VALUE=DATE:20211216
DTSTAMP:20260419T115915
CREATED:20211202T051152Z
LAST-MODIFIED:20230503T201351Z
UID:10001856-1639569600-1639573200@envirocenter.org
SUMMARY:Lay of the Land and Levers for Change: Farming for Climate Resilience in Oregon
DESCRIPTION:Get the highlights of OrCAN’s new report:  Lay of the Land and Levers for Change: Farming for Climate Resilience in Oregon 2021 and Beyond. Bring your lunch and your questions!
URL:https://envirocenter.org/event/lay-of-the-land-and-levers-for-change-farming-for-climate-resilience-in-oregon/
LOCATION:Deschutes Brewery Public House\, 1044 NW Bond St\, Bend\, OR\, 97701\, United States
CATEGORIES:Climate|Food
GEO:44.0593984;-121.3113079
X-APPLE-STRUCTURED-LOCATION;VALUE=URI;X-ADDRESS=Deschutes Brewery Public House 1044 NW Bond St Bend OR 97701 United States;X-APPLE-RADIUS=500;X-TITLE=1044 NW Bond St:geo:-121.3113079,44.0593984
END:VEVENT
BEGIN:VEVENT
DTSTART;TZID=America/Los_Angeles:20240909T170000
DTEND;TZID=America/Los_Angeles:20240909T190000
DTSTAMP:20260419T115915
CREATED:20240904T230416Z
LAST-MODIFIED:20240904T230416Z
UID:10004503-1725901200-1725908400@envirocenter.org
SUMMARY:OEC Happy Hour in Bend!
DESCRIPTION:OEC is coming to Bend! Join them for an evening of good food\, good beer\, and good conversation. The first round and snacks are on OEC! 🍻 \nThis event is an opportunity to connect with like-minded champions of Oregon’s environment in the community. It’s also a chance to get to know them and learn a bit more about the work that they do at OEC. Come meet the people who power their movement!
URL:https://envirocenter.org/event/oec-happy-hour-in-bend/
LOCATION:Worthy Brewing\, 495 Northeast Bellevue Drive\, Bend\, OR\, 97701\, United States
CATEGORIES:Climate|Food
ATTACH;FMTTYPE=image/jpeg:https://envirocenter.org/wp-content/uploads/2013/03/OEC-logo.jpg
ORGANIZER;CN="Oregon Environmental Council":MAILTO:chrish@oeconline.org
GEO:44.0553359;-121.2604571
X-APPLE-STRUCTURED-LOCATION;VALUE=URI;X-ADDRESS=Worthy Brewing 495 Northeast Bellevue Drive Bend OR 97701 United States;X-APPLE-RADIUS=500;X-TITLE=495 Northeast Bellevue Drive:geo:-121.2604571,44.0553359
END:VEVENT
END:VCALENDAR