BEGIN:VCALENDAR
VERSION:2.0
PRODID:-//The Environmental Center - ECPv6.15.20//NONSGML v1.0//EN
CALSCALE:GREGORIAN
METHOD:PUBLISH
X-WR-CALNAME:The Environmental Center
X-ORIGINAL-URL:https://envirocenter.org
X-WR-CALDESC:Events for The Environmental Center
REFRESH-INTERVAL;VALUE=DURATION:PT1H
X-Robots-Tag:noindex
X-PUBLISHED-TTL:PT1H
BEGIN:VTIMEZONE
TZID:America/Los_Angeles
BEGIN:DAYLIGHT
TZOFFSETFROM:-0800
TZOFFSETTO:-0700
TZNAME:PDT
DTSTART:20230312T100000
END:DAYLIGHT
BEGIN:STANDARD
TZOFFSETFROM:-0700
TZOFFSETTO:-0800
TZNAME:PST
DTSTART:20231105T090000
END:STANDARD
BEGIN:DAYLIGHT
TZOFFSETFROM:-0800
TZOFFSETTO:-0700
TZNAME:PDT
DTSTART:20240310T100000
END:DAYLIGHT
BEGIN:STANDARD
TZOFFSETFROM:-0700
TZOFFSETTO:-0800
TZNAME:PST
DTSTART:20241103T090000
END:STANDARD
BEGIN:DAYLIGHT
TZOFFSETFROM:-0800
TZOFFSETTO:-0700
TZNAME:PDT
DTSTART:20250309T100000
END:DAYLIGHT
BEGIN:STANDARD
TZOFFSETFROM:-0700
TZOFFSETTO:-0800
TZNAME:PST
DTSTART:20251102T090000
END:STANDARD
END:VTIMEZONE
BEGIN:VEVENT
DTSTART;TZID=America/Los_Angeles:20240530T130000
DTEND;TZID=America/Los_Angeles:20240530T140000
DTSTAMP:20260424T085156
CREATED:20240517T194438Z
LAST-MODIFIED:20240517T194438Z
UID:10004428-1717074000-1717077600@envirocenter.org
SUMMARY:Free Home Energy Assessment Program Community Launch
DESCRIPTION:RSVP HERE! \nDo you work with a Community Organization in Central Oregon? Are you a local elected official in Central Oregon? Come learn about how your constituents can benefit from The Environmental Center’s brand new Free Home Energy Assessment Program. \nWe are teaming up with Energy Trust of Oregon to provide free home energy assessments to communities who have been historically underserved by Energy Trust Programs. The energy assessments will evaluate the energy efficiency of the participants’ home and then connect them with increased financial incentives and support to complete home energy upgrades to improve the comfort and affordability. \nJulie Williams\, the founder of Seeds for the Sol\, a community organization in Corvallis\, will be joining us to lead a discussion about their successful Home Energy Program and how The Environmental Center can achieve success here in Central Oregon. \nIf you’re interested in connecting your clients/members with the program\, come to our Community Partner Launch event to learn more.
URL:https://envirocenter.org/event/free-home-energy-assessment-program-community-launch/
LOCATION:The Environmental Center\, 16 NW Kansas Avenue\, Bend\, OR\, 97703
CATEGORIES:Climate,Energy
ATTACH;FMTTYPE=image/jpeg:https://envirocenter.org/wp-content/uploads/2024/05/IMG_4961.jpg
ORGANIZER;CN="The Environmental Center":MAILTO:info@envirocenter.org
GEO:44.055562;-121.3143083
X-APPLE-STRUCTURED-LOCATION;VALUE=URI;X-ADDRESS=The Environmental Center 16 NW Kansas Avenue Bend OR 97703;X-APPLE-RADIUS=500;X-TITLE=16 NW Kansas Avenue:geo:-121.3143083,44.055562
END:VEVENT
BEGIN:VEVENT
DTSTART;TZID=America/Los_Angeles:20240601T090000
DTEND;TZID=America/Los_Angeles:20240601T110000
DTSTAMP:20260424T085156
CREATED:20240516T211750Z
LAST-MODIFIED:20240516T211750Z
UID:10004425-1717232400-1717239600@envirocenter.org
SUMMARY:Vision Roadshow: Drake-to-Juniper Event
DESCRIPTION:Since the release of the five-year Vision Action Plan\, Envision Bend has been working with vision lead partners to align efforts\, spark action\, and track collective progress. In the coming months\, Envision Bend will be hosting a Summer Vision Roadshow at various coffee shops and breweries around town for the community to learn more about various strategies. The first event on June 1st focuses on the ‘Drake to Juniper Pedestrian Corridor’ vision strategy. \nMeet outside the Commons Cafe at 9:00am for a 2.25-mile group bike ride in partnership with Bend Bikes to Juniper Park via the Midtown Crossings at Franklin and Greenwood. We will reconvene at 10am on the patio of the Commons Cafe to hear from the City transportation planning staff and Bend Bikes with updates on improvements to our Midtown Crossings\, the Hawthorne Bridge\, and the community’s shared vision to connect Drake Park to Juniper Park as outlined in the Vision Action Plan. \nStay tuned for additional Vision-themed events throughout the summer\, such as ‘Railroad Safety and Redevelopment’ on June 27th at Bevel Brewing; a strategy that was created from public input to move the railroad and address safety concerns. There will also be events focused on ‘Expanding Access to Childcare’ in July\, ‘Outdoors for Everyone’ in August\, and ‘City of Belonging’ in September. \nTo register\, visit envisionbend.org and sign up for the Envision Bend newsletter to stay up-to-date. Join Envision Bend on June 1st to learn more about the Vision Action Plan\, meet someone new\, and bring your questions to ask organizations that are taking the Lead on these vision strategies. \nEnvision Bend is a nonpartisan\, community nonprofit organization. Its mission is to bring diverse stakeholders together to educate\, engage\, and empower all members of the Bend community to have a voice in our community’s future. In 2021\, as the successor organization to Bend 2030\, it reorganized and rebranded itself as Envision Bend. For more\, please visit envisionbend.org or facebook.com/EnvisionBend.
URL:https://envirocenter.org/event/vision-roadshow-drake-to-juniper-event/
LOCATION:The Commons Cafe and Taproom\, 875 NW BROOKS ST.\, Bend\, OR\, 97703\, United States
CATEGORIES:Climate,Sustainability,Transportation
ATTACH;FMTTYPE=image/jpeg:https://envirocenter.org/wp-content/uploads/2024/05/https___cdn.evbuc_.com_images_766439709_1711345121853_1_original.jpg
GEO:44.0593966;-121.3150062
X-APPLE-STRUCTURED-LOCATION;VALUE=URI;X-ADDRESS=The Commons Cafe and Taproom 875 NW BROOKS ST. Bend OR 97703 United States;X-APPLE-RADIUS=500;X-TITLE=875 NW BROOKS ST.:geo:-121.3150062,44.0593966
END:VEVENT
END:VCALENDAR